BEGIN:VCALENDAR
VERSION:2.0
PRODID:-//14th Street Y - ECPv5.5.0.1//NONSGML v1.0//EN
CALSCALE:GREGORIAN
METHOD:PUBLISH
X-WR-CALNAME:14th Street Y
X-ORIGINAL-URL:https://www.14streety.org
X-WR-CALDESC:Events for 14th Street Y
BEGIN:VTIMEZONE
TZID:America/New_York
BEGIN:DAYLIGHT
TZOFFSETFROM:-0500
TZOFFSETTO:-0400
TZNAME:EDT
DTSTART:20230312T070000
END:DAYLIGHT
BEGIN:STANDARD
TZOFFSETFROM:-0400
TZOFFSETTO:-0500
TZNAME:EST
DTSTART:20231105T060000
END:STANDARD
END:VTIMEZONE
BEGIN:VEVENT
DTSTART;TZID=America/New_York:20231016T190000
DTEND;TZID=America/New_York:20231016T203000
DTSTAMP:20260422T044531
CREATED:20231009T172614Z
LAST-MODIFIED:20231009T172641Z
UID:98172-1697482800-1697488200@www.14streety.org
SUMMARY:14Y A+C Open Call: In-Person Artist Information Session
DESCRIPTION:14Y Arts + Culture Open Call: In-Person Artist Information Session\nCome meet the 14Y Arts + Culture team to learn more about upcoming artistic opportunities and open applications.\nThe 14Y Arts + Culture team will host two information sessions one via Zoom on October 12 and one in-person at the 14Y on October 16—both designed to answer applicant questions and help artists build stronger applications. During these sessions\, there will be time specifically dedicated to Q&A section\, when artists may ask the staff questions about the application process. \nThese sessions will also give artists an opportunity to meet the Arts + Culture staff\, other artists\, and learn from each other to build a stronger application and proposal. \nDirector of Arts + Culture Akia Squitieri\, Director of Production Philip Trevinio\, and Director of LABA NY Chanan Ben Simon will be present at both sessions. \nIf you are planning to submit an application or proposal for any of the following\, we highly recommend you attend. \n\nLABA: A Laboratory for Jewish Culture (NY) 2024 Fellowship\n2024 Dance Residency\n2024-2025 Theater Season\n2024 14Y Gallery Series\nSpecial Programming and 14Y After Dark Events\n\nLearn more about these applications by visit 14StreetY.org/ArtsandCulture
URL:https://www.14streety.org/event/inperson-artist-info-session/
LOCATION:14Y Theater\, 344 East 14th Street\, New York\, NY\, 10002\, United States
CATEGORIES:Arts + Culture,LABA: Lab for Jewish Culture
ATTACH;FMTTYPE=image/jpeg:https://www.14streety.org/wp-content/uploads/2018/01/felipe2.jpg
END:VEVENT
END:VCALENDAR