BEGIN:VCALENDAR
VERSION:2.0
PRODID:-//14th Street Y - ECPv5.5.0.1//NONSGML v1.0//EN
CALSCALE:GREGORIAN
METHOD:PUBLISH
X-WR-CALNAME:14th Street Y
X-ORIGINAL-URL:https://www.14streety.org
X-WR-CALDESC:Events for 14th Street Y
BEGIN:VTIMEZONE
TZID:America/New_York
BEGIN:DAYLIGHT
TZOFFSETFROM:-0500
TZOFFSETTO:-0400
TZNAME:EDT
DTSTART:20230312T070000
END:DAYLIGHT
BEGIN:STANDARD
TZOFFSETFROM:-0400
TZOFFSETTO:-0500
TZNAME:EST
DTSTART:20231105T060000
END:STANDARD
END:VTIMEZONE
BEGIN:VEVENT
DTSTART;TZID=America/New_York:20230914T193000
DTEND;TZID=America/New_York:20230914T210000
DTSTAMP:20260424T064905
CREATED:20230809T131735Z
LAST-MODIFIED:20230815T180056Z
UID:97648-1694719800-1694725200@www.14streety.org
SUMMARY:LABAlive I: Homeland Taboos
DESCRIPTION:After a year diving into the mysteries and power of TABOO\, our LABA artists will present new work over the course of three exciting nights featuring music\, literature\, movement\, theater\, new media\, and more…intertwined with classical Jewish teachings\, followed by celebratory receptions.\n \nCome take a bite of this forbidden fruit! \nBroken Bet\nLayla Zami & Oxana Chi| | Theater\nTragicomic theater about the foldable meanings of ‘home’ in Jewish culture with a pinch of Kabbalah\, dance\, Dada poetry\, and sounds. \nCodex Lev\nBen Nadler | Literary Reading\nA reading from a new illuminated fiction zine that offers a speculative imagining of Jewish Diaspora experiences in late Medieval Europe. \nMy Imaginary Friends\nTusia Dabrowska | Expanded Cinema\nRe-imagine what a near-future Eastern Europe with a large Jewish population would be like.
URL:https://www.14streety.org/event/labalive-i-homeland-taboos/
LOCATION:14Y Theater\, 344 East 14th Street\, New York\, NY\, 10002\, United States
CATEGORIES:LABA: Lab for Jewish Culture
ATTACH;FMTTYPE=image/png:https://www.14streety.org/wp-content/uploads/2023/08/LABAlive-I-Hero.png
ORGANIZER;CN="LABA%20NY":MAILTO:CBenSimon@14streety.org
END:VEVENT
END:VCALENDAR