BEGIN:VCALENDAR
VERSION:2.0
PRODID:-//14th Street Y - ECPv5.5.0.1//NONSGML v1.0//EN
CALSCALE:GREGORIAN
METHOD:PUBLISH
X-WR-CALNAME:14th Street Y
X-ORIGINAL-URL:https://www.14streety.org
X-WR-CALDESC:Events for 14th Street Y
BEGIN:VTIMEZONE
TZID:America/New_York
BEGIN:DAYLIGHT
TZOFFSETFROM:-0500
TZOFFSETTO:-0400
TZNAME:EDT
DTSTART:20240310T070000
END:DAYLIGHT
BEGIN:STANDARD
TZOFFSETFROM:-0400
TZOFFSETTO:-0500
TZNAME:EST
DTSTART:20241103T060000
END:STANDARD
END:VTIMEZONE
BEGIN:VEVENT
DTSTART;TZID=America/New_York:20240522T183000
DTEND;TZID=America/New_York:20240522T203000
DTSTAMP:20260423T061438
CREATED:20240422T152255Z
LAST-MODIFIED:20240501T194319Z
UID:99129-1716402600-1716409800@www.14streety.org
SUMMARY:New! Urban Photography: Cityscape/Landscape with Sally Apfelbaum
DESCRIPTION:Wednesday\, May 22 | Fundamentals of Composition\n6:30 – 8:30 PM\nM $45 NM $75 per workshop | Meet at 14Y\nTake a single workshop or all three!\nREGISTER HERE \nJoin artist Sally Apfelbaum for a series of photography workshops designed for beginners and people looking for ways to enliven their photos\, using a smartphone or camera. Some topics we’ll consider include composition\, angle of view\, available light\, nature in New York City. Explore outdoor locations in the East Village\, share your work and receive feedback along the way. Students of these workshops will participate in a showing/sharing of their work at the 14Y. \nTopics covered in the first class:\nAngle of view\nLight and Shadow\nFraming\nCamera distance\nMotion\nFocus \nA brief overview of composition and techniques for photographing our surroundings. Class time includes going over basic principles of composition and walking to several nearby outdoor sites to photograph\, where we’ll try out our new techniques and perspectives. We’ll start with a trip to the rooftop at the Y! \n 
URL:https://www.14streety.org/event/new-urban-photography-cityscape-landscape-with-sally-apfelbaum/
CATEGORIES:Adult Class,Community Events
ATTACH;FMTTYPE=image/png:https://www.14streety.org/wp-content/uploads/2024/04/14Y-After-Dark-New-Year-Chill-3.png
END:VEVENT
END:VCALENDAR