BEGIN:VCALENDAR
VERSION:2.0
PRODID:-//14th Street Y - ECPv5.5.0.1//NONSGML v1.0//EN
CALSCALE:GREGORIAN
METHOD:PUBLISH
X-WR-CALNAME:14th Street Y
X-ORIGINAL-URL:https://www.14streety.org
X-WR-CALDESC:Events for 14th Street Y
BEGIN:VTIMEZONE
TZID:America/New_York
BEGIN:DAYLIGHT
TZOFFSETFROM:-0500
TZOFFSETTO:-0400
TZNAME:EDT
DTSTART:20240310T070000
END:DAYLIGHT
BEGIN:STANDARD
TZOFFSETFROM:-0400
TZOFFSETTO:-0500
TZNAME:EST
DTSTART:20241103T060000
END:STANDARD
END:VTIMEZONE
BEGIN:VEVENT
DTSTART;TZID=America/New_York:20240425T183000
DTEND;TZID=America/New_York:20240425T213000
DTSTAMP:20260422T142615
CREATED:20230831T141523Z
LAST-MODIFIED:20230831T141523Z
UID:98778-1714069800-1714080600@www.14streety.org
SUMMARY:Live Model Drawing
DESCRIPTION:Welcome to our Self-Guided Drawing Session!\nGet ready for a unique and collaborative artistic experience where your creativity takes the lead. In this class\, there will be no formal instructor present. Instead\, attendees will come together to collectively determine poses and pose durations\, fostering a dynamic and shared creative process. \nTo ensure a successful session\, please make sure to bring your own drawing materials\, including any easels you may desire for your artwork. Don’t worry about seating arrangements; we’ll provide chairs and tables to ensure your comfort and convenience throughout the event. \nThis class promises to be a fantastic opportunity to unleash your artistic expression in a supportive and communal atmosphere. We can’t wait to see what your imagination brings to life! \n14Y Members: $20 (Please note that you’ll be asked to show proof of membership when checking in. Those who are not members will be asked to pay the difference in person.) \nEveryone else: $30
URL:https://www.14streety.org/event/live-model-drawing-december__trashed/2024-04-25/
LOCATION:14th Street Y\, 344 East 14th Street\, New York\, NY\, 10003
CATEGORIES:Adult Class,Arts + Culture,Community Events
ATTACH;FMTTYPE=image/png:https://www.14streety.org/wp-content/uploads/2023/08/Live-Model-Drawing-Hero.png
GEO:40.7312884;-73.9832952
X-APPLE-STRUCTURED-LOCATION;VALUE=URI;X-ADDRESS=14th Street Y 344 East 14th Street New York NY 10003;X-APPLE-RADIUS=500;X-TITLE=344 East 14th Street:geo:-73.9832952,40.7312884
END:VEVENT
END:VCALENDAR