BEGIN:VCALENDAR
VERSION:2.0
PRODID:-//14th Street Y - ECPv5.5.0.1//NONSGML v1.0//EN
CALSCALE:GREGORIAN
METHOD:PUBLISH
X-WR-CALNAME:14th Street Y
X-ORIGINAL-URL:https://www.14streety.org
X-WR-CALDESC:Events for 14th Street Y
BEGIN:VTIMEZONE
TZID:America/New_York
BEGIN:DAYLIGHT
TZOFFSETFROM:-0500
TZOFFSETTO:-0400
TZNAME:EDT
DTSTART:20190310T070000
END:DAYLIGHT
BEGIN:STANDARD
TZOFFSETFROM:-0400
TZOFFSETTO:-0500
TZNAME:EST
DTSTART:20191103T060000
END:STANDARD
END:VTIMEZONE
BEGIN:VEVENT
DTSTART;TZID=America/New_York:20190406T090000
DTEND;TZID=America/New_York:20190406T093000
DTSTAMP:20260421T092001
CREATED:20171217T180138Z
LAST-MODIFIED:20171218T115914Z
UID:56994-1554541200-1554543000@www.14streety.org
SUMMARY:Baby Belugas
DESCRIPTION:
URL:https://www.14streety.org/event/baby-belugas/2019-04-06/
END:VEVENT
BEGIN:VEVENT
DTSTART;TZID=America/New_York:20190406T100000
DTEND;TZID=America/New_York:20190406T103000
DTSTAMP:20260421T092001
CREATED:20171217T180831Z
LAST-MODIFIED:20171218T085857Z
UID:57811-1554544800-1554546600@www.14streety.org
SUMMARY:Big Fish
DESCRIPTION:
URL:https://www.14streety.org/event/big-fish/2019-04-06/
END:VEVENT
BEGIN:VEVENT
DTSTART;TZID=America/New_York:20190406T113000
DTEND;TZID=America/New_York:20190406T120000
DTSTAMP:20260421T092001
CREATED:20171217T180831Z
LAST-MODIFIED:20171218T085857Z
UID:57812-1554550200-1554552000@www.14streety.org
SUMMARY:Big Fish
DESCRIPTION:
URL:https://www.14streety.org/event/big-fish/2019-04-06/2/
END:VEVENT
BEGIN:VEVENT
DTSTART;TZID=America/New_York:20190406T123000
DTEND;TZID=America/New_York:20190406T130000
DTSTAMP:20260421T092001
CREATED:20171217T181724Z
LAST-MODIFIED:20171218T052835Z
UID:58533-1554553800-1554555600@www.14streety.org
SUMMARY:Tadpoles
DESCRIPTION:
URL:https://www.14streety.org/event/tadpoles/2019-04-06/
END:VEVENT
BEGIN:VEVENT
DTSTART;TZID=America/New_York:20190406T133000
DTEND;TZID=America/New_York:20190406T140000
DTSTAMP:20260421T092001
CREATED:20171217T180138Z
LAST-MODIFIED:20171218T115914Z
UID:56995-1554557400-1554559200@www.14streety.org
SUMMARY:Baby Belugas
DESCRIPTION:
URL:https://www.14streety.org/event/baby-belugas/2019-04-06/
END:VEVENT
BEGIN:VEVENT
DTSTART;TZID=America/New_York:20190406T160000
DTEND;TZID=America/New_York:20190406T163000
DTSTAMP:20260421T092001
CREATED:20171217T194017Z
LAST-MODIFIED:20171217T194017Z
UID:61430-1554566400-1554568200@www.14streety.org
SUMMARY:Special Needs
DESCRIPTION:
URL:https://www.14streety.org/event/special-needs/2019-04-06/
END:VEVENT
BEGIN:VEVENT
DTSTART;TZID=America/New_York:20190406T163000
DTEND;TZID=America/New_York:20190406T170000
DTSTAMP:20260421T092001
CREATED:20171217T194017Z
LAST-MODIFIED:20171217T194017Z
UID:61431-1554568200-1554570000@www.14streety.org
SUMMARY:Special Needs
DESCRIPTION:
URL:https://www.14streety.org/event/special-needs/2019-04-06/2/
END:VEVENT
END:VCALENDAR