BEGIN:VCALENDAR
VERSION:2.0
PRODID:-//14th Street Y - ECPv5.5.0.1//NONSGML v1.0//EN
CALSCALE:GREGORIAN
METHOD:PUBLISH
X-WR-CALNAME:14th Street Y
X-ORIGINAL-URL:https://www.14streety.org
X-WR-CALDESC:Events for 14th Street Y
BEGIN:VTIMEZONE
TZID:America/New_York
BEGIN:DAYLIGHT
TZOFFSETFROM:-0500
TZOFFSETTO:-0400
TZNAME:EDT
DTSTART:20190310T070000
END:DAYLIGHT
BEGIN:STANDARD
TZOFFSETFROM:-0400
TZOFFSETTO:-0500
TZNAME:EST
DTSTART:20191103T060000
END:STANDARD
END:VTIMEZONE
BEGIN:VEVENT
DTSTART;TZID=America/New_York:20190404T090000
DTEND;TZID=America/New_York:20190404T093000
DTSTAMP:20260421T060337
CREATED:20171217T180138Z
LAST-MODIFIED:20171218T115913Z
UID:56992-1554368400-1554370200@www.14streety.org
SUMMARY:Baby Belugas
DESCRIPTION:
URL:https://www.14streety.org/event/baby-belugas/2019-04-04/
END:VEVENT
BEGIN:VEVENT
DTSTART;TZID=America/New_York:20190404T100000
DTEND;TZID=America/New_York:20190404T103000
DTSTAMP:20260421T060337
CREATED:20171217T180831Z
LAST-MODIFIED:20171218T085856Z
UID:57809-1554372000-1554373800@www.14streety.org
SUMMARY:Big Fish
DESCRIPTION:
URL:https://www.14streety.org/event/big-fish/2019-04-04/
END:VEVENT
BEGIN:VEVENT
DTSTART;TZID=America/New_York:20190404T120000
DTEND;TZID=America/New_York:20190404T123000
DTSTAMP:20260421T060337
CREATED:20171217T192243Z
LAST-MODIFIED:20171217T192243Z
UID:61873-1554379200-1554381000@www.14streety.org
SUMMARY:Otters
DESCRIPTION:
URL:https://www.14streety.org/event/otters/2019-04-04/
END:VEVENT
BEGIN:VEVENT
DTSTART;TZID=America/New_York:20190404T150000
DTEND;TZID=America/New_York:20190404T153000
DTSTAMP:20260421T060337
CREATED:20171217T181724Z
LAST-MODIFIED:20171218T052834Z
UID:58531-1554390000-1554391800@www.14streety.org
SUMMARY:Tadpoles
DESCRIPTION:
URL:https://www.14streety.org/event/tadpoles/2019-04-04/
END:VEVENT
BEGIN:VEVENT
DTSTART;TZID=America/New_York:20190404T153000
DTEND;TZID=America/New_York:20190404T160000
DTSTAMP:20260421T060337
CREATED:20171217T183615Z
LAST-MODIFIED:20171217T183615Z
UID:56412-1554391800-1554393600@www.14streety.org
SUMMARY:Sea Horses
DESCRIPTION:
URL:https://www.14streety.org/event/sea-horses/2019-04-04/
END:VEVENT
BEGIN:VEVENT
DTSTART;TZID=America/New_York:20190404T153000
DTEND;TZID=America/New_York:20190404T160000
DTSTAMP:20260421T060337
CREATED:20171217T192243Z
LAST-MODIFIED:20171217T192243Z
UID:61874-1554391800-1554393600@www.14streety.org
SUMMARY:Otters
DESCRIPTION:
URL:https://www.14streety.org/event/otters/2019-04-04/2/
END:VEVENT
BEGIN:VEVENT
DTSTART;TZID=America/New_York:20190404T160000
DTEND;TZID=America/New_York:20190404T163000
DTSTAMP:20260421T060337
CREATED:20171217T192700Z
LAST-MODIFIED:20171217T192700Z
UID:59117-1554393600-1554395400@www.14streety.org
SUMMARY:Dolphins
DESCRIPTION:
URL:https://www.14streety.org/event/dolphins/2019-04-04/
END:VEVENT
BEGIN:VEVENT
DTSTART;TZID=America/New_York:20190404T160000
DTEND;TZID=America/New_York:20190404T163000
DTSTAMP:20260421T060337
CREATED:20171217T193329Z
LAST-MODIFIED:20171217T193329Z
UID:59347-1554393600-1554395400@www.14streety.org
SUMMARY:Sharks
DESCRIPTION:
URL:https://www.14streety.org/event/sharks/2019-04-04/
END:VEVENT
BEGIN:VEVENT
DTSTART;TZID=America/New_York:20190404T183000
DTEND;TZID=America/New_York:20190404T193000
DTSTAMP:20260421T060337
CREATED:20190222T170616Z
LAST-MODIFIED:20190222T170616Z
UID:80432-1554402600-1554406200@www.14streety.org
SUMMARY:New Country Day Camp Info Session
DESCRIPTION:Please join us on Thursday\, April 4 to learn more about New Country Day Camp. A member of our camp team will share a presentation about our camp and be available to answer all of your questions. \nWine\, snacks and childcare will be provided.
URL:https://www.14streety.org/event/ncdc-info-session-april4/
ATTACH;FMTTYPE=image/png:https://www.14streety.org/wp-content/uploads/2018/01/NCDC-Info-Session-1.png
END:VEVENT
END:VCALENDAR