BEGIN:VCALENDAR
VERSION:2.0
PRODID:-//14th Street Y - ECPv5.5.0.1//NONSGML v1.0//EN
CALSCALE:GREGORIAN
METHOD:PUBLISH
X-WR-CALNAME:14th Street Y
X-ORIGINAL-URL:https://www.14streety.org
X-WR-CALDESC:Events for 14th Street Y
BEGIN:VTIMEZONE
TZID:America/New_York
BEGIN:DAYLIGHT
TZOFFSETFROM:-0500
TZOFFSETTO:-0400
TZNAME:EDT
DTSTART:20190310T070000
END:DAYLIGHT
BEGIN:STANDARD
TZOFFSETFROM:-0400
TZOFFSETTO:-0500
TZNAME:EST
DTSTART:20191103T060000
END:STANDARD
END:VTIMEZONE
BEGIN:VEVENT
DTSTART;TZID=America/New_York:20190217T090000
DTEND;TZID=America/New_York:20190217T093000
DTSTAMP:20260421T200702
CREATED:20171217T180138Z
LAST-MODIFIED:20171218T115850Z
UID:56933-1550394000-1550395800@www.14streety.org
SUMMARY:Baby Belugas
DESCRIPTION:
URL:https://www.14streety.org/event/baby-belugas/2019-02-17/
END:VEVENT
BEGIN:VEVENT
DTSTART;TZID=America/New_York:20190217T100000
DTEND;TZID=America/New_York:20190217T103000
DTSTAMP:20260421T200702
CREATED:20171217T180831Z
LAST-MODIFIED:20171218T085840Z
UID:57764-1550397600-1550399400@www.14streety.org
SUMMARY:Big Fish
DESCRIPTION:
URL:https://www.14streety.org/event/big-fish/2019-02-17/
END:VEVENT
BEGIN:VEVENT
DTSTART;TZID=America/New_York:20190217T120000
DTEND;TZID=America/New_York:20190217T123000
DTSTAMP:20260421T200702
CREATED:20171217T181724Z
LAST-MODIFIED:20171218T045843Z
UID:58457-1550404800-1550406600@www.14streety.org
SUMMARY:Tadpoles
DESCRIPTION:
URL:https://www.14streety.org/event/tadpoles/2019-02-17/
END:VEVENT
BEGIN:VEVENT
DTSTART;TZID=America/New_York:20190217T120000
DTEND;TZID=America/New_York:20190217T123000
DTSTAMP:20260421T200702
CREATED:20171217T192243Z
LAST-MODIFIED:20171217T192243Z
UID:61833-1550404800-1550406600@www.14streety.org
SUMMARY:Otters
DESCRIPTION:
URL:https://www.14streety.org/event/otters/2019-02-17/
END:VEVENT
BEGIN:VEVENT
DTSTART;TZID=America/New_York:20190217T123000
DTEND;TZID=America/New_York:20190217T130000
DTSTAMP:20260421T200702
CREATED:20171217T181724Z
LAST-MODIFIED:20171218T045843Z
UID:58458-1550406600-1550408400@www.14streety.org
SUMMARY:Tadpoles
DESCRIPTION:
URL:https://www.14streety.org/event/tadpoles/2019-02-17/
END:VEVENT
BEGIN:VEVENT
DTSTART;TZID=America/New_York:20190217T123000
DTEND;TZID=America/New_York:20190217T130000
DTSTAMP:20260421T200702
CREATED:20171217T192243Z
LAST-MODIFIED:20171217T192243Z
UID:61834-1550406600-1550408400@www.14streety.org
SUMMARY:Otters
DESCRIPTION:
URL:https://www.14streety.org/event/otters/2019-02-17/2/
END:VEVENT
BEGIN:VEVENT
DTSTART;TZID=America/New_York:20190217T130000
DTEND;TZID=America/New_York:20190217T140000
DTSTAMP:20260421T200702
CREATED:20171202T214450Z
LAST-MODIFIED:20171220T165842Z
UID:41644-1550408400-1550412000@www.14streety.org
SUMMARY:Zumba with Celeste | Studio A&B
DESCRIPTION:Zumba is a mix of different styles of dance with latin twist mixed with moderate to high cardio moves and high energy. It gives you a great workout while having fun (and you don’t need to have any dance experience). \nPLEASE NOTE: All equipment provided. Classes are free for members except where indicated ($). Non-Members can attend with purchase of a Day Pass. Non-Members can attend Mommy & Me classes with purchase of a 5-class Punch Card. See Service Desk for details. Classes are subject to change without notice.
URL:https://www.14streety.org/event/zumba-celeste-studio-ab/2019-02-17/
END:VEVENT
BEGIN:VEVENT
DTSTART;TZID=America/New_York:20190217T130000
DTEND;TZID=America/New_York:20190217T133000
DTSTAMP:20260421T200702
CREATED:20171217T192700Z
LAST-MODIFIED:20171217T192700Z
UID:59104-1550408400-1550410200@www.14streety.org
SUMMARY:Dolphins
DESCRIPTION:
URL:https://www.14streety.org/event/dolphins/2019-02-17/
END:VEVENT
BEGIN:VEVENT
DTSTART;TZID=America/New_York:20190217T133000
DTEND;TZID=America/New_York:20190217T140000
DTSTAMP:20260421T200702
CREATED:20171217T180138Z
LAST-MODIFIED:20171218T115850Z
UID:56934-1550410200-1550412000@www.14streety.org
SUMMARY:Baby Belugas
DESCRIPTION:
URL:https://www.14streety.org/event/baby-belugas/2019-02-17/2/
END:VEVENT
BEGIN:VEVENT
DTSTART;TZID=America/New_York:20190217T171500
DTEND;TZID=America/New_York:20190217T183000
DTSTAMP:20260421T200702
CREATED:20171202T230641Z
LAST-MODIFIED:20171217T202725Z
UID:40663-1550423700-1550428200@www.14streety.org
SUMMARY:Barre with Sheila | Studio A&B
DESCRIPTION:Dance exercises increase strength\, balance\, coordination\, and works all major muscle groups. Get your mind & body conditioned. Class uses modern and ballet principles- mat work\, barre work & center floor exercises. Please note: this class will be on hiatus in July and August and return in September after Labor Day. \nPLEASE NOTE: All equipment provided. Classes are free for members except where indicated ($). Non-Members can attend with purchase of a Day Pass. Non-Members can attend Mommy & Me classes with purchase of a 5-class Punch Card. See Service Desk for details. Classes are subject to change without notice.
URL:https://www.14streety.org/event/barre-sheila-studio-ab-2019-02-17/
END:VEVENT
END:VCALENDAR