BEGIN:VCALENDAR
VERSION:2.0
PRODID:-//14th Street Y - ECPv5.5.0.1//NONSGML v1.0//EN
CALSCALE:GREGORIAN
METHOD:PUBLISH
X-WR-CALNAME:14th Street Y
X-ORIGINAL-URL:https://www.14streety.org
X-WR-CALDESC:Events for 14th Street Y
BEGIN:VTIMEZONE
TZID:America/New_York
BEGIN:DAYLIGHT
TZOFFSETFROM:-0500
TZOFFSETTO:-0400
TZNAME:EDT
DTSTART:20190310T070000
END:DAYLIGHT
BEGIN:STANDARD
TZOFFSETFROM:-0400
TZOFFSETTO:-0500
TZNAME:EST
DTSTART:20191103T060000
END:STANDARD
END:VTIMEZONE
BEGIN:VEVENT
DTSTART;TZID=America/New_York:20190216T090000
DTEND;TZID=America/New_York:20190216T093000
DTSTAMP:20260421T200921
CREATED:20171217T180138Z
LAST-MODIFIED:20171218T115849Z
UID:56931-1550307600-1550309400@www.14streety.org
SUMMARY:Baby Belugas
DESCRIPTION:
URL:https://www.14streety.org/event/baby-belugas/2019-02-16/
END:VEVENT
BEGIN:VEVENT
DTSTART;TZID=America/New_York:20190216T100000
DTEND;TZID=America/New_York:20190216T103000
DTSTAMP:20260421T200921
CREATED:20171217T180831Z
LAST-MODIFIED:20171218T085839Z
UID:57762-1550311200-1550313000@www.14streety.org
SUMMARY:Big Fish
DESCRIPTION:
URL:https://www.14streety.org/event/big-fish/2019-02-16/
END:VEVENT
BEGIN:VEVENT
DTSTART;TZID=America/New_York:20190216T113000
DTEND;TZID=America/New_York:20190216T120000
DTSTAMP:20260421T200921
CREATED:20171217T180831Z
LAST-MODIFIED:20171218T085839Z
UID:57763-1550316600-1550318400@www.14streety.org
SUMMARY:Big Fish
DESCRIPTION:
URL:https://www.14streety.org/event/big-fish/2019-02-16/2/
END:VEVENT
BEGIN:VEVENT
DTSTART;TZID=America/New_York:20190216T123000
DTEND;TZID=America/New_York:20190216T130000
DTSTAMP:20260421T200921
CREATED:20171217T181724Z
LAST-MODIFIED:20171218T045843Z
UID:58456-1550320200-1550322000@www.14streety.org
SUMMARY:Tadpoles
DESCRIPTION:
URL:https://www.14streety.org/event/tadpoles/2019-02-16/
END:VEVENT
BEGIN:VEVENT
DTSTART;TZID=America/New_York:20190216T133000
DTEND;TZID=America/New_York:20190216T140000
DTSTAMP:20260421T200921
CREATED:20171217T180138Z
LAST-MODIFIED:20171218T115849Z
UID:56932-1550323800-1550325600@www.14streety.org
SUMMARY:Baby Belugas
DESCRIPTION:
URL:https://www.14streety.org/event/baby-belugas/2019-02-16/2/
END:VEVENT
BEGIN:VEVENT
DTSTART;TZID=America/New_York:20190216T160000
DTEND;TZID=America/New_York:20190216T163000
DTSTAMP:20260421T200921
CREATED:20171217T194017Z
LAST-MODIFIED:20171217T194017Z
UID:61409-1550332800-1550334600@www.14streety.org
SUMMARY:Special Needs
DESCRIPTION:
URL:https://www.14streety.org/event/special-needs/2019-02-16/
END:VEVENT
BEGIN:VEVENT
DTSTART;TZID=America/New_York:20190216T163000
DTEND;TZID=America/New_York:20190216T170000
DTSTAMP:20260421T200921
CREATED:20171217T194017Z
LAST-MODIFIED:20171217T194017Z
UID:61410-1550334600-1550336400@www.14streety.org
SUMMARY:Special Needs
DESCRIPTION:
URL:https://www.14streety.org/event/special-needs/2019-02-16/2/
END:VEVENT
END:VCALENDAR