BEGIN:VCALENDAR
VERSION:2.0
PRODID:-//14th Street Y - ECPv5.5.0.1//NONSGML v1.0//EN
CALSCALE:GREGORIAN
METHOD:PUBLISH
X-WR-CALNAME:14th Street Y
X-ORIGINAL-URL:https://www.14streety.org
X-WR-CALDESC:Events for 14th Street Y
BEGIN:VTIMEZONE
TZID:America/New_York
BEGIN:DAYLIGHT
TZOFFSETFROM:-0500
TZOFFSETTO:-0400
TZNAME:EDT
DTSTART:20190310T070000
END:DAYLIGHT
BEGIN:STANDARD
TZOFFSETFROM:-0400
TZOFFSETTO:-0500
TZNAME:EST
DTSTART:20191103T060000
END:STANDARD
END:VTIMEZONE
BEGIN:VEVENT
DTSTART;TZID=America/New_York:20190124T090000
DTEND;TZID=America/New_York:20190124T093000
DTSTAMP:20260422T000311
CREATED:20171217T180138Z
LAST-MODIFIED:20171218T113001Z
UID:56902-1548320400-1548322200@www.14streety.org
SUMMARY:Baby Belugas
DESCRIPTION:
URL:https://www.14streety.org/event/baby-belugas/2019-01-24/
END:VEVENT
BEGIN:VEVENT
DTSTART;TZID=America/New_York:20190124T100000
DTEND;TZID=America/New_York:20190124T103000
DTSTAMP:20260422T000311
CREATED:20171217T180831Z
LAST-MODIFIED:20171218T082920Z
UID:57739-1548324000-1548325800@www.14streety.org
SUMMARY:Big Fish
DESCRIPTION:
URL:https://www.14streety.org/event/big-fish/2019-01-24/
END:VEVENT
BEGIN:VEVENT
DTSTART;TZID=America/New_York:20190124T120000
DTEND;TZID=America/New_York:20190124T123000
DTSTAMP:20260422T000311
CREATED:20171217T192243Z
LAST-MODIFIED:20171217T192243Z
UID:61813-1548331200-1548333000@www.14streety.org
SUMMARY:Otters
DESCRIPTION:
URL:https://www.14streety.org/event/otters/2019-01-24/
END:VEVENT
BEGIN:VEVENT
DTSTART;TZID=America/New_York:20190124T150000
DTEND;TZID=America/New_York:20190124T153000
DTSTAMP:20260422T000311
CREATED:20171217T181724Z
LAST-MODIFIED:20171218T045830Z
UID:58421-1548342000-1548343800@www.14streety.org
SUMMARY:Tadpoles
DESCRIPTION:
URL:https://www.14streety.org/event/tadpoles/2019-01-24/
END:VEVENT
BEGIN:VEVENT
DTSTART;TZID=America/New_York:20190124T153000
DTEND;TZID=America/New_York:20190124T160000
DTSTAMP:20260422T000311
CREATED:20171217T183615Z
LAST-MODIFIED:20171217T183615Z
UID:56352-1548343800-1548345600@www.14streety.org
SUMMARY:Sea Horses
DESCRIPTION:
URL:https://www.14streety.org/event/sea-horses/2019-01-24/
END:VEVENT
BEGIN:VEVENT
DTSTART;TZID=America/New_York:20190124T153000
DTEND;TZID=America/New_York:20190124T160000
DTSTAMP:20260422T000311
CREATED:20171217T192243Z
LAST-MODIFIED:20171217T192243Z
UID:61814-1548343800-1548345600@www.14streety.org
SUMMARY:Otters
DESCRIPTION:
URL:https://www.14streety.org/event/otters/2019-01-24/2/
END:VEVENT
BEGIN:VEVENT
DTSTART;TZID=America/New_York:20190124T160000
DTEND;TZID=America/New_York:20190124T163000
DTSTAMP:20260422T000311
CREATED:20171217T192700Z
LAST-MODIFIED:20171217T192700Z
UID:59097-1548345600-1548347400@www.14streety.org
SUMMARY:Dolphins
DESCRIPTION:
URL:https://www.14streety.org/event/dolphins/2019-01-24/
END:VEVENT
BEGIN:VEVENT
DTSTART;TZID=America/New_York:20190124T160000
DTEND;TZID=America/New_York:20190124T163000
DTSTAMP:20260422T000311
CREATED:20171217T193329Z
LAST-MODIFIED:20171217T193329Z
UID:59328-1548345600-1548347400@www.14streety.org
SUMMARY:Sharks
DESCRIPTION:
URL:https://www.14streety.org/event/sharks/2019-01-24/
END:VEVENT
END:VCALENDAR