BEGIN:VCALENDAR
VERSION:2.0
PRODID:-//14th Street Y - ECPv5.5.0.1//NONSGML v1.0//EN
CALSCALE:GREGORIAN
METHOD:PUBLISH
X-WR-CALNAME:14th Street Y
X-ORIGINAL-URL:https://www.14streety.org
X-WR-CALDESC:Events for 14th Street Y
BEGIN:VTIMEZONE
TZID:America/New_York
BEGIN:DAYLIGHT
TZOFFSETFROM:-0500
TZOFFSETTO:-0400
TZNAME:EDT
DTSTART:20180311T070000
END:DAYLIGHT
BEGIN:STANDARD
TZOFFSETFROM:-0400
TZOFFSETTO:-0500
TZNAME:EST
DTSTART:20181104T060000
END:STANDARD
END:VTIMEZONE
BEGIN:VEVENT
DTSTART;TZID=America/New_York:20181205T083000
DTEND;TZID=America/New_York:20181205T103000
DTSTAMP:20260421T112323
CREATED:20181127T194152Z
LAST-MODIFIED:20181127T200647Z
UID:78848-1543998600-1544005800@www.14streety.org
SUMMARY:Community Breakfast
DESCRIPTION:Join your downtown community in our lobby for a tasty breakfast and great conversation!! \nEnjoy Starbucks coffee\, bagels from Ess-a-Bagel\, and other yummy treats. Community partners will be joining us for this Community Breakfast including the New York Police Department\, Mt. Sinai\, Kate Roth Cookies\, and Gramercy Kids Pediatric Dental. \nThis event is FREE and all are welcome!
URL:https://www.14streety.org/event/community-breakfast/
CATEGORIES:Community Events
ATTACH;FMTTYPE=image/png:https://www.14streety.org/wp-content/uploads/2018/11/Bagel-hero.png
END:VEVENT
BEGIN:VEVENT
DTSTART;TZID=America/New_York:20181205T143000
DTEND;TZID=America/New_York:20181205T150000
DTSTAMP:20260421T112323
CREATED:20171217T180138Z
LAST-MODIFIED:20171218T112936Z
UID:56838-1544020200-1544022000@www.14streety.org
SUMMARY:Baby Belugas
DESCRIPTION:
URL:https://www.14streety.org/event/baby-belugas/2018-12-05/
END:VEVENT
BEGIN:VEVENT
DTSTART;TZID=America/New_York:20181205T143000
DTEND;TZID=America/New_York:20181205T150000
DTSTAMP:20260421T112323
CREATED:20171217T180831Z
LAST-MODIFIED:20171218T082902Z
UID:57689-1544020200-1544022000@www.14streety.org
SUMMARY:Big Fish
DESCRIPTION:
URL:https://www.14streety.org/event/big-fish/2018-12-05/
END:VEVENT
BEGIN:VEVENT
DTSTART;TZID=America/New_York:20181205T150000
DTEND;TZID=America/New_York:20181205T153000
DTSTAMP:20260421T112323
CREATED:20171217T180438Z
LAST-MODIFIED:20171218T095949Z
UID:55740-1544022000-1544023800@www.14streety.org
SUMMARY:Little Dippers
DESCRIPTION:
URL:https://www.14streety.org/event/little-dippers/2018-12-05/
END:VEVENT
BEGIN:VEVENT
DTSTART;TZID=America/New_York:20181205T153000
DTEND;TZID=America/New_York:20181205T160000
DTSTAMP:20260421T112323
CREATED:20171217T181724Z
LAST-MODIFIED:20171218T042839Z
UID:58343-1544023800-1544025600@www.14streety.org
SUMMARY:Tadpoles
DESCRIPTION:
URL:https://www.14streety.org/event/tadpoles/2018-12-05/
END:VEVENT
BEGIN:VEVENT
DTSTART;TZID=America/New_York:20181205T153000
DTEND;TZID=America/New_York:20181205T160000
DTSTAMP:20260421T112323
CREATED:20171217T183615Z
LAST-MODIFIED:20171217T183615Z
UID:56308-1544023800-1544025600@www.14streety.org
SUMMARY:Sea Horses
DESCRIPTION:
URL:https://www.14streety.org/event/sea-horses/2018-12-05/
END:VEVENT
BEGIN:VEVENT
DTSTART;TZID=America/New_York:20181205T160000
DTEND;TZID=America/New_York:20181205T163000
DTSTAMP:20260421T112323
CREATED:20171217T183615Z
LAST-MODIFIED:20171217T183615Z
UID:56309-1544025600-1544027400@www.14streety.org
SUMMARY:Sea Horses
DESCRIPTION:
URL:https://www.14streety.org/event/sea-horses/2018-12-05/2/
END:VEVENT
BEGIN:VEVENT
DTSTART;TZID=America/New_York:20181205T160000
DTEND;TZID=America/New_York:20181205T163000
DTSTAMP:20260421T112323
CREATED:20171217T192243Z
LAST-MODIFIED:20171217T192243Z
UID:61770-1544025600-1544027400@www.14streety.org
SUMMARY:Otters
DESCRIPTION:
URL:https://www.14streety.org/event/otters/2018-12-05/
END:VEVENT
END:VCALENDAR