BEGIN:VCALENDAR
VERSION:2.0
PRODID:-//14th Street Y - ECPv5.5.0.1//NONSGML v1.0//EN
CALSCALE:GREGORIAN
METHOD:PUBLISH
X-WR-CALNAME:14th Street Y
X-ORIGINAL-URL:https://www.14streety.org
X-WR-CALDESC:Events for 14th Street Y
BEGIN:VTIMEZONE
TZID:America/New_York
BEGIN:DAYLIGHT
TZOFFSETFROM:-0500
TZOFFSETTO:-0400
TZNAME:EDT
DTSTART:20180311T070000
END:DAYLIGHT
BEGIN:STANDARD
TZOFFSETFROM:-0400
TZOFFSETTO:-0500
TZNAME:EST
DTSTART:20181104T060000
END:STANDARD
END:VTIMEZONE
BEGIN:VEVENT
DTSTART;TZID=America/New_York:20181124T090000
DTEND;TZID=America/New_York:20181124T093000
DTSTAMP:20260421T184240
CREATED:20171217T180138Z
LAST-MODIFIED:20171218T112931Z
UID:56823-1543050000-1543051800@www.14streety.org
SUMMARY:Baby Belugas
DESCRIPTION:
URL:https://www.14streety.org/event/baby-belugas/2018-11-24/
END:VEVENT
BEGIN:VEVENT
DTSTART;TZID=America/New_York:20181124T100000
DTEND;TZID=America/New_York:20181124T103000
DTSTAMP:20260421T184240
CREATED:20171217T180831Z
LAST-MODIFIED:20171218T082858Z
UID:57678-1543053600-1543055400@www.14streety.org
SUMMARY:Big Fish
DESCRIPTION:
URL:https://www.14streety.org/event/big-fish/2018-11-24/
END:VEVENT
BEGIN:VEVENT
DTSTART;TZID=America/New_York:20181124T113000
DTEND;TZID=America/New_York:20181124T120000
DTSTAMP:20260421T184240
CREATED:20171217T180831Z
LAST-MODIFIED:20171218T082858Z
UID:57679-1543059000-1543060800@www.14streety.org
SUMMARY:Big Fish
DESCRIPTION:
URL:https://www.14streety.org/event/big-fish/2018-11-24/2/
END:VEVENT
BEGIN:VEVENT
DTSTART;TZID=America/New_York:20181124T123000
DTEND;TZID=America/New_York:20181124T130000
DTSTAMP:20260421T184240
CREATED:20171217T181724Z
LAST-MODIFIED:20171218T042832Z
UID:58324-1543062600-1543064400@www.14streety.org
SUMMARY:Tadpoles
DESCRIPTION:
URL:https://www.14streety.org/event/tadpoles/2018-11-24/
END:VEVENT
BEGIN:VEVENT
DTSTART;TZID=America/New_York:20181124T133000
DTEND;TZID=America/New_York:20181124T140000
DTSTAMP:20260421T184240
CREATED:20171217T180138Z
LAST-MODIFIED:20171218T112931Z
UID:56824-1543066200-1543068000@www.14streety.org
SUMMARY:Baby Belugas
DESCRIPTION:
URL:https://www.14streety.org/event/baby-belugas/2018-11-24/2/
END:VEVENT
BEGIN:VEVENT
DTSTART;TZID=America/New_York:20181124T160000
DTEND;TZID=America/New_York:20181124T163000
DTSTAMP:20260421T184240
CREATED:20171217T194017Z
LAST-MODIFIED:20171217T194017Z
UID:61373-1543075200-1543077000@www.14streety.org
SUMMARY:Special Needs
DESCRIPTION:
URL:https://www.14streety.org/event/special-needs/2018-11-24/
END:VEVENT
BEGIN:VEVENT
DTSTART;TZID=America/New_York:20181124T163000
DTEND;TZID=America/New_York:20181124T170000
DTSTAMP:20260421T184240
CREATED:20171217T194017Z
LAST-MODIFIED:20171217T194017Z
UID:61374-1543077000-1543078800@www.14streety.org
SUMMARY:Special Needs
DESCRIPTION:
URL:https://www.14streety.org/event/special-needs/2018-11-24/2/
END:VEVENT
END:VCALENDAR