BEGIN:VCALENDAR
VERSION:2.0
PRODID:-//14th Street Y - ECPv5.5.0.1//NONSGML v1.0//EN
CALSCALE:GREGORIAN
METHOD:PUBLISH
X-WR-CALNAME:14th Street Y
X-ORIGINAL-URL:https://www.14streety.org
X-WR-CALDESC:Events for 14th Street Y
BEGIN:VTIMEZONE
TZID:America/New_York
BEGIN:DAYLIGHT
TZOFFSETFROM:-0500
TZOFFSETTO:-0400
TZNAME:EDT
DTSTART:20180311T070000
END:DAYLIGHT
BEGIN:STANDARD
TZOFFSETFROM:-0400
TZOFFSETTO:-0500
TZNAME:EST
DTSTART:20181104T060000
END:STANDARD
END:VTIMEZONE
BEGIN:VEVENT
DTSTART;TZID=America/New_York:20181120T090000
DTEND;TZID=America/New_York:20181120T093000
DTSTAMP:20260421T150759
CREATED:20171217T180138Z
LAST-MODIFIED:20171218T112929Z
UID:56819-1542704400-1542706200@www.14streety.org
SUMMARY:Baby Belugas
DESCRIPTION:
URL:https://www.14streety.org/event/baby-belugas/2018-11-20/
END:VEVENT
BEGIN:VEVENT
DTSTART;TZID=America/New_York:20181120T103000
DTEND;TZID=America/New_York:20181120T110000
DTSTAMP:20260421T150759
CREATED:20171217T180831Z
LAST-MODIFIED:20171218T082856Z
UID:57674-1542709800-1542711600@www.14streety.org
SUMMARY:Big Fish
DESCRIPTION:
URL:https://www.14streety.org/event/big-fish/2018-11-20/
END:VEVENT
BEGIN:VEVENT
DTSTART;TZID=America/New_York:20181120T140000
DTEND;TZID=America/New_York:20181120T143000
DTSTAMP:20260421T150759
CREATED:20171217T181724Z
LAST-MODIFIED:20171218T042830Z
UID:58318-1542722400-1542724200@www.14streety.org
SUMMARY:Tadpoles
DESCRIPTION:
URL:https://www.14streety.org/event/tadpoles/2018-11-20/
END:VEVENT
BEGIN:VEVENT
DTSTART;TZID=America/New_York:20181120T150000
DTEND;TZID=America/New_York:20181120T153000
DTSTAMP:20260421T150759
CREATED:20171217T181724Z
LAST-MODIFIED:20171218T042830Z
UID:58319-1542726000-1542727800@www.14streety.org
SUMMARY:Tadpoles
DESCRIPTION:
URL:https://www.14streety.org/event/tadpoles/2018-11-20/2/
END:VEVENT
BEGIN:VEVENT
DTSTART;TZID=America/New_York:20181120T153000
DTEND;TZID=America/New_York:20181120T160000
DTSTAMP:20260421T150759
CREATED:20171217T181724Z
LAST-MODIFIED:20171218T042831Z
UID:58320-1542727800-1542729600@www.14streety.org
SUMMARY:Tadpoles
DESCRIPTION:
URL:https://www.14streety.org/event/tadpoles/2018-11-20/3/
END:VEVENT
BEGIN:VEVENT
DTSTART;TZID=America/New_York:20181120T153000
DTEND;TZID=America/New_York:20181120T160000
DTSTAMP:20260421T150759
CREATED:20171217T183615Z
LAST-MODIFIED:20171217T183615Z
UID:56294-1542727800-1542729600@www.14streety.org
SUMMARY:Sea Horses
DESCRIPTION:
URL:https://www.14streety.org/event/sea-horses/2018-11-20/
END:VEVENT
BEGIN:VEVENT
DTSTART;TZID=America/New_York:20181120T160000
DTEND;TZID=America/New_York:20181120T163000
DTSTAMP:20260421T150759
CREATED:20171217T183615Z
LAST-MODIFIED:20171217T183615Z
UID:56295-1542729600-1542731400@www.14streety.org
SUMMARY:Sea Horses
DESCRIPTION:
URL:https://www.14streety.org/event/sea-horses/2018-11-20/
END:VEVENT
BEGIN:VEVENT
DTSTART;TZID=America/New_York:20181120T160000
DTEND;TZID=America/New_York:20181120T163000
DTSTAMP:20260421T150759
CREATED:20171217T192243Z
LAST-MODIFIED:20171217T192243Z
UID:61757-1542729600-1542731400@www.14streety.org
SUMMARY:Otters
DESCRIPTION:
URL:https://www.14streety.org/event/otters/2018-11-20/
END:VEVENT
END:VCALENDAR