BEGIN:VCALENDAR
VERSION:2.0
PRODID:-//14th Street Y - ECPv5.5.0.1//NONSGML v1.0//EN
CALSCALE:GREGORIAN
METHOD:PUBLISH
X-WR-CALNAME:14th Street Y
X-ORIGINAL-URL:https://www.14streety.org
X-WR-CALDESC:Events for 14th Street Y
BEGIN:VTIMEZONE
TZID:America/New_York
BEGIN:DAYLIGHT
TZOFFSETFROM:-0500
TZOFFSETTO:-0400
TZNAME:EDT
DTSTART:20180311T070000
END:DAYLIGHT
BEGIN:STANDARD
TZOFFSETFROM:-0400
TZOFFSETTO:-0500
TZNAME:EST
DTSTART:20181104T060000
END:STANDARD
END:VTIMEZONE
BEGIN:VEVENT
DTSTART;TZID=America/New_York:20181027T090000
DTEND;TZID=America/New_York:20181027T093000
DTSTAMP:20260420T113734
CREATED:20171217T180138Z
LAST-MODIFIED:20171218T105911Z
UID:56787-1540630800-1540632600@www.14streety.org
SUMMARY:Baby Belugas
DESCRIPTION:
URL:https://www.14streety.org/event/baby-belugas/2018-10-27/
END:VEVENT
BEGIN:VEVENT
DTSTART;TZID=America/New_York:20181027T100000
DTEND;TZID=America/New_York:20181027T103000
DTSTAMP:20260420T113734
CREATED:20171217T180831Z
LAST-MODIFIED:20171218T075903Z
UID:57650-1540634400-1540636200@www.14streety.org
SUMMARY:Big Fish
DESCRIPTION:
URL:https://www.14streety.org/event/big-fish/2018-10-27/
END:VEVENT
BEGIN:VEVENT
DTSTART;TZID=America/New_York:20181027T113000
DTEND;TZID=America/New_York:20181027T120000
DTSTAMP:20260420T113734
CREATED:20171217T180831Z
LAST-MODIFIED:20171218T075903Z
UID:57651-1540639800-1540641600@www.14streety.org
SUMMARY:Big Fish
DESCRIPTION:
URL:https://www.14streety.org/event/big-fish/2018-10-27/2/
END:VEVENT
BEGIN:VEVENT
DTSTART;TZID=America/New_York:20181027T123000
DTEND;TZID=America/New_York:20181027T130000
DTSTAMP:20260420T113734
CREATED:20171217T181724Z
LAST-MODIFIED:20171218T035852Z
UID:58280-1540643400-1540645200@www.14streety.org
SUMMARY:Tadpoles
DESCRIPTION:
URL:https://www.14streety.org/event/tadpoles/2018-10-27/
END:VEVENT
BEGIN:VEVENT
DTSTART;TZID=America/New_York:20181027T133000
DTEND;TZID=America/New_York:20181027T140000
DTSTAMP:20260420T113734
CREATED:20171217T180138Z
LAST-MODIFIED:20171218T105911Z
UID:56788-1540647000-1540648800@www.14streety.org
SUMMARY:Baby Belugas
DESCRIPTION:
URL:https://www.14streety.org/event/baby-belugas/2018-10-27/2/
END:VEVENT
BEGIN:VEVENT
DTSTART;TZID=America/New_York:20181027T160000
DTEND;TZID=America/New_York:20181027T163000
DTSTAMP:20260420T113734
CREATED:20171217T194017Z
LAST-MODIFIED:20171217T194017Z
UID:61361-1540656000-1540657800@www.14streety.org
SUMMARY:Special Needs
DESCRIPTION:
URL:https://www.14streety.org/event/special-needs/2018-10-27/
END:VEVENT
BEGIN:VEVENT
DTSTART;TZID=America/New_York:20181027T163000
DTEND;TZID=America/New_York:20181027T170000
DTSTAMP:20260420T113734
CREATED:20171217T194017Z
LAST-MODIFIED:20171217T194017Z
UID:61362-1540657800-1540659600@www.14streety.org
SUMMARY:Special Needs
DESCRIPTION:
URL:https://www.14streety.org/event/special-needs/2018-10-27/2/
END:VEVENT
END:VCALENDAR