BEGIN:VCALENDAR
VERSION:2.0
PRODID:-//14th Street Y - ECPv5.5.0.1//NONSGML v1.0//EN
CALSCALE:GREGORIAN
METHOD:PUBLISH
X-WR-CALNAME:14th Street Y
X-ORIGINAL-URL:https://www.14streety.org
X-WR-CALDESC:Events for 14th Street Y
BEGIN:VTIMEZONE
TZID:America/New_York
BEGIN:DAYLIGHT
TZOFFSETFROM:-0500
TZOFFSETTO:-0400
TZNAME:EDT
DTSTART:20180311T070000
END:DAYLIGHT
BEGIN:STANDARD
TZOFFSETFROM:-0400
TZOFFSETTO:-0500
TZNAME:EST
DTSTART:20181104T060000
END:STANDARD
END:VTIMEZONE
BEGIN:VEVENT
DTSTART;TZID=America/New_York:20181023T090000
DTEND;TZID=America/New_York:20181023T093000
DTSTAMP:20260420T100748
CREATED:20171217T180138Z
LAST-MODIFIED:20171218T105909Z
UID:56783-1540285200-1540287000@www.14streety.org
SUMMARY:Baby Belugas
DESCRIPTION:
URL:https://www.14streety.org/event/baby-belugas/2018-10-23/
END:VEVENT
BEGIN:VEVENT
DTSTART;TZID=America/New_York:20181023T103000
DTEND;TZID=America/New_York:20181023T110000
DTSTAMP:20260420T100748
CREATED:20171217T180831Z
LAST-MODIFIED:20171218T075901Z
UID:57646-1540290600-1540292400@www.14streety.org
SUMMARY:Big Fish
DESCRIPTION:
URL:https://www.14streety.org/event/big-fish/2018-10-23/
END:VEVENT
BEGIN:VEVENT
DTSTART;TZID=America/New_York:20181023T140000
DTEND;TZID=America/New_York:20181023T143000
DTSTAMP:20260420T100748
CREATED:20171217T181724Z
LAST-MODIFIED:20171218T035850Z
UID:58274-1540303200-1540305000@www.14streety.org
SUMMARY:Tadpoles
DESCRIPTION:
URL:https://www.14streety.org/event/tadpoles/2018-10-23/
END:VEVENT
BEGIN:VEVENT
DTSTART;TZID=America/New_York:20181023T150000
DTEND;TZID=America/New_York:20181023T153000
DTSTAMP:20260420T100748
CREATED:20171217T181724Z
LAST-MODIFIED:20171218T035850Z
UID:58275-1540306800-1540308600@www.14streety.org
SUMMARY:Tadpoles
DESCRIPTION:
URL:https://www.14streety.org/event/tadpoles/2018-10-23/2/
END:VEVENT
BEGIN:VEVENT
DTSTART;TZID=America/New_York:20181023T153000
DTEND;TZID=America/New_York:20181023T160000
DTSTAMP:20260420T100748
CREATED:20171217T181724Z
LAST-MODIFIED:20171218T035851Z
UID:58276-1540308600-1540310400@www.14streety.org
SUMMARY:Tadpoles
DESCRIPTION:
URL:https://www.14streety.org/event/tadpoles/2018-10-23/3/
END:VEVENT
BEGIN:VEVENT
DTSTART;TZID=America/New_York:20181023T153000
DTEND;TZID=America/New_York:20181023T160000
DTSTAMP:20260420T100748
CREATED:20171217T183615Z
LAST-MODIFIED:20171217T183615Z
UID:56270-1540308600-1540310400@www.14streety.org
SUMMARY:Sea Horses
DESCRIPTION:
URL:https://www.14streety.org/event/sea-horses/2018-10-23/
END:VEVENT
BEGIN:VEVENT
DTSTART;TZID=America/New_York:20181023T160000
DTEND;TZID=America/New_York:20181023T163000
DTSTAMP:20260420T100748
CREATED:20171217T183615Z
LAST-MODIFIED:20171217T183615Z
UID:56271-1540310400-1540312200@www.14streety.org
SUMMARY:Sea Horses
DESCRIPTION:
URL:https://www.14streety.org/event/sea-horses/2018-10-23/2/
END:VEVENT
BEGIN:VEVENT
DTSTART;TZID=America/New_York:20181023T160000
DTEND;TZID=America/New_York:20181023T163000
DTSTAMP:20260420T100748
CREATED:20171217T192243Z
LAST-MODIFIED:20171217T192243Z
UID:61733-1540310400-1540312200@www.14streety.org
SUMMARY:Otters
DESCRIPTION:
URL:https://www.14streety.org/event/otters/2018-10-23/
END:VEVENT
END:VCALENDAR