BEGIN:VCALENDAR
VERSION:2.0
PRODID:-//14th Street Y - ECPv5.5.0.1//NONSGML v1.0//EN
CALSCALE:GREGORIAN
METHOD:PUBLISH
X-WR-CALNAME:14th Street Y
X-ORIGINAL-URL:https://www.14streety.org
X-WR-CALDESC:Events for 14th Street Y
BEGIN:VTIMEZONE
TZID:America/New_York
BEGIN:DAYLIGHT
TZOFFSETFROM:-0500
TZOFFSETTO:-0400
TZNAME:EDT
DTSTART:20180311T070000
END:DAYLIGHT
BEGIN:STANDARD
TZOFFSETFROM:-0400
TZOFFSETTO:-0500
TZNAME:EST
DTSTART:20181104T060000
END:STANDARD
END:VTIMEZONE
BEGIN:VEVENT
DTSTART;TZID=America/New_York:20181021T090000
DTEND;TZID=America/New_York:20181021T093000
DTSTAMP:20260420T113854
CREATED:20171217T180138Z
LAST-MODIFIED:20171218T105908Z
UID:56780-1540112400-1540114200@www.14streety.org
SUMMARY:Baby Belugas
DESCRIPTION:
URL:https://www.14streety.org/event/baby-belugas/2018-10-21/
END:VEVENT
BEGIN:VEVENT
DTSTART;TZID=America/New_York:20181021T100000
DTEND;TZID=America/New_York:20181021T103000
DTSTAMP:20260420T113854
CREATED:20171217T180831Z
LAST-MODIFIED:20171218T075901Z
UID:57645-1540116000-1540117800@www.14streety.org
SUMMARY:Big Fish
DESCRIPTION:
URL:https://www.14streety.org/event/big-fish/2018-10-21/
END:VEVENT
BEGIN:VEVENT
DTSTART;TZID=America/New_York:20181021T100000
DTEND;TZID=America/New_York:20181021T113000
DTSTAMP:20260420T113854
CREATED:20171217T202019Z
LAST-MODIFIED:20171217T202019Z
UID:60398-1540116000-1540121400@www.14streety.org
SUMMARY:Vinyasa Yoga with Lorrie I Studio A&B
DESCRIPTION:
URL:https://www.14streety.org/event/vinyasa-yoga-lorrie-studio-ab-2018-10-21/
END:VEVENT
BEGIN:VEVENT
DTSTART;TZID=America/New_York:20181021T120000
DTEND;TZID=America/New_York:20181021T123000
DTSTAMP:20260420T113854
CREATED:20171217T181724Z
LAST-MODIFIED:20171218T035849Z
UID:58270-1540123200-1540125000@www.14streety.org
SUMMARY:Tadpoles
DESCRIPTION:
URL:https://www.14streety.org/event/tadpoles/2018-10-21/
END:VEVENT
BEGIN:VEVENT
DTSTART;TZID=America/New_York:20181021T120000
DTEND;TZID=America/New_York:20181021T123000
DTSTAMP:20260420T113854
CREATED:20171217T192243Z
LAST-MODIFIED:20171217T192243Z
UID:61731-1540123200-1540125000@www.14streety.org
SUMMARY:Otters
DESCRIPTION:
URL:https://www.14streety.org/event/otters/2018-10-21/
END:VEVENT
BEGIN:VEVENT
DTSTART;TZID=America/New_York:20181021T123000
DTEND;TZID=America/New_York:20181021T130000
DTSTAMP:20260420T113854
CREATED:20171217T181724Z
LAST-MODIFIED:20171218T035849Z
UID:58271-1540125000-1540126800@www.14streety.org
SUMMARY:Tadpoles
DESCRIPTION:
URL:https://www.14streety.org/event/tadpoles/2018-10-21/2/
END:VEVENT
BEGIN:VEVENT
DTSTART;TZID=America/New_York:20181021T123000
DTEND;TZID=America/New_York:20181021T130000
DTSTAMP:20260420T113854
CREATED:20171217T192243Z
LAST-MODIFIED:20171217T192243Z
UID:61732-1540125000-1540126800@www.14streety.org
SUMMARY:Otters
DESCRIPTION:
URL:https://www.14streety.org/event/otters/2018-10-21/
END:VEVENT
BEGIN:VEVENT
DTSTART;TZID=America/New_York:20181021T130000
DTEND;TZID=America/New_York:20181021T140000
DTSTAMP:20260420T113854
CREATED:20171202T214450Z
LAST-MODIFIED:20171220T165835Z
UID:37615-1540126800-1540130400@www.14streety.org
SUMMARY:Zumba with Celeste | Studio A&B
DESCRIPTION:Zumba is a mix of different styles of dance with latin twist mixed with moderate to high cardio moves and high energy. It gives you a great workout while having fun (and you don’t need to have any dance experience). \nPLEASE NOTE: All equipment provided. Classes are free for members except where indicated ($). Non-Members can attend with purchase of a Day Pass. Non-Members can attend Mommy & Me classes with purchase of a 5-class Punch Card. See Service Desk for details. Classes are subject to change without notice.
URL:https://www.14streety.org/event/zumba-celeste-studio-ab/2018-10-21/
END:VEVENT
BEGIN:VEVENT
DTSTART;TZID=America/New_York:20181021T130000
DTEND;TZID=America/New_York:20181021T133000
DTSTAMP:20260420T113854
CREATED:20171217T192700Z
LAST-MODIFIED:20171217T192700Z
UID:59070-1540126800-1540128600@www.14streety.org
SUMMARY:Dolphins
DESCRIPTION:
URL:https://www.14streety.org/event/dolphins/2018-10-21/
END:VEVENT
BEGIN:VEVENT
DTSTART;TZID=America/New_York:20181021T130000
DTEND;TZID=America/New_York:20181021T133000
DTSTAMP:20260420T113854
CREATED:20171217T193329Z
LAST-MODIFIED:20171217T193329Z
UID:59302-1540126800-1540128600@www.14streety.org
SUMMARY:Sharks
DESCRIPTION:
URL:https://www.14streety.org/event/sharks/2018-10-21/
END:VEVENT
BEGIN:VEVENT
DTSTART;TZID=America/New_York:20181021T133000
DTEND;TZID=America/New_York:20181021T140000
DTSTAMP:20260420T113854
CREATED:20171217T180138Z
LAST-MODIFIED:20171218T105908Z
UID:56781-1540128600-1540130400@www.14streety.org
SUMMARY:Baby Belugas
DESCRIPTION:
URL:https://www.14streety.org/event/baby-belugas/2018-10-21/2/
END:VEVENT
BEGIN:VEVENT
DTSTART;TZID=America/New_York:20181021T140000
DTEND;TZID=America/New_York:20181021T160000
DTSTAMP:20260420T113854
CREATED:20181005T154720Z
LAST-MODIFIED:20181005T154720Z
UID:78378-1540130400-1540137600@www.14streety.org
SUMMARY:Summer 2018 NCDC Camper Reunion
DESCRIPTION:New Country Day Camp\nSummer 2018 Camper Reunion\nSunday\, October 21 | 2:00 PM – 4:00 PM\n(rain date on October 28th)\nJoin us out at Henry Kaufman Campgrounds for the annual NCDC Camper Reunion!\nFor the first time ever\, we’ll be hosting it at camp. Enjoy the fall foliage as we reunite with our camp friends and enjoy a bounce house\, climbing wall\, and some of your favorite camp activities with some of our best staff! \nThis special event is open to all 2018 campers\, their families\, and anyone interested in learning more about New Country Day Camp! \nSnacks\, including donuts and cider\, will be served. Feel free to pack your own food\, but please be aware that Henry Kaufman Campgrounds is a nut-free area. \nHenry Kaufman Campgrounds is located at 1131 Manor Road\, Staten Island\, NY 10314 \nPlease RSVP by clicking REGISTER below. 
URL:https://www.14streety.org/event/summer-2018-ncdc-camper-reunion/
CATEGORIES:Community Events
ATTACH;FMTTYPE=image/png:https://www.14streety.org/wp-content/uploads/2018/10/NCDC-Run-hero.png
END:VEVENT
BEGIN:VEVENT
DTSTART;TZID=America/New_York:20181021T171500
DTEND;TZID=America/New_York:20181021T183000
DTSTAMP:20260420T113854
CREATED:20171202T230641Z
LAST-MODIFIED:20171217T202716Z
UID:40631-1540142100-1540146600@www.14streety.org
SUMMARY:Barre with Sheila | Studio A&B
DESCRIPTION:Dance exercises increase strength\, balance\, coordination\, and works all major muscle groups. Get your mind & body conditioned. Class uses modern and ballet principles- mat work\, barre work & center floor exercises. Please note: this class will be on hiatus in July and August and return in September after Labor Day. \nPLEASE NOTE: All equipment provided. Classes are free for members except where indicated ($). Non-Members can attend with purchase of a Day Pass. Non-Members can attend Mommy & Me classes with purchase of a 5-class Punch Card. See Service Desk for details. Classes are subject to change without notice.
URL:https://www.14streety.org/event/barre-sheila-studio-ab-2018-10-21/
END:VEVENT
END:VCALENDAR