BEGIN:VCALENDAR
VERSION:2.0
PRODID:-//14th Street Y - ECPv5.5.0.1//NONSGML v1.0//EN
CALSCALE:GREGORIAN
METHOD:PUBLISH
X-WR-CALNAME:14th Street Y
X-ORIGINAL-URL:https://www.14streety.org
X-WR-CALDESC:Events for 14th Street Y
BEGIN:VTIMEZONE
TZID:America/New_York
BEGIN:DAYLIGHT
TZOFFSETFROM:-0500
TZOFFSETTO:-0400
TZNAME:EDT
DTSTART:20180311T070000
END:DAYLIGHT
BEGIN:STANDARD
TZOFFSETFROM:-0400
TZOFFSETTO:-0500
TZNAME:EST
DTSTART:20181104T060000
END:STANDARD
END:VTIMEZONE
BEGIN:VEVENT
DTSTART;TZID=America/New_York:20181014T090000
DTEND;TZID=America/New_York:20181014T093000
DTSTAMP:20260420T083356
CREATED:20171217T180138Z
LAST-MODIFIED:20171218T105904Z
UID:56771-1539507600-1539509400@www.14streety.org
SUMMARY:Baby Belugas
DESCRIPTION:
URL:https://www.14streety.org/event/baby-belugas/2018-10-14/
END:VEVENT
BEGIN:VEVENT
DTSTART;TZID=America/New_York:20181014T100000
DTEND;TZID=America/New_York:20181014T103000
DTSTAMP:20260420T083356
CREATED:20171217T180831Z
LAST-MODIFIED:20171218T075859Z
UID:57638-1539511200-1539513000@www.14streety.org
SUMMARY:Big Fish
DESCRIPTION:
URL:https://www.14streety.org/event/big-fish/2018-10-14/
END:VEVENT
BEGIN:VEVENT
DTSTART;TZID=America/New_York:20181014T100000
DTEND;TZID=America/New_York:20181014T113000
DTSTAMP:20260420T083356
CREATED:20171217T202019Z
LAST-MODIFIED:20171217T202019Z
UID:60397-1539511200-1539516600@www.14streety.org
SUMMARY:Vinyasa Yoga with Lorrie I Studio A&B
DESCRIPTION:
URL:https://www.14streety.org/event/vinyasa-yoga-lorrie-studio-ab-2018-10-14/
END:VEVENT
BEGIN:VEVENT
DTSTART;TZID=America/New_York:20181014T120000
DTEND;TZID=America/New_York:20181014T123000
DTSTAMP:20260420T083356
CREATED:20171217T181724Z
LAST-MODIFIED:20171218T035845Z
UID:58259-1539518400-1539520200@www.14streety.org
SUMMARY:Tadpoles
DESCRIPTION:
URL:https://www.14streety.org/event/tadpoles/2018-10-14/
END:VEVENT
BEGIN:VEVENT
DTSTART;TZID=America/New_York:20181014T120000
DTEND;TZID=America/New_York:20181014T123000
DTSTAMP:20260420T083356
CREATED:20171217T192243Z
LAST-MODIFIED:20171217T192243Z
UID:61725-1539518400-1539520200@www.14streety.org
SUMMARY:Otters
DESCRIPTION:
URL:https://www.14streety.org/event/otters/2018-10-14/
END:VEVENT
BEGIN:VEVENT
DTSTART;TZID=America/New_York:20181014T123000
DTEND;TZID=America/New_York:20181014T130000
DTSTAMP:20260420T083356
CREATED:20171217T181724Z
LAST-MODIFIED:20171218T035845Z
UID:58260-1539520200-1539522000@www.14streety.org
SUMMARY:Tadpoles
DESCRIPTION:
URL:https://www.14streety.org/event/tadpoles/2018-10-14/2/
END:VEVENT
BEGIN:VEVENT
DTSTART;TZID=America/New_York:20181014T123000
DTEND;TZID=America/New_York:20181014T130000
DTSTAMP:20260420T083356
CREATED:20171217T192243Z
LAST-MODIFIED:20171217T192243Z
UID:61726-1539520200-1539522000@www.14streety.org
SUMMARY:Otters
DESCRIPTION:
URL:https://www.14streety.org/event/otters/2018-10-14/2/
END:VEVENT
BEGIN:VEVENT
DTSTART;TZID=America/New_York:20181014T130000
DTEND;TZID=America/New_York:20181014T140000
DTSTAMP:20260420T083356
CREATED:20171202T214450Z
LAST-MODIFIED:20171220T165835Z
UID:37614-1539522000-1539525600@www.14streety.org
SUMMARY:Zumba with Celeste | Studio A&B
DESCRIPTION:Zumba is a mix of different styles of dance with latin twist mixed with moderate to high cardio moves and high energy. It gives you a great workout while having fun (and you don’t need to have any dance experience). \nPLEASE NOTE: All equipment provided. Classes are free for members except where indicated ($). Non-Members can attend with purchase of a Day Pass. Non-Members can attend Mommy & Me classes with purchase of a 5-class Punch Card. See Service Desk for details. Classes are subject to change without notice.
URL:https://www.14streety.org/event/zumba-celeste-studio-ab/2018-10-14/
END:VEVENT
BEGIN:VEVENT
DTSTART;TZID=America/New_York:20181014T130000
DTEND;TZID=America/New_York:20181014T133000
DTSTAMP:20260420T083356
CREATED:20171217T192700Z
LAST-MODIFIED:20171217T192700Z
UID:59068-1539522000-1539523800@www.14streety.org
SUMMARY:Dolphins
DESCRIPTION:
URL:https://www.14streety.org/event/dolphins/2018-10-14/
END:VEVENT
BEGIN:VEVENT
DTSTART;TZID=America/New_York:20181014T130000
DTEND;TZID=America/New_York:20181014T133000
DTSTAMP:20260420T083356
CREATED:20171217T193329Z
LAST-MODIFIED:20171217T193329Z
UID:59300-1539522000-1539523800@www.14streety.org
SUMMARY:Sharks
DESCRIPTION:
URL:https://www.14streety.org/event/sharks/2018-10-14/
END:VEVENT
BEGIN:VEVENT
DTSTART;TZID=America/New_York:20181014T133000
DTEND;TZID=America/New_York:20181014T140000
DTSTAMP:20260420T083356
CREATED:20171217T180138Z
LAST-MODIFIED:20171218T105905Z
UID:56772-1539523800-1539525600@www.14streety.org
SUMMARY:Baby Belugas
DESCRIPTION:
URL:https://www.14streety.org/event/baby-belugas/2018-10-14/2/
END:VEVENT
BEGIN:VEVENT
DTSTART;TZID=America/New_York:20181014T171500
DTEND;TZID=America/New_York:20181014T183000
DTSTAMP:20260420T083356
CREATED:20171202T230641Z
LAST-MODIFIED:20171217T202716Z
UID:40629-1539537300-1539541800@www.14streety.org
SUMMARY:Barre with Sheila | Studio A&B
DESCRIPTION:Dance exercises increase strength\, balance\, coordination\, and works all major muscle groups. Get your mind & body conditioned. Class uses modern and ballet principles- mat work\, barre work & center floor exercises. Please note: this class will be on hiatus in July and August and return in September after Labor Day. \nPLEASE NOTE: All equipment provided. Classes are free for members except where indicated ($). Non-Members can attend with purchase of a Day Pass. Non-Members can attend Mommy & Me classes with purchase of a 5-class Punch Card. See Service Desk for details. Classes are subject to change without notice.
URL:https://www.14streety.org/event/barre-sheila-studio-ab-2018-10-14/
END:VEVENT
END:VCALENDAR