BEGIN:VCALENDAR
VERSION:2.0
PRODID:-//14th Street Y - ECPv5.5.0.1//NONSGML v1.0//EN
CALSCALE:GREGORIAN
METHOD:PUBLISH
X-WR-CALNAME:14th Street Y
X-ORIGINAL-URL:https://www.14streety.org
X-WR-CALDESC:Events for 14th Street Y
BEGIN:VTIMEZONE
TZID:America/New_York
BEGIN:DAYLIGHT
TZOFFSETFROM:-0500
TZOFFSETTO:-0400
TZNAME:EDT
DTSTART:20180311T070000
END:DAYLIGHT
BEGIN:STANDARD
TZOFFSETFROM:-0400
TZOFFSETTO:-0500
TZNAME:EST
DTSTART:20181104T060000
END:STANDARD
END:VTIMEZONE
BEGIN:VEVENT
DTSTART;TZID=America/New_York:20181013T090000
DTEND;TZID=America/New_York:20181013T093000
DTSTAMP:20260420T184941
CREATED:20171217T180138Z
LAST-MODIFIED:20171218T105904Z
UID:56769-1539421200-1539423000@www.14streety.org
SUMMARY:Baby Belugas
DESCRIPTION:
URL:https://www.14streety.org/event/baby-belugas/2018-10-13/
END:VEVENT
BEGIN:VEVENT
DTSTART;TZID=America/New_York:20181013T100000
DTEND;TZID=America/New_York:20181013T103000
DTSTAMP:20260420T184941
CREATED:20171217T180831Z
LAST-MODIFIED:20171218T075858Z
UID:57636-1539424800-1539426600@www.14streety.org
SUMMARY:Big Fish
DESCRIPTION:
URL:https://www.14streety.org/event/big-fish/2018-10-13/
END:VEVENT
BEGIN:VEVENT
DTSTART;TZID=America/New_York:20181013T113000
DTEND;TZID=America/New_York:20181013T120000
DTSTAMP:20260420T184941
CREATED:20171217T180831Z
LAST-MODIFIED:20171218T075858Z
UID:57637-1539430200-1539432000@www.14streety.org
SUMMARY:Big Fish
DESCRIPTION:
URL:https://www.14streety.org/event/big-fish/2018-10-13/2/
END:VEVENT
BEGIN:VEVENT
DTSTART;TZID=America/New_York:20181013T123000
DTEND;TZID=America/New_York:20181013T130000
DTSTAMP:20260420T184941
CREATED:20171217T181724Z
LAST-MODIFIED:20171218T035844Z
UID:58258-1539433800-1539435600@www.14streety.org
SUMMARY:Tadpoles
DESCRIPTION:
URL:https://www.14streety.org/event/tadpoles/2018-10-13/
END:VEVENT
BEGIN:VEVENT
DTSTART;TZID=America/New_York:20181013T133000
DTEND;TZID=America/New_York:20181013T140000
DTSTAMP:20260420T184941
CREATED:20171217T180138Z
LAST-MODIFIED:20171218T105904Z
UID:56770-1539437400-1539439200@www.14streety.org
SUMMARY:Baby Belugas
DESCRIPTION:
URL:https://www.14streety.org/event/baby-belugas/2018-10-13/2/
END:VEVENT
BEGIN:VEVENT
DTSTART;TZID=America/New_York:20181013T140000
DTEND;TZID=America/New_York:20181013T150000
DTSTAMP:20260420T184941
CREATED:20180928T161427Z
LAST-MODIFIED:20180928T162224Z
UID:78246-1539439200-1539442800@www.14streety.org
SUMMARY:Pilates for Strong Bones with Chintamani
DESCRIPTION:A terrific Pilates workout for all bodies\, and safe for anyone diagnosed with osteoporosis or osteopenia. You must be able to get down and up off the floor to participate. \nFree for 14Y Members; Community members can purchase a $25 day pass to attend.
URL:https://www.14streety.org/event/pilates-for-strong-bones-with-chintamani/
ATTACH;FMTTYPE=image/png:https://www.14streety.org/wp-content/uploads/2018/09/Pilates-for-strong-bones.png
END:VEVENT
BEGIN:VEVENT
DTSTART;TZID=America/New_York:20181013T160000
DTEND;TZID=America/New_York:20181013T163000
DTSTAMP:20260420T184941
CREATED:20171217T194017Z
LAST-MODIFIED:20171217T194017Z
UID:61355-1539446400-1539448200@www.14streety.org
SUMMARY:Special Needs
DESCRIPTION:
URL:https://www.14streety.org/event/special-needs/2018-10-13/
END:VEVENT
BEGIN:VEVENT
DTSTART;TZID=America/New_York:20181013T163000
DTEND;TZID=America/New_York:20181013T170000
DTSTAMP:20260420T184941
CREATED:20171217T194017Z
LAST-MODIFIED:20171217T194017Z
UID:61356-1539448200-1539450000@www.14streety.org
SUMMARY:Special Needs
DESCRIPTION:
URL:https://www.14streety.org/event/special-needs/2018-10-13/2/
END:VEVENT
END:VCALENDAR