BEGIN:VCALENDAR
VERSION:2.0
PRODID:-//14th Street Y - ECPv5.5.0.1//NONSGML v1.0//EN
CALSCALE:GREGORIAN
METHOD:PUBLISH
X-WR-CALNAME:14th Street Y
X-ORIGINAL-URL:https://www.14streety.org
X-WR-CALDESC:Events for 14th Street Y
BEGIN:VTIMEZONE
TZID:America/New_York
BEGIN:DAYLIGHT
TZOFFSETFROM:-0500
TZOFFSETTO:-0400
TZNAME:EDT
DTSTART:20180311T070000
END:DAYLIGHT
BEGIN:STANDARD
TZOFFSETFROM:-0400
TZOFFSETTO:-0500
TZNAME:EST
DTSTART:20181104T060000
END:STANDARD
END:VTIMEZONE
BEGIN:VEVENT
DTSTART;TZID=America/New_York:20181010T100000
DTEND;TZID=America/New_York:20181010T140000
DTSTAMP:20260420T051215
CREATED:20180928T155019Z
LAST-MODIFIED:20181002T211610Z
UID:78232-1539165600-1539180000@www.14streety.org
SUMMARY:Free Flu Shots with Mount Sinai
DESCRIPTION:Mount Sinai will be offering free flu shots to our downtown community on Wednesday\, October 10 from 10:00 AM – 2:00 PM.  \nPlease sign up for an appointment at the Service Desk\, which are being booked on a first come\, first serve basis. 
URL:https://www.14streety.org/event/free-flu-shots-with-mount-sinai/
CATEGORIES:Community Events
ATTACH;FMTTYPE=image/png:https://www.14streety.org/wp-content/uploads/2018/09/Flu-Shots.png
END:VEVENT
BEGIN:VEVENT
DTSTART;TZID=America/New_York:20181010T143000
DTEND;TZID=America/New_York:20181010T150000
DTSTAMP:20260420T051215
CREATED:20171217T180138Z
LAST-MODIFIED:20171218T105902Z
UID:56766-1539181800-1539183600@www.14streety.org
SUMMARY:Baby Belugas
DESCRIPTION:
URL:https://www.14streety.org/event/baby-belugas/2018-10-10/
END:VEVENT
BEGIN:VEVENT
DTSTART;TZID=America/New_York:20181010T143000
DTEND;TZID=America/New_York:20181010T150000
DTSTAMP:20260420T051215
CREATED:20171217T180831Z
LAST-MODIFIED:20171218T075857Z
UID:57633-1539181800-1539183600@www.14streety.org
SUMMARY:Big Fish
DESCRIPTION:
URL:https://www.14streety.org/event/big-fish/2018-10-10/
END:VEVENT
BEGIN:VEVENT
DTSTART;TZID=America/New_York:20181010T150000
DTEND;TZID=America/New_York:20181010T153000
DTSTAMP:20260420T051215
CREATED:20171217T180438Z
LAST-MODIFIED:20171218T095941Z
UID:55716-1539183600-1539185400@www.14streety.org
SUMMARY:Little Dippers
DESCRIPTION:
URL:https://www.14streety.org/event/little-dippers/2018-10-10/
END:VEVENT
BEGIN:VEVENT
DTSTART;TZID=America/New_York:20181010T153000
DTEND;TZID=America/New_York:20181010T160000
DTSTAMP:20260420T051215
CREATED:20171217T181724Z
LAST-MODIFIED:20171218T035843Z
UID:58255-1539185400-1539187200@www.14streety.org
SUMMARY:Tadpoles
DESCRIPTION:
URL:https://www.14streety.org/event/tadpoles/2018-10-10/
END:VEVENT
BEGIN:VEVENT
DTSTART;TZID=America/New_York:20181010T153000
DTEND;TZID=America/New_York:20181010T160000
DTSTAMP:20260420T051215
CREATED:20171217T183615Z
LAST-MODIFIED:20171217T183615Z
UID:56260-1539185400-1539187200@www.14streety.org
SUMMARY:Sea Horses
DESCRIPTION:
URL:https://www.14streety.org/event/sea-horses/2018-10-10/
END:VEVENT
BEGIN:VEVENT
DTSTART;TZID=America/New_York:20181010T160000
DTEND;TZID=America/New_York:20181010T163000
DTSTAMP:20260420T051215
CREATED:20171217T183615Z
LAST-MODIFIED:20171217T183615Z
UID:56261-1539187200-1539189000@www.14streety.org
SUMMARY:Sea Horses
DESCRIPTION:
URL:https://www.14streety.org/event/sea-horses/2018-10-10/2/
END:VEVENT
BEGIN:VEVENT
DTSTART;TZID=America/New_York:20181010T160000
DTEND;TZID=America/New_York:20181010T163000
DTSTAMP:20260420T051215
CREATED:20171217T192243Z
LAST-MODIFIED:20171217T192243Z
UID:61722-1539187200-1539189000@www.14streety.org
SUMMARY:Otters
DESCRIPTION:
URL:https://www.14streety.org/event/otters/2018-10-10/
END:VEVENT
END:VCALENDAR