BEGIN:VCALENDAR
VERSION:2.0
PRODID:-//14th Street Y - ECPv5.5.0.1//NONSGML v1.0//EN
CALSCALE:GREGORIAN
METHOD:PUBLISH
X-WR-CALNAME:14th Street Y
X-ORIGINAL-URL:https://www.14streety.org
X-WR-CALDESC:Events for 14th Street Y
BEGIN:VTIMEZONE
TZID:America/New_York
BEGIN:DAYLIGHT
TZOFFSETFROM:-0500
TZOFFSETTO:-0400
TZNAME:EDT
DTSTART:20180311T070000
END:DAYLIGHT
BEGIN:STANDARD
TZOFFSETFROM:-0400
TZOFFSETTO:-0500
TZNAME:EST
DTSTART:20181104T060000
END:STANDARD
END:VTIMEZONE
BEGIN:VEVENT
DTSTART;TZID=America/New_York:20181006T090000
DTEND;TZID=America/New_York:20181006T093000
DTSTAMP:20260420T083458
CREATED:20171217T180138Z
LAST-MODIFIED:20171218T105900Z
UID:56760-1538816400-1538818200@www.14streety.org
SUMMARY:Baby Belugas
DESCRIPTION:
URL:https://www.14streety.org/event/baby-belugas/2018-10-06/
END:VEVENT
BEGIN:VEVENT
DTSTART;TZID=America/New_York:20181006T100000
DTEND;TZID=America/New_York:20181006T103000
DTSTAMP:20260420T083458
CREATED:20171217T180831Z
LAST-MODIFIED:20171218T075855Z
UID:57629-1538820000-1538821800@www.14streety.org
SUMMARY:Big Fish
DESCRIPTION:
URL:https://www.14streety.org/event/big-fish/2018-10-06/
END:VEVENT
BEGIN:VEVENT
DTSTART;TZID=America/New_York:20181006T113000
DTEND;TZID=America/New_York:20181006T120000
DTSTAMP:20260420T083458
CREATED:20171217T180831Z
LAST-MODIFIED:20171218T075856Z
UID:57630-1538825400-1538827200@www.14streety.org
SUMMARY:Big Fish
DESCRIPTION:
URL:https://www.14streety.org/event/big-fish/2018-10-06/2/
END:VEVENT
BEGIN:VEVENT
DTSTART;TZID=America/New_York:20181006T123000
DTEND;TZID=America/New_York:20181006T130000
DTSTAMP:20260420T083458
CREATED:20171217T181724Z
LAST-MODIFIED:20171218T035840Z
UID:58247-1538829000-1538830800@www.14streety.org
SUMMARY:Tadpoles
DESCRIPTION:
URL:https://www.14streety.org/event/tadpoles/2018-10-06/
END:VEVENT
BEGIN:VEVENT
DTSTART;TZID=America/New_York:20181006T133000
DTEND;TZID=America/New_York:20181006T140000
DTSTAMP:20260420T083458
CREATED:20171217T180138Z
LAST-MODIFIED:20171218T105900Z
UID:56761-1538832600-1538834400@www.14streety.org
SUMMARY:Baby Belugas
DESCRIPTION:
URL:https://www.14streety.org/event/baby-belugas/2018-10-06/2/
END:VEVENT
BEGIN:VEVENT
DTSTART;TZID=America/New_York:20181006T160000
DTEND;TZID=America/New_York:20181006T163000
DTSTAMP:20260420T083458
CREATED:20171217T194017Z
LAST-MODIFIED:20171217T194017Z
UID:61352-1538841600-1538843400@www.14streety.org
SUMMARY:Special Needs
DESCRIPTION:
URL:https://www.14streety.org/event/special-needs/2018-10-06/
END:VEVENT
BEGIN:VEVENT
DTSTART;TZID=America/New_York:20181006T163000
DTEND;TZID=America/New_York:20181006T170000
DTSTAMP:20260420T083458
CREATED:20171217T194017Z
LAST-MODIFIED:20171217T194017Z
UID:61353-1538843400-1538845200@www.14streety.org
SUMMARY:Special Needs
DESCRIPTION:
URL:https://www.14streety.org/event/special-needs/2018-10-06/2/
END:VEVENT
END:VCALENDAR