BEGIN:VCALENDAR
VERSION:2.0
PRODID:-//14th Street Y - ECPv5.5.0.1//NONSGML v1.0//EN
CALSCALE:GREGORIAN
METHOD:PUBLISH
X-WR-CALNAME:14th Street Y
X-ORIGINAL-URL:https://www.14streety.org
X-WR-CALDESC:Events for 14th Street Y
BEGIN:VTIMEZONE
TZID:America/New_York
BEGIN:DAYLIGHT
TZOFFSETFROM:-0500
TZOFFSETTO:-0400
TZNAME:EDT
DTSTART:20180311T070000
END:DAYLIGHT
BEGIN:STANDARD
TZOFFSETFROM:-0400
TZOFFSETTO:-0500
TZNAME:EST
DTSTART:20181104T060000
END:STANDARD
END:VTIMEZONE
BEGIN:VEVENT
DTSTART;TZID=America/New_York:20180930T090000
DTEND;TZID=America/New_York:20180930T093000
DTSTAMP:20260420T101556
CREATED:20171217T180138Z
LAST-MODIFIED:20171218T105857Z
UID:56753-1538298000-1538299800@www.14streety.org
SUMMARY:Baby Belugas
DESCRIPTION:
URL:https://www.14streety.org/event/baby-belugas/2018-09-30/
END:VEVENT
BEGIN:VEVENT
DTSTART;TZID=America/New_York:20180930T100000
DTEND;TZID=America/New_York:20180930T103000
DTSTAMP:20260420T101556
CREATED:20171217T180831Z
LAST-MODIFIED:20171218T075853Z
UID:57624-1538301600-1538303400@www.14streety.org
SUMMARY:Big Fish
DESCRIPTION:
URL:https://www.14streety.org/event/big-fish/2018-09-30/
END:VEVENT
BEGIN:VEVENT
DTSTART;TZID=America/New_York:20180930T100000
DTEND;TZID=America/New_York:20180930T113000
DTSTAMP:20260420T101556
CREATED:20171217T202019Z
LAST-MODIFIED:20171217T202019Z
UID:60395-1538301600-1538307000@www.14streety.org
SUMMARY:Vinyasa Yoga with Lorrie I Studio A&B
DESCRIPTION:
URL:https://www.14streety.org/event/vinyasa-yoga-lorrie-studio-ab-2018-09-30/
END:VEVENT
BEGIN:VEVENT
DTSTART;TZID=America/New_York:20180930T120000
DTEND;TZID=America/New_York:20180930T123000
DTSTAMP:20260420T101556
CREATED:20171217T181724Z
LAST-MODIFIED:20171218T035837Z
UID:58237-1538308800-1538310600@www.14streety.org
SUMMARY:Tadpoles
DESCRIPTION:
URL:https://www.14streety.org/event/tadpoles/2018-09-30/
END:VEVENT
BEGIN:VEVENT
DTSTART;TZID=America/New_York:20180930T120000
DTEND;TZID=America/New_York:20180930T123000
DTSTAMP:20260420T101556
CREATED:20171217T192243Z
LAST-MODIFIED:20171217T192243Z
UID:61713-1538308800-1538310600@www.14streety.org
SUMMARY:Otters
DESCRIPTION:
URL:https://www.14streety.org/event/otters/2018-09-30/
END:VEVENT
BEGIN:VEVENT
DTSTART;TZID=America/New_York:20180930T123000
DTEND;TZID=America/New_York:20180930T130000
DTSTAMP:20260420T101556
CREATED:20171217T181724Z
LAST-MODIFIED:20171218T035837Z
UID:58238-1538310600-1538312400@www.14streety.org
SUMMARY:Tadpoles
DESCRIPTION:
URL:https://www.14streety.org/event/tadpoles/2018-09-30/
END:VEVENT
BEGIN:VEVENT
DTSTART;TZID=America/New_York:20180930T123000
DTEND;TZID=America/New_York:20180930T130000
DTSTAMP:20260420T101556
CREATED:20171217T192243Z
LAST-MODIFIED:20171217T192243Z
UID:61714-1538310600-1538312400@www.14streety.org
SUMMARY:Otters
DESCRIPTION:
URL:https://www.14streety.org/event/otters/2018-09-30/2/
END:VEVENT
BEGIN:VEVENT
DTSTART;TZID=America/New_York:20180930T130000
DTEND;TZID=America/New_York:20180930T140000
DTSTAMP:20260420T101556
CREATED:20171202T214450Z
LAST-MODIFIED:20171220T165834Z
UID:37612-1538312400-1538316000@www.14streety.org
SUMMARY:Zumba with Celeste | Studio A&B
DESCRIPTION:Zumba is a mix of different styles of dance with latin twist mixed with moderate to high cardio moves and high energy. It gives you a great workout while having fun (and you don’t need to have any dance experience). \nPLEASE NOTE: All equipment provided. Classes are free for members except where indicated ($). Non-Members can attend with purchase of a Day Pass. Non-Members can attend Mommy & Me classes with purchase of a 5-class Punch Card. See Service Desk for details. Classes are subject to change without notice.
URL:https://www.14streety.org/event/zumba-celeste-studio-ab/2018-09-30/
END:VEVENT
BEGIN:VEVENT
DTSTART;TZID=America/New_York:20180930T130000
DTEND;TZID=America/New_York:20180930T133000
DTSTAMP:20260420T101556
CREATED:20171217T192700Z
LAST-MODIFIED:20171217T192700Z
UID:59064-1538312400-1538314200@www.14streety.org
SUMMARY:Dolphins
DESCRIPTION:
URL:https://www.14streety.org/event/dolphins/2018-09-30/
END:VEVENT
BEGIN:VEVENT
DTSTART;TZID=America/New_York:20180930T130000
DTEND;TZID=America/New_York:20180930T133000
DTSTAMP:20260420T101556
CREATED:20171217T193329Z
LAST-MODIFIED:20171217T193329Z
UID:59296-1538312400-1538314200@www.14streety.org
SUMMARY:Sharks
DESCRIPTION:
URL:https://www.14streety.org/event/sharks/2018-09-30/
END:VEVENT
BEGIN:VEVENT
DTSTART;TZID=America/New_York:20180930T133000
DTEND;TZID=America/New_York:20180930T140000
DTSTAMP:20260420T101556
CREATED:20171217T180138Z
LAST-MODIFIED:20171218T105858Z
UID:56754-1538314200-1538316000@www.14streety.org
SUMMARY:Baby Belugas
DESCRIPTION:
URL:https://www.14streety.org/event/baby-belugas/2018-09-30/2/
END:VEVENT
BEGIN:VEVENT
DTSTART;TZID=America/New_York:20180930T141500
DTEND;TZID=America/New_York:20180930T151500
DTSTAMP:20260420T101556
CREATED:20180926T141803Z
LAST-MODIFIED:20180926T143812Z
UID:78189-1538316900-1538320500@www.14streety.org
SUMMARY:Flow and Flair: Flagging Fitness Workshop
DESCRIPTION:A fun workshop using dance\, fitness\, and flagging. Appropriate for all levels and beneficial for people with limited mobility. \nFree and open to anyone. Please register below to attend. 
URL:https://www.14streety.org/event/flagging-fitness-workshop/
ATTACH;FMTTYPE=image/png:https://www.14streety.org/wp-content/uploads/2018/09/Flagging-Hero.png
END:VEVENT
BEGIN:VEVENT
DTSTART;TZID=America/New_York:20180930T171500
DTEND;TZID=America/New_York:20180930T183000
DTSTAMP:20260420T101556
CREATED:20171202T230641Z
LAST-MODIFIED:20171217T202715Z
UID:40627-1538327700-1538332200@www.14streety.org
SUMMARY:Barre with Sheila | Studio A&B
DESCRIPTION:Dance exercises increase strength\, balance\, coordination\, and works all major muscle groups. Get your mind & body conditioned. Class uses modern and ballet principles- mat work\, barre work & center floor exercises. Please note: this class will be on hiatus in July and August and return in September after Labor Day. \nPLEASE NOTE: All equipment provided. Classes are free for members except where indicated ($). Non-Members can attend with purchase of a Day Pass. Non-Members can attend Mommy & Me classes with purchase of a 5-class Punch Card. See Service Desk for details. Classes are subject to change without notice.
URL:https://www.14streety.org/event/barre-sheila-studio-ab-2018-09-30/
END:VEVENT
END:VCALENDAR