BEGIN:VCALENDAR
VERSION:2.0
PRODID:-//14th Street Y - ECPv5.5.0.1//NONSGML v1.0//EN
CALSCALE:GREGORIAN
METHOD:PUBLISH
X-WR-CALNAME:14th Street Y
X-ORIGINAL-URL:https://www.14streety.org
X-WR-CALDESC:Events for 14th Street Y
BEGIN:VTIMEZONE
TZID:America/New_York
BEGIN:DAYLIGHT
TZOFFSETFROM:-0500
TZOFFSETTO:-0400
TZNAME:EDT
DTSTART:20180311T070000
END:DAYLIGHT
BEGIN:STANDARD
TZOFFSETFROM:-0400
TZOFFSETTO:-0500
TZNAME:EST
DTSTART:20181104T060000
END:STANDARD
END:VTIMEZONE
BEGIN:VEVENT
DTSTART;TZID=America/New_York:20180927T090000
DTEND;TZID=America/New_York:20180927T093000
DTSTAMP:20260420T222022
CREATED:20171217T180138Z
LAST-MODIFIED:20171218T105856Z
UID:56749-1538038800-1538040600@www.14streety.org
SUMMARY:Baby Belugas
DESCRIPTION:
URL:https://www.14streety.org/event/baby-belugas/2018-09-27/
END:VEVENT
BEGIN:VEVENT
DTSTART;TZID=America/New_York:20180927T100000
DTEND;TZID=America/New_York:20180927T103000
DTSTAMP:20260420T222022
CREATED:20171217T180831Z
LAST-MODIFIED:20171218T075852Z
UID:57620-1538042400-1538044200@www.14streety.org
SUMMARY:Big Fish
DESCRIPTION:
URL:https://www.14streety.org/event/big-fish/2018-09-27/
END:VEVENT
BEGIN:VEVENT
DTSTART;TZID=America/New_York:20180927T120000
DTEND;TZID=America/New_York:20180927T123000
DTSTAMP:20260420T222022
CREATED:20171217T192243Z
LAST-MODIFIED:20171217T192243Z
UID:61711-1538049600-1538051400@www.14streety.org
SUMMARY:Otters
DESCRIPTION:
URL:https://www.14streety.org/event/otters/2018-09-27/
END:VEVENT
BEGIN:VEVENT
DTSTART;TZID=America/New_York:20180927T150000
DTEND;TZID=America/New_York:20180927T153000
DTSTAMP:20260420T222022
CREATED:20171217T181724Z
LAST-MODIFIED:20171218T035835Z
UID:58234-1538060400-1538062200@www.14streety.org
SUMMARY:Tadpoles
DESCRIPTION:
URL:https://www.14streety.org/event/tadpoles/2018-09-27/
END:VEVENT
BEGIN:VEVENT
DTSTART;TZID=America/New_York:20180927T153000
DTEND;TZID=America/New_York:20180927T160000
DTSTAMP:20260420T222022
CREATED:20171217T183615Z
LAST-MODIFIED:20171217T183615Z
UID:56250-1538062200-1538064000@www.14streety.org
SUMMARY:Sea Horses
DESCRIPTION:
URL:https://www.14streety.org/event/sea-horses/2018-09-27/
END:VEVENT
BEGIN:VEVENT
DTSTART;TZID=America/New_York:20180927T153000
DTEND;TZID=America/New_York:20180927T160000
DTSTAMP:20260420T222022
CREATED:20171217T192243Z
LAST-MODIFIED:20171217T192243Z
UID:61712-1538062200-1538064000@www.14streety.org
SUMMARY:Otters
DESCRIPTION:
URL:https://www.14streety.org/event/otters/2018-09-27/2/
END:VEVENT
BEGIN:VEVENT
DTSTART;TZID=America/New_York:20180927T160000
DTEND;TZID=America/New_York:20180927T163000
DTSTAMP:20260420T222022
CREATED:20171217T192700Z
LAST-MODIFIED:20171217T192700Z
UID:59063-1538064000-1538065800@www.14streety.org
SUMMARY:Dolphins
DESCRIPTION:
URL:https://www.14streety.org/event/dolphins/2018-09-27/
END:VEVENT
BEGIN:VEVENT
DTSTART;TZID=America/New_York:20180927T160000
DTEND;TZID=America/New_York:20180927T163000
DTSTAMP:20260420T222022
CREATED:20171217T193329Z
LAST-MODIFIED:20171217T193329Z
UID:59295-1538064000-1538065800@www.14streety.org
SUMMARY:Sharks
DESCRIPTION:
URL:https://www.14streety.org/event/sharks/2018-09-27/
END:VEVENT
END:VCALENDAR