BEGIN:VCALENDAR
VERSION:2.0
PRODID:-//14th Street Y - ECPv5.5.0.1//NONSGML v1.0//EN
CALSCALE:GREGORIAN
METHOD:PUBLISH
X-WR-CALNAME:14th Street Y
X-ORIGINAL-URL:https://www.14streety.org
X-WR-CALDESC:Events for 14th Street Y
BEGIN:VTIMEZONE
TZID:America/New_York
BEGIN:DAYLIGHT
TZOFFSETFROM:-0500
TZOFFSETTO:-0400
TZNAME:EDT
DTSTART:20180311T070000
END:DAYLIGHT
BEGIN:STANDARD
TZOFFSETFROM:-0400
TZOFFSETTO:-0500
TZNAME:EST
DTSTART:20181104T060000
END:STANDARD
END:VTIMEZONE
BEGIN:VEVENT
DTSTART;TZID=America/New_York:20180923T090000
DTEND;TZID=America/New_York:20180923T093000
DTSTAMP:20260421T071837
CREATED:20171217T180138Z
LAST-MODIFIED:20171218T105854Z
UID:56744-1537693200-1537695000@www.14streety.org
SUMMARY:Baby Belugas
DESCRIPTION:
URL:https://www.14streety.org/event/baby-belugas/2018-09-23/
END:VEVENT
BEGIN:VEVENT
DTSTART;TZID=America/New_York:20180923T100000
DTEND;TZID=America/New_York:20180923T103000
DTSTAMP:20260421T071837
CREATED:20171217T180831Z
LAST-MODIFIED:20171218T075851Z
UID:57617-1537696800-1537698600@www.14streety.org
SUMMARY:Big Fish
DESCRIPTION:
URL:https://www.14streety.org/event/big-fish/2018-09-23/
END:VEVENT
BEGIN:VEVENT
DTSTART;TZID=America/New_York:20180923T100000
DTEND;TZID=America/New_York:20180923T113000
DTSTAMP:20260421T071837
CREATED:20171217T202019Z
LAST-MODIFIED:20171217T202019Z
UID:60394-1537696800-1537702200@www.14streety.org
SUMMARY:Vinyasa Yoga with Lorrie I Studio A&B
DESCRIPTION:
URL:https://www.14streety.org/event/vinyasa-yoga-lorrie-studio-ab-2018-09-23/
END:VEVENT
BEGIN:VEVENT
DTSTART;TZID=America/New_York:20180923T120000
DTEND;TZID=America/New_York:20180923T123000
DTSTAMP:20260421T071837
CREATED:20171217T181724Z
LAST-MODIFIED:20171218T035832Z
UID:58226-1537704000-1537705800@www.14streety.org
SUMMARY:Tadpoles
DESCRIPTION:
URL:https://www.14streety.org/event/tadpoles/2018-09-23/
END:VEVENT
BEGIN:VEVENT
DTSTART;TZID=America/New_York:20180923T120000
DTEND;TZID=America/New_York:20180923T123000
DTSTAMP:20260421T071837
CREATED:20171217T192243Z
LAST-MODIFIED:20171217T192243Z
UID:61707-1537704000-1537705800@www.14streety.org
SUMMARY:Otters
DESCRIPTION:
URL:https://www.14streety.org/event/otters/2018-09-23/
END:VEVENT
BEGIN:VEVENT
DTSTART;TZID=America/New_York:20180923T123000
DTEND;TZID=America/New_York:20180923T130000
DTSTAMP:20260421T071837
CREATED:20171217T181724Z
LAST-MODIFIED:20171218T035833Z
UID:58227-1537705800-1537707600@www.14streety.org
SUMMARY:Tadpoles
DESCRIPTION:
URL:https://www.14streety.org/event/tadpoles/2018-09-23/2/
END:VEVENT
BEGIN:VEVENT
DTSTART;TZID=America/New_York:20180923T123000
DTEND;TZID=America/New_York:20180923T130000
DTSTAMP:20260421T071837
CREATED:20171217T192243Z
LAST-MODIFIED:20171217T192243Z
UID:61708-1537705800-1537707600@www.14streety.org
SUMMARY:Otters
DESCRIPTION:
URL:https://www.14streety.org/event/otters/2018-09-23/2/
END:VEVENT
BEGIN:VEVENT
DTSTART;TZID=America/New_York:20180923T130000
DTEND;TZID=America/New_York:20180923T140000
DTSTAMP:20260421T071837
CREATED:20171202T214450Z
LAST-MODIFIED:20171220T165834Z
UID:37611-1537707600-1537711200@www.14streety.org
SUMMARY:Zumba with Celeste | Studio A&B
DESCRIPTION:Zumba is a mix of different styles of dance with latin twist mixed with moderate to high cardio moves and high energy. It gives you a great workout while having fun (and you don’t need to have any dance experience). \nPLEASE NOTE: All equipment provided. Classes are free for members except where indicated ($). Non-Members can attend with purchase of a Day Pass. Non-Members can attend Mommy & Me classes with purchase of a 5-class Punch Card. See Service Desk for details. Classes are subject to change without notice.
URL:https://www.14streety.org/event/zumba-celeste-studio-ab/2018-09-23/
END:VEVENT
BEGIN:VEVENT
DTSTART;TZID=America/New_York:20180923T130000
DTEND;TZID=America/New_York:20180923T133000
DTSTAMP:20260421T071837
CREATED:20171217T192700Z
LAST-MODIFIED:20171217T192700Z
UID:59062-1537707600-1537709400@www.14streety.org
SUMMARY:Dolphins
DESCRIPTION:
URL:https://www.14streety.org/event/dolphins/2018-09-23/
END:VEVENT
BEGIN:VEVENT
DTSTART;TZID=America/New_York:20180923T130000
DTEND;TZID=America/New_York:20180923T133000
DTSTAMP:20260421T071837
CREATED:20171217T193329Z
LAST-MODIFIED:20171217T193329Z
UID:59294-1537707600-1537709400@www.14streety.org
SUMMARY:Sharks
DESCRIPTION:
URL:https://www.14streety.org/event/sharks/2018-09-23/
END:VEVENT
BEGIN:VEVENT
DTSTART;TZID=America/New_York:20180923T133000
DTEND;TZID=America/New_York:20180923T140000
DTSTAMP:20260421T071837
CREATED:20171217T180138Z
LAST-MODIFIED:20171218T105854Z
UID:56745-1537709400-1537711200@www.14streety.org
SUMMARY:Baby Belugas
DESCRIPTION:
URL:https://www.14streety.org/event/baby-belugas/2018-09-23/2/
END:VEVENT
BEGIN:VEVENT
DTSTART;TZID=America/New_York:20180923T171500
DTEND;TZID=America/New_York:20180923T183000
DTSTAMP:20260421T071837
CREATED:20171202T230641Z
LAST-MODIFIED:20171217T202714Z
UID:40626-1537722900-1537727400@www.14streety.org
SUMMARY:Barre with Sheila | Studio A&B
DESCRIPTION:Dance exercises increase strength\, balance\, coordination\, and works all major muscle groups. Get your mind & body conditioned. Class uses modern and ballet principles- mat work\, barre work & center floor exercises. Please note: this class will be on hiatus in July and August and return in September after Labor Day. \nPLEASE NOTE: All equipment provided. Classes are free for members except where indicated ($). Non-Members can attend with purchase of a Day Pass. Non-Members can attend Mommy & Me classes with purchase of a 5-class Punch Card. See Service Desk for details. Classes are subject to change without notice.
URL:https://www.14streety.org/event/barre-sheila-studio-ab-2018-09-23/
END:VEVENT
END:VCALENDAR