BEGIN:VCALENDAR
VERSION:2.0
PRODID:-//14th Street Y - ECPv5.5.0.1//NONSGML v1.0//EN
CALSCALE:GREGORIAN
METHOD:PUBLISH
X-WR-CALNAME:14th Street Y
X-ORIGINAL-URL:https://www.14streety.org
X-WR-CALDESC:Events for 14th Street Y
BEGIN:VTIMEZONE
TZID:America/New_York
BEGIN:DAYLIGHT
TZOFFSETFROM:-0500
TZOFFSETTO:-0400
TZNAME:EDT
DTSTART:20180311T070000
END:DAYLIGHT
BEGIN:STANDARD
TZOFFSETFROM:-0400
TZOFFSETTO:-0500
TZNAME:EST
DTSTART:20181104T060000
END:STANDARD
END:VTIMEZONE
BEGIN:VEVENT
DTSTART;TZID=America/New_York:20180920T090000
DTEND;TZID=America/New_York:20180920T093000
DTSTAMP:20260422T035805
CREATED:20171217T180138Z
LAST-MODIFIED:20171218T105852Z
UID:56740-1537434000-1537435800@www.14streety.org
SUMMARY:Baby Belugas
DESCRIPTION:
URL:https://www.14streety.org/event/baby-belugas/2018-09-20/
END:VEVENT
BEGIN:VEVENT
DTSTART;TZID=America/New_York:20180920T100000
DTEND;TZID=America/New_York:20180920T103000
DTSTAMP:20260422T035805
CREATED:20171217T180831Z
LAST-MODIFIED:20171218T075849Z
UID:57613-1537437600-1537439400@www.14streety.org
SUMMARY:Big Fish
DESCRIPTION:
URL:https://www.14streety.org/event/big-fish/2018-09-20/
END:VEVENT
BEGIN:VEVENT
DTSTART;TZID=America/New_York:20180920T120000
DTEND;TZID=America/New_York:20180920T123000
DTSTAMP:20260422T035805
CREATED:20171217T192243Z
LAST-MODIFIED:20171217T192243Z
UID:61705-1537444800-1537446600@www.14streety.org
SUMMARY:Otters
DESCRIPTION:
URL:https://www.14streety.org/event/otters/2018-09-20/
END:VEVENT
BEGIN:VEVENT
DTSTART;TZID=America/New_York:20180920T150000
DTEND;TZID=America/New_York:20180920T153000
DTSTAMP:20260422T035805
CREATED:20171217T181724Z
LAST-MODIFIED:20171218T035831Z
UID:58223-1537455600-1537457400@www.14streety.org
SUMMARY:Tadpoles
DESCRIPTION:
URL:https://www.14streety.org/event/tadpoles/2018-09-20/
END:VEVENT
BEGIN:VEVENT
DTSTART;TZID=America/New_York:20180920T153000
DTEND;TZID=America/New_York:20180920T160000
DTSTAMP:20260422T035805
CREATED:20171217T183615Z
LAST-MODIFIED:20171217T183615Z
UID:56244-1537457400-1537459200@www.14streety.org
SUMMARY:Sea Horses
DESCRIPTION:
URL:https://www.14streety.org/event/sea-horses/2018-09-20/
END:VEVENT
BEGIN:VEVENT
DTSTART;TZID=America/New_York:20180920T153000
DTEND;TZID=America/New_York:20180920T160000
DTSTAMP:20260422T035805
CREATED:20171217T192243Z
LAST-MODIFIED:20171217T192243Z
UID:61706-1537457400-1537459200@www.14streety.org
SUMMARY:Otters
DESCRIPTION:
URL:https://www.14streety.org/event/otters/2018-09-20/2/
END:VEVENT
BEGIN:VEVENT
DTSTART;TZID=America/New_York:20180920T160000
DTEND;TZID=America/New_York:20180920T163000
DTSTAMP:20260422T035805
CREATED:20171217T192700Z
LAST-MODIFIED:20171217T192700Z
UID:59061-1537459200-1537461000@www.14streety.org
SUMMARY:Dolphins
DESCRIPTION:
URL:https://www.14streety.org/event/dolphins/2018-09-20/
END:VEVENT
BEGIN:VEVENT
DTSTART;TZID=America/New_York:20180920T160000
DTEND;TZID=America/New_York:20180920T163000
DTSTAMP:20260422T035805
CREATED:20171217T193329Z
LAST-MODIFIED:20171217T193329Z
UID:59293-1537459200-1537461000@www.14streety.org
SUMMARY:Sharks
DESCRIPTION:
URL:https://www.14streety.org/event/sharks/2018-09-20/
END:VEVENT
END:VCALENDAR