BEGIN:VCALENDAR
VERSION:2.0
PRODID:-//14th Street Y - ECPv5.5.0.1//NONSGML v1.0//EN
CALSCALE:GREGORIAN
METHOD:PUBLISH
X-WR-CALNAME:14th Street Y
X-ORIGINAL-URL:https://www.14streety.org
X-WR-CALDESC:Events for 14th Street Y
BEGIN:VTIMEZONE
TZID:America/New_York
BEGIN:DAYLIGHT
TZOFFSETFROM:-0500
TZOFFSETTO:-0400
TZNAME:EDT
DTSTART:20180311T070000
END:DAYLIGHT
BEGIN:STANDARD
TZOFFSETFROM:-0400
TZOFFSETTO:-0500
TZNAME:EST
DTSTART:20181104T060000
END:STANDARD
END:VTIMEZONE
BEGIN:VEVENT
DTSTART;TZID=America/New_York:20180915T090000
DTEND;TZID=America/New_York:20180915T093000
DTSTAMP:20260421T054305
CREATED:20171217T180138Z
LAST-MODIFIED:20171218T105849Z
UID:56733-1537002000-1537003800@www.14streety.org
SUMMARY:Baby Belugas
DESCRIPTION:
URL:https://www.14streety.org/event/baby-belugas/2018-09-15/
END:VEVENT
BEGIN:VEVENT
DTSTART;TZID=America/New_York:20180915T100000
DTEND;TZID=America/New_York:20180915T103000
DTSTAMP:20260421T054305
CREATED:20171217T180831Z
LAST-MODIFIED:20171218T075848Z
UID:57608-1537005600-1537007400@www.14streety.org
SUMMARY:Big Fish
DESCRIPTION:
URL:https://www.14streety.org/event/big-fish/2018-09-15/
END:VEVENT
BEGIN:VEVENT
DTSTART;TZID=America/New_York:20180915T113000
DTEND;TZID=America/New_York:20180915T120000
DTSTAMP:20260421T054305
CREATED:20171217T180831Z
LAST-MODIFIED:20171218T075848Z
UID:57609-1537011000-1537012800@www.14streety.org
SUMMARY:Big Fish
DESCRIPTION:
URL:https://www.14streety.org/event/big-fish/2018-09-15/2/
END:VEVENT
BEGIN:VEVENT
DTSTART;TZID=America/New_York:20180915T123000
DTEND;TZID=America/New_York:20180915T130000
DTSTAMP:20260421T054305
CREATED:20171217T181724Z
LAST-MODIFIED:20171218T032907Z
UID:58214-1537014600-1537016400@www.14streety.org
SUMMARY:Tadpoles
DESCRIPTION:
URL:https://www.14streety.org/event/tadpoles/2018-09-15/
END:VEVENT
BEGIN:VEVENT
DTSTART;TZID=America/New_York:20180915T133000
DTEND;TZID=America/New_York:20180915T140000
DTSTAMP:20260421T054305
CREATED:20171217T180138Z
LAST-MODIFIED:20171218T105850Z
UID:56734-1537018200-1537020000@www.14streety.org
SUMMARY:Baby Belugas
DESCRIPTION:
URL:https://www.14streety.org/event/baby-belugas/2018-09-15/2/
END:VEVENT
BEGIN:VEVENT
DTSTART;TZID=America/New_York:20180915T160000
DTEND;TZID=America/New_York:20180915T163000
DTSTAMP:20260421T054305
CREATED:20171217T194017Z
LAST-MODIFIED:20171217T194017Z
UID:61343-1537027200-1537029000@www.14streety.org
SUMMARY:Special Needs
DESCRIPTION:
URL:https://www.14streety.org/event/special-needs/2018-09-15/
END:VEVENT
BEGIN:VEVENT
DTSTART;TZID=America/New_York:20180915T163000
DTEND;TZID=America/New_York:20180915T170000
DTSTAMP:20260421T054305
CREATED:20171217T194017Z
LAST-MODIFIED:20171217T194017Z
UID:61344-1537029000-1537030800@www.14streety.org
SUMMARY:Special Needs
DESCRIPTION:
URL:https://www.14streety.org/event/special-needs/2018-09-15/2/
END:VEVENT
END:VCALENDAR