BEGIN:VCALENDAR
VERSION:2.0
PRODID:-//14th Street Y - ECPv5.5.0.1//NONSGML v1.0//EN
CALSCALE:GREGORIAN
METHOD:PUBLISH
X-WR-CALNAME:14th Street Y
X-ORIGINAL-URL:https://www.14streety.org
X-WR-CALDESC:Events for 14th Street Y
BEGIN:VTIMEZONE
TZID:America/New_York
BEGIN:DAYLIGHT
TZOFFSETFROM:-0500
TZOFFSETTO:-0400
TZNAME:EDT
DTSTART:20180311T070000
END:DAYLIGHT
BEGIN:STANDARD
TZOFFSETFROM:-0400
TZOFFSETTO:-0500
TZNAME:EST
DTSTART:20181104T060000
END:STANDARD
END:VTIMEZONE
BEGIN:VEVENT
DTSTART;TZID=America/New_York:20180912T143000
DTEND;TZID=America/New_York:20180912T150000
DTSTAMP:20260420T203647
CREATED:20171217T180138Z
LAST-MODIFIED:20171218T105848Z
UID:56730-1536762600-1536764400@www.14streety.org
SUMMARY:Baby Belugas
DESCRIPTION:
URL:https://www.14streety.org/event/baby-belugas/2018-09-12/
END:VEVENT
BEGIN:VEVENT
DTSTART;TZID=America/New_York:20180912T143000
DTEND;TZID=America/New_York:20180912T150000
DTSTAMP:20260420T203647
CREATED:20171217T180831Z
LAST-MODIFIED:20171218T075847Z
UID:57605-1536762600-1536764400@www.14streety.org
SUMMARY:Big Fish
DESCRIPTION:
URL:https://www.14streety.org/event/big-fish/2018-09-12/
END:VEVENT
BEGIN:VEVENT
DTSTART;TZID=America/New_York:20180912T150000
DTEND;TZID=America/New_York:20180912T153000
DTSTAMP:20260420T203647
CREATED:20171217T180438Z
LAST-MODIFIED:20171218T092914Z
UID:55704-1536764400-1536766200@www.14streety.org
SUMMARY:Little Dippers
DESCRIPTION:
URL:https://www.14streety.org/event/little-dippers/2018-09-12/
END:VEVENT
BEGIN:VEVENT
DTSTART;TZID=America/New_York:20180912T153000
DTEND;TZID=America/New_York:20180912T160000
DTSTAMP:20260420T203647
CREATED:20171217T181724Z
LAST-MODIFIED:20171218T032906Z
UID:58211-1536766200-1536768000@www.14streety.org
SUMMARY:Tadpoles
DESCRIPTION:
URL:https://www.14streety.org/event/tadpoles/2018-09-12/
END:VEVENT
BEGIN:VEVENT
DTSTART;TZID=America/New_York:20180912T153000
DTEND;TZID=America/New_York:20180912T160000
DTSTAMP:20260420T203647
CREATED:20171217T183615Z
LAST-MODIFIED:20171217T183615Z
UID:56236-1536766200-1536768000@www.14streety.org
SUMMARY:Sea Horses
DESCRIPTION:
URL:https://www.14streety.org/event/sea-horses/2018-09-12/
END:VEVENT
BEGIN:VEVENT
DTSTART;TZID=America/New_York:20180912T160000
DTEND;TZID=America/New_York:20180912T163000
DTSTAMP:20260420T203647
CREATED:20171217T183615Z
LAST-MODIFIED:20171217T183615Z
UID:56237-1536768000-1536769800@www.14streety.org
SUMMARY:Sea Horses
DESCRIPTION:
URL:https://www.14streety.org/event/sea-horses/2018-09-12/2/
END:VEVENT
BEGIN:VEVENT
DTSTART;TZID=America/New_York:20180912T160000
DTEND;TZID=America/New_York:20180912T163000
DTSTAMP:20260420T203647
CREATED:20171217T192243Z
LAST-MODIFIED:20171217T192243Z
UID:61698-1536768000-1536769800@www.14streety.org
SUMMARY:Otters
DESCRIPTION:
URL:https://www.14streety.org/event/otters/2018-09-12/
END:VEVENT
END:VCALENDAR