BEGIN:VCALENDAR
VERSION:2.0
PRODID:-//14th Street Y - ECPv5.5.0.1//NONSGML v1.0//EN
CALSCALE:GREGORIAN
METHOD:PUBLISH
X-WR-CALNAME:14th Street Y
X-ORIGINAL-URL:https://www.14streety.org
X-WR-CALDESC:Events for 14th Street Y
BEGIN:VTIMEZONE
TZID:America/New_York
BEGIN:DAYLIGHT
TZOFFSETFROM:-0500
TZOFFSETTO:-0400
TZNAME:EDT
DTSTART:20180311T070000
END:DAYLIGHT
BEGIN:STANDARD
TZOFFSETFROM:-0400
TZOFFSETTO:-0500
TZNAME:EST
DTSTART:20181104T060000
END:STANDARD
END:VTIMEZONE
BEGIN:VEVENT
DTSTART;TZID=America/New_York:20180910T143000
DTEND;TZID=America/New_York:20180910T150000
DTSTAMP:20260422T000859
CREATED:20171217T180138Z
LAST-MODIFIED:20171218T105847Z
UID:56728-1536589800-1536591600@www.14streety.org
SUMMARY:Baby Belugas
DESCRIPTION:
URL:https://www.14streety.org/event/baby-belugas/2018-09-10/
END:VEVENT
BEGIN:VEVENT
DTSTART;TZID=America/New_York:20180910T150000
DTEND;TZID=America/New_York:20180910T153000
DTSTAMP:20260422T000859
CREATED:20171217T180438Z
LAST-MODIFIED:20171218T092914Z
UID:55703-1536591600-1536593400@www.14streety.org
SUMMARY:Little Dippers
DESCRIPTION:
URL:https://www.14streety.org/event/little-dippers/2018-09-10/
END:VEVENT
BEGIN:VEVENT
DTSTART;TZID=America/New_York:20180910T153000
DTEND;TZID=America/New_York:20180910T160000
DTSTAMP:20260422T000859
CREATED:20171217T181724Z
LAST-MODIFIED:20171218T032904Z
UID:58206-1536593400-1536595200@www.14streety.org
SUMMARY:Tadpoles
DESCRIPTION:
URL:https://www.14streety.org/event/tadpoles/2018-09-10/
END:VEVENT
BEGIN:VEVENT
DTSTART;TZID=America/New_York:20180910T153000
DTEND;TZID=America/New_York:20180910T160000
DTSTAMP:20260422T000859
CREATED:20171217T183615Z
LAST-MODIFIED:20171217T183615Z
UID:56233-1536593400-1536595200@www.14streety.org
SUMMARY:Sea Horses
DESCRIPTION:
URL:https://www.14streety.org/event/sea-horses/2018-09-10/
END:VEVENT
BEGIN:VEVENT
DTSTART;TZID=America/New_York:20180910T160000
DTEND;TZID=America/New_York:20180910T163000
DTSTAMP:20260422T000859
CREATED:20171217T181724Z
LAST-MODIFIED:20171218T032904Z
UID:58207-1536595200-1536597000@www.14streety.org
SUMMARY:Tadpoles
DESCRIPTION:
URL:https://www.14streety.org/event/tadpoles/2018-09-10/2/
END:VEVENT
BEGIN:VEVENT
DTSTART;TZID=America/New_York:20180910T160000
DTEND;TZID=America/New_York:20180910T163000
DTSTAMP:20260422T000859
CREATED:20171217T194017Z
LAST-MODIFIED:20171217T194017Z
UID:61342-1536595200-1536597000@www.14streety.org
SUMMARY:Special Needs
DESCRIPTION:
URL:https://www.14streety.org/event/special-needs/2018-09-10/
END:VEVENT
END:VCALENDAR