BEGIN:VCALENDAR
VERSION:2.0
PRODID:-//14th Street Y - ECPv5.5.0.1//NONSGML v1.0//EN
CALSCALE:GREGORIAN
METHOD:PUBLISH
X-WR-CALNAME:14th Street Y
X-ORIGINAL-URL:https://www.14streety.org
X-WR-CALDESC:Events for 14th Street Y
BEGIN:VTIMEZONE
TZID:America/New_York
BEGIN:DAYLIGHT
TZOFFSETFROM:-0500
TZOFFSETTO:-0400
TZNAME:EDT
DTSTART:20180311T070000
END:DAYLIGHT
BEGIN:STANDARD
TZOFFSETFROM:-0400
TZOFFSETTO:-0500
TZNAME:EST
DTSTART:20181104T060000
END:STANDARD
END:VTIMEZONE
BEGIN:VEVENT
DTSTART;TZID=America/New_York:20180906T090000
DTEND;TZID=America/New_York:20180906T093000
DTSTAMP:20260421T035812
CREATED:20171217T180138Z
LAST-MODIFIED:20171218T105845Z
UID:56722-1536224400-1536226200@www.14streety.org
SUMMARY:Baby Belugas
DESCRIPTION:
URL:https://www.14streety.org/event/baby-belugas/2018-09-06/
END:VEVENT
BEGIN:VEVENT
DTSTART;TZID=America/New_York:20180906T100000
DTEND;TZID=America/New_York:20180906T103000
DTSTAMP:20260421T035812
CREATED:20171217T180831Z
LAST-MODIFIED:20171218T075844Z
UID:57599-1536228000-1536229800@www.14streety.org
SUMMARY:Big Fish
DESCRIPTION:
URL:https://www.14streety.org/event/big-fish/2018-09-06/
END:VEVENT
BEGIN:VEVENT
DTSTART;TZID=America/New_York:20180906T120000
DTEND;TZID=America/New_York:20180906T123000
DTSTAMP:20260421T035812
CREATED:20171217T192243Z
LAST-MODIFIED:20171217T192243Z
UID:61693-1536235200-1536237000@www.14streety.org
SUMMARY:Otters
DESCRIPTION:
URL:https://www.14streety.org/event/otters/2018-09-06/
END:VEVENT
BEGIN:VEVENT
DTSTART;TZID=America/New_York:20180906T150000
DTEND;TZID=America/New_York:20180906T153000
DTSTAMP:20260421T035812
CREATED:20171217T181724Z
LAST-MODIFIED:20171218T032902Z
UID:58201-1536246000-1536247800@www.14streety.org
SUMMARY:Tadpoles
DESCRIPTION:
URL:https://www.14streety.org/event/tadpoles/2018-09-06/
END:VEVENT
BEGIN:VEVENT
DTSTART;TZID=America/New_York:20180906T153000
DTEND;TZID=America/New_York:20180906T160000
DTSTAMP:20260421T035812
CREATED:20171217T183615Z
LAST-MODIFIED:20171217T183615Z
UID:56232-1536247800-1536249600@www.14streety.org
SUMMARY:Sea Horses
DESCRIPTION:
URL:https://www.14streety.org/event/sea-horses/2018-09-06/
END:VEVENT
BEGIN:VEVENT
DTSTART;TZID=America/New_York:20180906T153000
DTEND;TZID=America/New_York:20180906T160000
DTSTAMP:20260421T035812
CREATED:20171217T192243Z
LAST-MODIFIED:20171217T192243Z
UID:61694-1536247800-1536249600@www.14streety.org
SUMMARY:Otters
DESCRIPTION:
URL:https://www.14streety.org/event/otters/2018-09-06/2/
END:VEVENT
BEGIN:VEVENT
DTSTART;TZID=America/New_York:20180906T160000
DTEND;TZID=America/New_York:20180906T163000
DTSTAMP:20260421T035812
CREATED:20171217T192700Z
LAST-MODIFIED:20171217T192700Z
UID:59057-1536249600-1536251400@www.14streety.org
SUMMARY:Dolphins
DESCRIPTION:
URL:https://www.14streety.org/event/dolphins/2018-09-06/
END:VEVENT
BEGIN:VEVENT
DTSTART;TZID=America/New_York:20180906T160000
DTEND;TZID=America/New_York:20180906T163000
DTSTAMP:20260421T035812
CREATED:20171217T193329Z
LAST-MODIFIED:20171217T193329Z
UID:59289-1536249600-1536251400@www.14streety.org
SUMMARY:Sharks
DESCRIPTION:
URL:https://www.14streety.org/event/sharks/2018-09-06/
END:VEVENT
END:VCALENDAR