BEGIN:VCALENDAR
VERSION:2.0
PRODID:-//14th Street Y - ECPv5.5.0.1//NONSGML v1.0//EN
CALSCALE:GREGORIAN
METHOD:PUBLISH
X-WR-CALNAME:14th Street Y
X-ORIGINAL-URL:https://www.14streety.org
X-WR-CALDESC:Events for 14th Street Y
BEGIN:VTIMEZONE
TZID:America/New_York
BEGIN:DAYLIGHT
TZOFFSETFROM:-0500
TZOFFSETTO:-0400
TZNAME:EDT
DTSTART:20180311T070000
END:DAYLIGHT
BEGIN:STANDARD
TZOFFSETFROM:-0400
TZOFFSETTO:-0500
TZNAME:EST
DTSTART:20181104T060000
END:STANDARD
END:VTIMEZONE
BEGIN:VEVENT
DTSTART;TZID=America/New_York:20180901T090000
DTEND;TZID=America/New_York:20180901T093000
DTSTAMP:20260421T051614
CREATED:20171217T180138Z
LAST-MODIFIED:20171218T105842Z
UID:56715-1535792400-1535794200@www.14streety.org
SUMMARY:Baby Belugas
DESCRIPTION:
URL:https://www.14streety.org/event/baby-belugas/2018-09-01/
END:VEVENT
BEGIN:VEVENT
DTSTART;TZID=America/New_York:20180901T100000
DTEND;TZID=America/New_York:20180901T103000
DTSTAMP:20260421T051614
CREATED:20171217T180831Z
LAST-MODIFIED:20171218T075843Z
UID:57594-1535796000-1535797800@www.14streety.org
SUMMARY:Big Fish
DESCRIPTION:
URL:https://www.14streety.org/event/big-fish/2018-09-01/
END:VEVENT
BEGIN:VEVENT
DTSTART;TZID=America/New_York:20180901T113000
DTEND;TZID=America/New_York:20180901T120000
DTSTAMP:20260421T051614
CREATED:20171217T180831Z
LAST-MODIFIED:20171218T075843Z
UID:57595-1535801400-1535803200@www.14streety.org
SUMMARY:Big Fish
DESCRIPTION:
URL:https://www.14streety.org/event/big-fish/2018-09-01/2/
END:VEVENT
BEGIN:VEVENT
DTSTART;TZID=America/New_York:20180901T123000
DTEND;TZID=America/New_York:20180901T130000
DTSTAMP:20260421T051614
CREATED:20171217T181724Z
LAST-MODIFIED:20171218T032859Z
UID:58192-1535805000-1535806800@www.14streety.org
SUMMARY:Tadpoles
DESCRIPTION:
URL:https://www.14streety.org/event/tadpoles/2018-09-01/
END:VEVENT
BEGIN:VEVENT
DTSTART;TZID=America/New_York:20180901T133000
DTEND;TZID=America/New_York:20180901T140000
DTSTAMP:20260421T051614
CREATED:20171217T180138Z
LAST-MODIFIED:20171218T105843Z
UID:56716-1535808600-1535810400@www.14streety.org
SUMMARY:Baby Belugas
DESCRIPTION:
URL:https://www.14streety.org/event/baby-belugas/2018-09-01/
END:VEVENT
BEGIN:VEVENT
DTSTART;TZID=America/New_York:20180901T160000
DTEND;TZID=America/New_York:20180901T163000
DTSTAMP:20260421T051614
CREATED:20171217T194017Z
LAST-MODIFIED:20171217T194017Z
UID:61337-1535817600-1535819400@www.14streety.org
SUMMARY:Special Needs
DESCRIPTION:
URL:https://www.14streety.org/event/special-needs/2018-09-01/
END:VEVENT
BEGIN:VEVENT
DTSTART;TZID=America/New_York:20180901T163000
DTEND;TZID=America/New_York:20180901T170000
DTSTAMP:20260421T051614
CREATED:20171217T194017Z
LAST-MODIFIED:20171217T194017Z
UID:61338-1535819400-1535821200@www.14streety.org
SUMMARY:Special Needs
DESCRIPTION:
URL:https://www.14streety.org/event/special-needs/2018-09-01/2/
END:VEVENT
END:VCALENDAR