BEGIN:VCALENDAR
VERSION:2.0
PRODID:-//14th Street Y - ECPv5.5.0.1//NONSGML v1.0//EN
CALSCALE:GREGORIAN
METHOD:PUBLISH
X-WR-CALNAME:14th Street Y
X-ORIGINAL-URL:https://www.14streety.org
X-WR-CALDESC:Events for 14th Street Y
BEGIN:VTIMEZONE
TZID:America/New_York
BEGIN:DAYLIGHT
TZOFFSETFROM:-0500
TZOFFSETTO:-0400
TZNAME:EDT
DTSTART:20180311T070000
END:DAYLIGHT
BEGIN:STANDARD
TZOFFSETFROM:-0400
TZOFFSETTO:-0500
TZNAME:EST
DTSTART:20181104T060000
END:STANDARD
END:VTIMEZONE
BEGIN:VEVENT
DTSTART;TZID=America/New_York:20180830T090000
DTEND;TZID=America/New_York:20180830T093000
DTSTAMP:20260423T052048
CREATED:20171217T180138Z
LAST-MODIFIED:20171218T105841Z
UID:56713-1535619600-1535621400@www.14streety.org
SUMMARY:Baby Belugas
DESCRIPTION:
URL:https://www.14streety.org/event/baby-belugas/2018-08-30/
END:VEVENT
BEGIN:VEVENT
DTSTART;TZID=America/New_York:20180830T100000
DTEND;TZID=America/New_York:20180830T103000
DTSTAMP:20260423T052048
CREATED:20171217T180831Z
LAST-MODIFIED:20171218T075842Z
UID:57592-1535623200-1535625000@www.14streety.org
SUMMARY:Big Fish
DESCRIPTION:
URL:https://www.14streety.org/event/big-fish/2018-08-30/
END:VEVENT
BEGIN:VEVENT
DTSTART;TZID=America/New_York:20180830T120000
DTEND;TZID=America/New_York:20180830T123000
DTSTAMP:20260423T052048
CREATED:20171217T192243Z
LAST-MODIFIED:20171217T192243Z
UID:61687-1535630400-1535632200@www.14streety.org
SUMMARY:Otters
DESCRIPTION:
URL:https://www.14streety.org/event/otters/2018-08-30/
END:VEVENT
BEGIN:VEVENT
DTSTART;TZID=America/New_York:20180830T150000
DTEND;TZID=America/New_York:20180830T153000
DTSTAMP:20260423T052048
CREATED:20171217T181724Z
LAST-MODIFIED:20171218T032858Z
UID:58190-1535641200-1535643000@www.14streety.org
SUMMARY:Tadpoles
DESCRIPTION:
URL:https://www.14streety.org/event/tadpoles/2018-08-30/
END:VEVENT
BEGIN:VEVENT
DTSTART;TZID=America/New_York:20180830T153000
DTEND;TZID=America/New_York:20180830T160000
DTSTAMP:20260423T052048
CREATED:20171217T183615Z
LAST-MODIFIED:20171217T183615Z
UID:56226-1535643000-1535644800@www.14streety.org
SUMMARY:Sea Horses
DESCRIPTION:
URL:https://www.14streety.org/event/sea-horses/2018-08-30/
END:VEVENT
BEGIN:VEVENT
DTSTART;TZID=America/New_York:20180830T153000
DTEND;TZID=America/New_York:20180830T160000
DTSTAMP:20260423T052048
CREATED:20171217T192243Z
LAST-MODIFIED:20171217T192243Z
UID:61688-1535643000-1535644800@www.14streety.org
SUMMARY:Otters
DESCRIPTION:
URL:https://www.14streety.org/event/otters/2018-08-30/2/
END:VEVENT
BEGIN:VEVENT
DTSTART;TZID=America/New_York:20180830T160000
DTEND;TZID=America/New_York:20180830T163000
DTSTAMP:20260423T052048
CREATED:20171217T192700Z
LAST-MODIFIED:20171217T192700Z
UID:59055-1535644800-1535646600@www.14streety.org
SUMMARY:Dolphins
DESCRIPTION:
URL:https://www.14streety.org/event/dolphins/2018-08-30/
END:VEVENT
BEGIN:VEVENT
DTSTART;TZID=America/New_York:20180830T160000
DTEND;TZID=America/New_York:20180830T163000
DTSTAMP:20260423T052048
CREATED:20171217T193329Z
LAST-MODIFIED:20171217T193329Z
UID:59287-1535644800-1535646600@www.14streety.org
SUMMARY:Sharks
DESCRIPTION:
URL:https://www.14streety.org/event/sharks/2018-08-30/
END:VEVENT
END:VCALENDAR