BEGIN:VCALENDAR
VERSION:2.0
PRODID:-//14th Street Y - ECPv5.5.0.1//NONSGML v1.0//EN
CALSCALE:GREGORIAN
METHOD:PUBLISH
X-WR-CALNAME:14th Street Y
X-ORIGINAL-URL:https://www.14streety.org
X-WR-CALDESC:Events for 14th Street Y
BEGIN:VTIMEZONE
TZID:America/New_York
BEGIN:DAYLIGHT
TZOFFSETFROM:-0500
TZOFFSETTO:-0400
TZNAME:EDT
DTSTART:20180311T070000
END:DAYLIGHT
BEGIN:STANDARD
TZOFFSETFROM:-0400
TZOFFSETTO:-0500
TZNAME:EST
DTSTART:20181104T060000
END:STANDARD
END:VTIMEZONE
BEGIN:VEVENT
DTSTART;TZID=America/New_York:20180826T090000
DTEND;TZID=America/New_York:20180826T093000
DTSTAMP:20260421T101254
CREATED:20171217T180138Z
LAST-MODIFIED:20171218T105839Z
UID:56708-1535274000-1535275800@www.14streety.org
SUMMARY:Baby Belugas
DESCRIPTION:
URL:https://www.14streety.org/event/baby-belugas/2018-08-26/
END:VEVENT
BEGIN:VEVENT
DTSTART;TZID=America/New_York:20180826T100000
DTEND;TZID=America/New_York:20180826T103000
DTSTAMP:20260421T101254
CREATED:20171217T180831Z
LAST-MODIFIED:20171218T075841Z
UID:57589-1535277600-1535279400@www.14streety.org
SUMMARY:Big Fish
DESCRIPTION:
URL:https://www.14streety.org/event/big-fish/2018-08-26/
END:VEVENT
BEGIN:VEVENT
DTSTART;TZID=America/New_York:20180826T100000
DTEND;TZID=America/New_York:20180826T113000
DTSTAMP:20260421T101254
CREATED:20171217T202019Z
LAST-MODIFIED:20171217T202019Z
UID:60390-1535277600-1535283000@www.14streety.org
SUMMARY:Vinyasa Yoga with Lorrie I Studio A&B
DESCRIPTION:
URL:https://www.14streety.org/event/vinyasa-yoga-lorrie-studio-ab-2018-08-26/
END:VEVENT
BEGIN:VEVENT
DTSTART;TZID=America/New_York:20180826T120000
DTEND;TZID=America/New_York:20180826T123000
DTSTAMP:20260421T101254
CREATED:20171217T181724Z
LAST-MODIFIED:20171218T032855Z
UID:58182-1535284800-1535286600@www.14streety.org
SUMMARY:Tadpoles
DESCRIPTION:
URL:https://www.14streety.org/event/tadpoles/2018-08-26/
END:VEVENT
BEGIN:VEVENT
DTSTART;TZID=America/New_York:20180826T120000
DTEND;TZID=America/New_York:20180826T123000
DTSTAMP:20260421T101254
CREATED:20171217T192243Z
LAST-MODIFIED:20171217T192243Z
UID:61683-1535284800-1535286600@www.14streety.org
SUMMARY:Otters
DESCRIPTION:
URL:https://www.14streety.org/event/otters/2018-08-26/
END:VEVENT
BEGIN:VEVENT
DTSTART;TZID=America/New_York:20180826T123000
DTEND;TZID=America/New_York:20180826T130000
DTSTAMP:20260421T101254
CREATED:20171217T181724Z
LAST-MODIFIED:20171218T032856Z
UID:58183-1535286600-1535288400@www.14streety.org
SUMMARY:Tadpoles
DESCRIPTION:
URL:https://www.14streety.org/event/tadpoles/2018-08-26/2/
END:VEVENT
BEGIN:VEVENT
DTSTART;TZID=America/New_York:20180826T123000
DTEND;TZID=America/New_York:20180826T130000
DTSTAMP:20260421T101254
CREATED:20171217T192243Z
LAST-MODIFIED:20171217T192243Z
UID:61684-1535286600-1535288400@www.14streety.org
SUMMARY:Otters
DESCRIPTION:
URL:https://www.14streety.org/event/otters/2018-08-26/2/
END:VEVENT
BEGIN:VEVENT
DTSTART;TZID=America/New_York:20180826T130000
DTEND;TZID=America/New_York:20180826T133000
DTSTAMP:20260421T101254
CREATED:20171217T192700Z
LAST-MODIFIED:20171217T192700Z
UID:59054-1535288400-1535290200@www.14streety.org
SUMMARY:Dolphins
DESCRIPTION:
URL:https://www.14streety.org/event/dolphins/2018-08-26/
END:VEVENT
BEGIN:VEVENT
DTSTART;TZID=America/New_York:20180826T130000
DTEND;TZID=America/New_York:20180826T133000
DTSTAMP:20260421T101254
CREATED:20171217T193329Z
LAST-MODIFIED:20171217T193329Z
UID:59286-1535288400-1535290200@www.14streety.org
SUMMARY:Sharks
DESCRIPTION:
URL:https://www.14streety.org/event/sharks/2018-08-26/
END:VEVENT
BEGIN:VEVENT
DTSTART;TZID=America/New_York:20180826T133000
DTEND;TZID=America/New_York:20180826T140000
DTSTAMP:20260421T101254
CREATED:20171217T180138Z
LAST-MODIFIED:20171218T105840Z
UID:56709-1535290200-1535292000@www.14streety.org
SUMMARY:Baby Belugas
DESCRIPTION:
URL:https://www.14streety.org/event/baby-belugas/2018-08-26/2/
END:VEVENT
END:VCALENDAR