BEGIN:VCALENDAR
VERSION:2.0
PRODID:-//14th Street Y - ECPv5.5.0.1//NONSGML v1.0//EN
CALSCALE:GREGORIAN
METHOD:PUBLISH
X-WR-CALNAME:14th Street Y
X-ORIGINAL-URL:https://www.14streety.org
X-WR-CALDESC:Events for 14th Street Y
BEGIN:VTIMEZONE
TZID:America/New_York
BEGIN:DAYLIGHT
TZOFFSETFROM:-0500
TZOFFSETTO:-0400
TZNAME:EDT
DTSTART:20180311T070000
END:DAYLIGHT
BEGIN:STANDARD
TZOFFSETFROM:-0400
TZOFFSETTO:-0500
TZNAME:EST
DTSTART:20181104T060000
END:STANDARD
END:VTIMEZONE
BEGIN:VEVENT
DTSTART;TZID=America/New_York:20180819T090000
DTEND;TZID=America/New_York:20180819T093000
DTSTAMP:20260421T083004
CREATED:20171217T180138Z
LAST-MODIFIED:20171218T103011Z
UID:56699-1534669200-1534671000@www.14streety.org
SUMMARY:Baby Belugas
DESCRIPTION:
URL:https://www.14streety.org/event/baby-belugas/2018-08-19/
END:VEVENT
BEGIN:VEVENT
DTSTART;TZID=America/New_York:20180819T100000
DTEND;TZID=America/New_York:20180819T103000
DTSTAMP:20260421T083004
CREATED:20171217T180831Z
LAST-MODIFIED:20171218T075838Z
UID:57582-1534672800-1534674600@www.14streety.org
SUMMARY:Big Fish
DESCRIPTION:
URL:https://www.14streety.org/event/big-fish/2018-08-19/
END:VEVENT
BEGIN:VEVENT
DTSTART;TZID=America/New_York:20180819T100000
DTEND;TZID=America/New_York:20180819T113000
DTSTAMP:20260421T083004
CREATED:20171217T202019Z
LAST-MODIFIED:20171217T202019Z
UID:60389-1534672800-1534678200@www.14streety.org
SUMMARY:Vinyasa Yoga with Lorrie I Studio A&B
DESCRIPTION:
URL:https://www.14streety.org/event/vinyasa-yoga-lorrie-studio-ab-2018-08-19/
END:VEVENT
BEGIN:VEVENT
DTSTART;TZID=America/New_York:20180819T120000
DTEND;TZID=America/New_York:20180819T123000
DTSTAMP:20260421T083004
CREATED:20171217T181724Z
LAST-MODIFIED:20171218T032851Z
UID:58171-1534680000-1534681800@www.14streety.org
SUMMARY:Tadpoles
DESCRIPTION:
URL:https://www.14streety.org/event/tadpoles/2018-08-19/
END:VEVENT
BEGIN:VEVENT
DTSTART;TZID=America/New_York:20180819T120000
DTEND;TZID=America/New_York:20180819T123000
DTSTAMP:20260421T083004
CREATED:20171217T192243Z
LAST-MODIFIED:20171217T192243Z
UID:61677-1534680000-1534681800@www.14streety.org
SUMMARY:Otters
DESCRIPTION:
URL:https://www.14streety.org/event/otters/2018-08-19/
END:VEVENT
BEGIN:VEVENT
DTSTART;TZID=America/New_York:20180819T123000
DTEND;TZID=America/New_York:20180819T130000
DTSTAMP:20260421T083004
CREATED:20171217T181724Z
LAST-MODIFIED:20171218T032851Z
UID:58172-1534681800-1534683600@www.14streety.org
SUMMARY:Tadpoles
DESCRIPTION:
URL:https://www.14streety.org/event/tadpoles/2018-08-19/2/
END:VEVENT
BEGIN:VEVENT
DTSTART;TZID=America/New_York:20180819T123000
DTEND;TZID=America/New_York:20180819T130000
DTSTAMP:20260421T083004
CREATED:20171217T192243Z
LAST-MODIFIED:20171217T192243Z
UID:61678-1534681800-1534683600@www.14streety.org
SUMMARY:Otters
DESCRIPTION:
URL:https://www.14streety.org/event/otters/2018-08-19/2/
END:VEVENT
BEGIN:VEVENT
DTSTART;TZID=America/New_York:20180819T130000
DTEND;TZID=America/New_York:20180819T133000
DTSTAMP:20260421T083004
CREATED:20171217T192700Z
LAST-MODIFIED:20171217T192700Z
UID:59052-1534683600-1534685400@www.14streety.org
SUMMARY:Dolphins
DESCRIPTION:
URL:https://www.14streety.org/event/dolphins/2018-08-19/
END:VEVENT
BEGIN:VEVENT
DTSTART;TZID=America/New_York:20180819T130000
DTEND;TZID=America/New_York:20180819T133000
DTSTAMP:20260421T083004
CREATED:20171217T193329Z
LAST-MODIFIED:20171217T193329Z
UID:59284-1534683600-1534685400@www.14streety.org
SUMMARY:Sharks
DESCRIPTION:
URL:https://www.14streety.org/event/sharks/2018-08-19/
END:VEVENT
BEGIN:VEVENT
DTSTART;TZID=America/New_York:20180819T133000
DTEND;TZID=America/New_York:20180819T140000
DTSTAMP:20260421T083004
CREATED:20171217T180138Z
LAST-MODIFIED:20171218T103011Z
UID:56700-1534685400-1534687200@www.14streety.org
SUMMARY:Baby Belugas
DESCRIPTION:
URL:https://www.14streety.org/event/baby-belugas/2018-08-19/2/
END:VEVENT
END:VCALENDAR