BEGIN:VCALENDAR
VERSION:2.0
PRODID:-//14th Street Y - ECPv5.5.0.1//NONSGML v1.0//EN
CALSCALE:GREGORIAN
METHOD:PUBLISH
X-WR-CALNAME:14th Street Y
X-ORIGINAL-URL:https://www.14streety.org
X-WR-CALDESC:Events for 14th Street Y
BEGIN:VTIMEZONE
TZID:America/New_York
BEGIN:DAYLIGHT
TZOFFSETFROM:-0500
TZOFFSETTO:-0400
TZNAME:EDT
DTSTART:20180311T070000
END:DAYLIGHT
BEGIN:STANDARD
TZOFFSETFROM:-0400
TZOFFSETTO:-0500
TZNAME:EST
DTSTART:20181104T060000
END:STANDARD
END:VTIMEZONE
BEGIN:VEVENT
DTSTART;TZID=America/New_York:20180818T090000
DTEND;TZID=America/New_York:20180818T093000
DTSTAMP:20260421T171634
CREATED:20171217T180138Z
LAST-MODIFIED:20171217T202612Z
UID:56697-1534582800-1534584600@www.14streety.org
SUMMARY:Baby Belugas
DESCRIPTION:
URL:https://www.14streety.org/event/baby-belugas/2018-08-18/
END:VEVENT
BEGIN:VEVENT
DTSTART;TZID=America/New_York:20180818T100000
DTEND;TZID=America/New_York:20180818T103000
DTSTAMP:20260421T171634
CREATED:20171217T180831Z
LAST-MODIFIED:20171218T075838Z
UID:57580-1534586400-1534588200@www.14streety.org
SUMMARY:Big Fish
DESCRIPTION:
URL:https://www.14streety.org/event/big-fish/2018-08-18/
END:VEVENT
BEGIN:VEVENT
DTSTART;TZID=America/New_York:20180818T113000
DTEND;TZID=America/New_York:20180818T120000
DTSTAMP:20260421T171634
CREATED:20171217T180831Z
LAST-MODIFIED:20171218T075838Z
UID:57581-1534591800-1534593600@www.14streety.org
SUMMARY:Big Fish
DESCRIPTION:
URL:https://www.14streety.org/event/big-fish/2018-08-18/2/
END:VEVENT
BEGIN:VEVENT
DTSTART;TZID=America/New_York:20180818T123000
DTEND;TZID=America/New_York:20180818T130000
DTSTAMP:20260421T171634
CREATED:20171217T181724Z
LAST-MODIFIED:20171218T032851Z
UID:58170-1534595400-1534597200@www.14streety.org
SUMMARY:Tadpoles
DESCRIPTION:
URL:https://www.14streety.org/event/tadpoles/2018-08-18/
END:VEVENT
BEGIN:VEVENT
DTSTART;TZID=America/New_York:20180818T133000
DTEND;TZID=America/New_York:20180818T140000
DTSTAMP:20260421T171634
CREATED:20171217T180138Z
LAST-MODIFIED:20171218T103010Z
UID:56698-1534599000-1534600800@www.14streety.org
SUMMARY:Baby Belugas
DESCRIPTION:
URL:https://www.14streety.org/event/baby-belugas/2018-08-18/2/
END:VEVENT
BEGIN:VEVENT
DTSTART;TZID=America/New_York:20180818T160000
DTEND;TZID=America/New_York:20180818T163000
DTSTAMP:20260421T171634
CREATED:20171217T194017Z
LAST-MODIFIED:20171217T194017Z
UID:61331-1534608000-1534609800@www.14streety.org
SUMMARY:Special Needs
DESCRIPTION:
URL:https://www.14streety.org/event/special-needs/2018-08-18/
END:VEVENT
BEGIN:VEVENT
DTSTART;TZID=America/New_York:20180818T163000
DTEND;TZID=America/New_York:20180818T170000
DTSTAMP:20260421T171634
CREATED:20171217T194017Z
LAST-MODIFIED:20171217T194017Z
UID:61332-1534609800-1534611600@www.14streety.org
SUMMARY:Special Needs
DESCRIPTION:
URL:https://www.14streety.org/event/special-needs/2018-08-18/
END:VEVENT
END:VCALENDAR