BEGIN:VCALENDAR
VERSION:2.0
PRODID:-//14th Street Y - ECPv5.5.0.1//NONSGML v1.0//EN
CALSCALE:GREGORIAN
METHOD:PUBLISH
X-WR-CALNAME:14th Street Y
X-ORIGINAL-URL:https://www.14streety.org
X-WR-CALDESC:Events for 14th Street Y
BEGIN:VTIMEZONE
TZID:America/New_York
BEGIN:DAYLIGHT
TZOFFSETFROM:-0500
TZOFFSETTO:-0400
TZNAME:EDT
DTSTART:20180311T070000
END:DAYLIGHT
BEGIN:STANDARD
TZOFFSETFROM:-0400
TZOFFSETTO:-0500
TZNAME:EST
DTSTART:20181104T060000
END:STANDARD
END:VTIMEZONE
BEGIN:VEVENT
DTSTART;TZID=America/New_York:20180813T143000
DTEND;TZID=America/New_York:20180813T150000
DTSTAMP:20260422T042318
CREATED:20171217T180138Z
LAST-MODIFIED:20171217T202610Z
UID:56692-1534170600-1534172400@www.14streety.org
SUMMARY:Baby Belugas
DESCRIPTION:
URL:https://www.14streety.org/event/baby-belugas/2018-08-13/
END:VEVENT
BEGIN:VEVENT
DTSTART;TZID=America/New_York:20180813T150000
DTEND;TZID=America/New_York:20180813T153000
DTSTAMP:20260422T042318
CREATED:20171217T180438Z
LAST-MODIFIED:20171218T092910Z
UID:55691-1534172400-1534174200@www.14streety.org
SUMMARY:Little Dippers
DESCRIPTION:
URL:https://www.14streety.org/event/little-dippers/2018-08-13/
END:VEVENT
BEGIN:VEVENT
DTSTART;TZID=America/New_York:20180813T153000
DTEND;TZID=America/New_York:20180813T160000
DTSTAMP:20260422T042318
CREATED:20171217T181724Z
LAST-MODIFIED:20171218T032848Z
UID:58162-1534174200-1534176000@www.14streety.org
SUMMARY:Tadpoles
DESCRIPTION:
URL:https://www.14streety.org/event/tadpoles/2018-08-13/
END:VEVENT
BEGIN:VEVENT
DTSTART;TZID=America/New_York:20180813T153000
DTEND;TZID=America/New_York:20180813T160000
DTSTAMP:20260422T042318
CREATED:20171217T183615Z
LAST-MODIFIED:20171217T183615Z
UID:56209-1534174200-1534176000@www.14streety.org
SUMMARY:Sea Horses
DESCRIPTION:
URL:https://www.14streety.org/event/sea-horses/2018-08-13/
END:VEVENT
BEGIN:VEVENT
DTSTART;TZID=America/New_York:20180813T160000
DTEND;TZID=America/New_York:20180813T163000
DTSTAMP:20260422T042318
CREATED:20171217T181724Z
LAST-MODIFIED:20171218T032848Z
UID:58163-1534176000-1534177800@www.14streety.org
SUMMARY:Tadpoles
DESCRIPTION:
URL:https://www.14streety.org/event/tadpoles/2018-08-13/2/
END:VEVENT
BEGIN:VEVENT
DTSTART;TZID=America/New_York:20180813T160000
DTEND;TZID=America/New_York:20180813T163000
DTSTAMP:20260422T042318
CREATED:20171217T194017Z
LAST-MODIFIED:20171217T194017Z
UID:61330-1534176000-1534177800@www.14streety.org
SUMMARY:Special Needs
DESCRIPTION:
URL:https://www.14streety.org/event/special-needs/2018-08-13/
END:VEVENT
END:VCALENDAR