BEGIN:VCALENDAR
VERSION:2.0
PRODID:-//14th Street Y - ECPv5.5.0.1//NONSGML v1.0//EN
CALSCALE:GREGORIAN
METHOD:PUBLISH
X-WR-CALNAME:14th Street Y
X-ORIGINAL-URL:https://www.14streety.org
X-WR-CALDESC:Events for 14th Street Y
BEGIN:VTIMEZONE
TZID:America/New_York
BEGIN:DAYLIGHT
TZOFFSETFROM:-0500
TZOFFSETTO:-0400
TZNAME:EDT
DTSTART:20180311T070000
END:DAYLIGHT
BEGIN:STANDARD
TZOFFSETFROM:-0400
TZOFFSETTO:-0500
TZNAME:EST
DTSTART:20181104T060000
END:STANDARD
END:VTIMEZONE
BEGIN:VEVENT
DTSTART;TZID=America/New_York:20180809T090000
DTEND;TZID=America/New_York:20180809T093000
DTSTAMP:20260421T051645
CREATED:20171217T180138Z
LAST-MODIFIED:20171217T202557Z
UID:56686-1533805200-1533807000@www.14streety.org
SUMMARY:Baby Belugas
DESCRIPTION:
URL:https://www.14streety.org/event/baby-belugas/2018-08-09/
END:VEVENT
BEGIN:VEVENT
DTSTART;TZID=America/New_York:20180809T100000
DTEND;TZID=America/New_York:20180809T103000
DTSTAMP:20260421T051645
CREATED:20171217T180831Z
LAST-MODIFIED:20171218T075834Z
UID:57571-1533808800-1533810600@www.14streety.org
SUMMARY:Big Fish
DESCRIPTION:
URL:https://www.14streety.org/event/big-fish/2018-08-09/
END:VEVENT
BEGIN:VEVENT
DTSTART;TZID=America/New_York:20180809T120000
DTEND;TZID=America/New_York:20180809T123000
DTSTAMP:20260421T051645
CREATED:20171217T192243Z
LAST-MODIFIED:20171217T192243Z
UID:61669-1533816000-1533817800@www.14streety.org
SUMMARY:Otters
DESCRIPTION:
URL:https://www.14streety.org/event/otters/2018-08-09/
END:VEVENT
BEGIN:VEVENT
DTSTART;TZID=America/New_York:20180809T143000
DTEND;TZID=America/New_York:20180809T150000
DTSTAMP:20260421T051645
CREATED:20180808T134818Z
LAST-MODIFIED:20180808T134818Z
UID:77434-1533825000-1533826800@www.14streety.org
SUMMARY:Storytime in the Square: Todah
DESCRIPTION:Come join the 14th Street Y with PJ Library and the Union Square Partnership as we read stories and sing songs together every Thursday afternoon at Summer in the Square!\nFor our final week at Summer in the Square\, we’ll have a special closing performance by our Tikiyah Jewish Music Educator Carla Friend. Join us for an interactive musical performance of the PJ Library book Todah\, which teaches us the importance of appreciating the many blessings we have in our lives. \nCan’t make our program? Come find the 14th Street Y tent to find out more about the 14Y and other family programs. This event is co-sponsored by PJ Library. \nFor Ages: 1 – 5 years\nPerformer: Carla Friend\nBook: Todah\nValue: Appreciation\nWhere: Union Square’s Children’s Pavilion \nThis event is FREE and open to all!
URL:https://www.14streety.org/event/storytime-in-the-square-todah/
CATEGORIES:Community Events
ATTACH;FMTTYPE=image/png:https://www.14streety.org/wp-content/uploads/2018/06/Storytime-in-the-Square-Hero.png
END:VEVENT
BEGIN:VEVENT
DTSTART;TZID=America/New_York:20180809T150000
DTEND;TZID=America/New_York:20180809T153000
DTSTAMP:20260421T051645
CREATED:20171217T181724Z
LAST-MODIFIED:20171218T032846Z
UID:58157-1533826800-1533828600@www.14streety.org
SUMMARY:Tadpoles
DESCRIPTION:
URL:https://www.14streety.org/event/tadpoles/2018-08-09/
END:VEVENT
BEGIN:VEVENT
DTSTART;TZID=America/New_York:20180809T153000
DTEND;TZID=America/New_York:20180809T160000
DTSTAMP:20260421T051645
CREATED:20171217T183615Z
LAST-MODIFIED:20171217T183615Z
UID:56208-1533828600-1533830400@www.14streety.org
SUMMARY:Sea Horses
DESCRIPTION:
URL:https://www.14streety.org/event/sea-horses/2018-08-09/
END:VEVENT
BEGIN:VEVENT
DTSTART;TZID=America/New_York:20180809T153000
DTEND;TZID=America/New_York:20180809T160000
DTSTAMP:20260421T051645
CREATED:20171217T192243Z
LAST-MODIFIED:20171217T192243Z
UID:61670-1533828600-1533830400@www.14streety.org
SUMMARY:Otters
DESCRIPTION:
URL:https://www.14streety.org/event/otters/2018-08-09/2/
END:VEVENT
BEGIN:VEVENT
DTSTART;TZID=America/New_York:20180809T160000
DTEND;TZID=America/New_York:20180809T163000
DTSTAMP:20260421T051645
CREATED:20171217T192700Z
LAST-MODIFIED:20171217T192700Z
UID:59049-1533830400-1533832200@www.14streety.org
SUMMARY:Dolphins
DESCRIPTION:
URL:https://www.14streety.org/event/dolphins/2018-08-09/
END:VEVENT
BEGIN:VEVENT
DTSTART;TZID=America/New_York:20180809T160000
DTEND;TZID=America/New_York:20180809T163000
DTSTAMP:20260421T051645
CREATED:20171217T193329Z
LAST-MODIFIED:20171217T193329Z
UID:59281-1533830400-1533832200@www.14streety.org
SUMMARY:Sharks
DESCRIPTION:
URL:https://www.14streety.org/event/sharks/2018-08-09/
END:VEVENT
END:VCALENDAR