BEGIN:VCALENDAR
VERSION:2.0
PRODID:-//14th Street Y - ECPv5.5.0.1//NONSGML v1.0//EN
CALSCALE:GREGORIAN
METHOD:PUBLISH
X-WR-CALNAME:14th Street Y
X-ORIGINAL-URL:https://www.14streety.org
X-WR-CALDESC:Events for 14th Street Y
BEGIN:VTIMEZONE
TZID:America/New_York
BEGIN:DAYLIGHT
TZOFFSETFROM:-0500
TZOFFSETTO:-0400
TZNAME:EDT
DTSTART:20180311T070000
END:DAYLIGHT
BEGIN:STANDARD
TZOFFSETFROM:-0400
TZOFFSETTO:-0500
TZNAME:EST
DTSTART:20181104T060000
END:STANDARD
END:VTIMEZONE
BEGIN:VEVENT
DTSTART;TZID=America/New_York:20180808T143000
DTEND;TZID=America/New_York:20180808T150000
DTSTAMP:20260421T065022
CREATED:20171217T180138Z
LAST-MODIFIED:20171217T202557Z
UID:56685-1533738600-1533740400@www.14streety.org
SUMMARY:Baby Belugas
DESCRIPTION:
URL:https://www.14streety.org/event/baby-belugas/2018-08-08/
END:VEVENT
BEGIN:VEVENT
DTSTART;TZID=America/New_York:20180808T143000
DTEND;TZID=America/New_York:20180808T150000
DTSTAMP:20260421T065022
CREATED:20171217T180831Z
LAST-MODIFIED:20171218T075834Z
UID:57570-1533738600-1533740400@www.14streety.org
SUMMARY:Big Fish
DESCRIPTION:
URL:https://www.14streety.org/event/big-fish/2018-08-08/
END:VEVENT
BEGIN:VEVENT
DTSTART;TZID=America/New_York:20180808T150000
DTEND;TZID=America/New_York:20180808T153000
DTSTAMP:20260421T065022
CREATED:20171217T180438Z
LAST-MODIFIED:20171218T092909Z
UID:55689-1533740400-1533742200@www.14streety.org
SUMMARY:Little Dippers
DESCRIPTION:
URL:https://www.14streety.org/event/little-dippers/2018-08-08/
END:VEVENT
BEGIN:VEVENT
DTSTART;TZID=America/New_York:20180808T153000
DTEND;TZID=America/New_York:20180808T160000
DTSTAMP:20260421T065022
CREATED:20171217T181724Z
LAST-MODIFIED:20171218T032846Z
UID:58156-1533742200-1533744000@www.14streety.org
SUMMARY:Tadpoles
DESCRIPTION:
URL:https://www.14streety.org/event/tadpoles/2018-08-08/
END:VEVENT
BEGIN:VEVENT
DTSTART;TZID=America/New_York:20180808T153000
DTEND;TZID=America/New_York:20180808T160000
DTSTAMP:20260421T065022
CREATED:20171217T183615Z
LAST-MODIFIED:20171217T183615Z
UID:56206-1533742200-1533744000@www.14streety.org
SUMMARY:Sea Horses
DESCRIPTION:
URL:https://www.14streety.org/event/sea-horses/2018-08-08/
END:VEVENT
BEGIN:VEVENT
DTSTART;TZID=America/New_York:20180808T160000
DTEND;TZID=America/New_York:20180808T163000
DTSTAMP:20260421T065022
CREATED:20171217T183615Z
LAST-MODIFIED:20171217T183615Z
UID:56207-1533744000-1533745800@www.14streety.org
SUMMARY:Sea Horses
DESCRIPTION:
URL:https://www.14streety.org/event/sea-horses/2018-08-08/2/
END:VEVENT
BEGIN:VEVENT
DTSTART;TZID=America/New_York:20180808T160000
DTEND;TZID=America/New_York:20180808T163000
DTSTAMP:20260421T065022
CREATED:20171217T192243Z
LAST-MODIFIED:20171217T192243Z
UID:61668-1533744000-1533745800@www.14streety.org
SUMMARY:Otters
DESCRIPTION:
URL:https://www.14streety.org/event/otters/2018-08-08/
END:VEVENT
BEGIN:VEVENT
DTSTART;TZID=America/New_York:20180808T183000
DTEND;TZID=America/New_York:20180808T200000
DTSTAMP:20260421T065022
CREATED:20180628T175943Z
LAST-MODIFIED:20180807T192934Z
UID:76924-1533753000-1533758400@www.14streety.org
SUMMARY:Community Forum: #14YMobilize
DESCRIPTION:Looking to take action to support immigrant\, migrant\, and refugee families?\nDon’t miss the second #14YMobilize Community Forum at the 14th Street Y.\nJoin us on Wednesday\, August 8 from 6:30 – 8:00 PM\nWe’re gathering as a community to express our deep concerns regarding the “zero-tolerance” immigration policy\, their implications to asylum-seeking families at our borders\, and to find ways to help those families who’ve been torn apart. \nTogether\, let us address how policies like these impact our families\, our community\, and our nation—and find meaningful ways to help asylum-seeking families in NYC\, across the country\, and at our borders. \n  \nAGENDA:  \n\nInformation and thoughts from our community leaders\, including Rabbi Shira Koch Epstein\, Executive Director of the 14th Street Y\nReport back from our #14YMobilize Group Leaders\nBreak out sessions that will include finding ways to support organizations such as International Rescue Committee\, and drafting letters of supports to important bills that impact immigrant families in NYC\nNetworking and conversation among your diverse downtown community\n\n  \nRefreshments and snacks will be served. Due to limited capacity\, please RSVP. \nRSVP HERE \nThis event is FREE and OPEN TO ALL. \n\n  \nImmigrant Accompaniment Training at East End Temple\nWednesday\, August 7 | 6:30 PM – 8:30 PM \nFor those interested\, our community partner East End Temple\, is hosting a free Immigrant Accompaniment Training with Assembly Member Harvey Epstein and New Sanctuary Coalition. This event is happening at the same time as our Community Forum. \nTo learn more and register for this important training session\, please click here. \n 
URL:https://www.14streety.org/event/community-forum-14ymobilize/
CATEGORIES:Community Events
ATTACH;FMTTYPE=image/jpeg:https://www.14streety.org/wp-content/uploads/2018/06/14Y_-CommunityForumHero.jpg
END:VEVENT
END:VCALENDAR