BEGIN:VCALENDAR
VERSION:2.0
PRODID:-//14th Street Y - ECPv5.5.0.1//NONSGML v1.0//EN
CALSCALE:GREGORIAN
METHOD:PUBLISH
X-WR-CALNAME:14th Street Y
X-ORIGINAL-URL:https://www.14streety.org
X-WR-CALDESC:Events for 14th Street Y
BEGIN:VTIMEZONE
TZID:America/New_York
BEGIN:DAYLIGHT
TZOFFSETFROM:-0500
TZOFFSETTO:-0400
TZNAME:EDT
DTSTART:20180311T070000
END:DAYLIGHT
BEGIN:STANDARD
TZOFFSETFROM:-0400
TZOFFSETTO:-0500
TZNAME:EST
DTSTART:20181104T060000
END:STANDARD
END:VTIMEZONE
BEGIN:VEVENT
DTSTART;TZID=America/New_York:20180805T090000
DTEND;TZID=America/New_York:20180805T093000
DTSTAMP:20260421T094942
CREATED:20171217T180138Z
LAST-MODIFIED:20171217T202555Z
UID:56681-1533459600-1533461400@www.14streety.org
SUMMARY:Baby Belugas
DESCRIPTION:
URL:https://www.14streety.org/event/baby-belugas/2018-08-05/
END:VEVENT
BEGIN:VEVENT
DTSTART;TZID=America/New_York:20180805T100000
DTEND;TZID=America/New_York:20180805T103000
DTSTAMP:20260421T094942
CREATED:20171217T180831Z
LAST-MODIFIED:20171218T075833Z
UID:57568-1533463200-1533465000@www.14streety.org
SUMMARY:Big Fish
DESCRIPTION:
URL:https://www.14streety.org/event/big-fish/2018-08-05/
END:VEVENT
BEGIN:VEVENT
DTSTART;TZID=America/New_York:20180805T100000
DTEND;TZID=America/New_York:20180805T113000
DTSTAMP:20260421T094942
CREATED:20171217T202019Z
LAST-MODIFIED:20171217T202019Z
UID:60387-1533463200-1533468600@www.14streety.org
SUMMARY:Vinyasa Yoga with Lorrie I Studio A&B
DESCRIPTION:
URL:https://www.14streety.org/event/vinyasa-yoga-lorrie-studio-ab-2018-08-05/
END:VEVENT
BEGIN:VEVENT
DTSTART;TZID=America/New_York:20180805T120000
DTEND;TZID=America/New_York:20180805T123000
DTSTAMP:20260421T094942
CREATED:20171217T181724Z
LAST-MODIFIED:20171218T032843Z
UID:58149-1533470400-1533472200@www.14streety.org
SUMMARY:Tadpoles
DESCRIPTION:
URL:https://www.14streety.org/event/tadpoles/2018-08-05/
END:VEVENT
BEGIN:VEVENT
DTSTART;TZID=America/New_York:20180805T120000
DTEND;TZID=America/New_York:20180805T123000
DTSTAMP:20260421T094942
CREATED:20171217T192243Z
LAST-MODIFIED:20171217T192243Z
UID:61665-1533470400-1533472200@www.14streety.org
SUMMARY:Otters
DESCRIPTION:
URL:https://www.14streety.org/event/otters/2018-08-05/
END:VEVENT
BEGIN:VEVENT
DTSTART;TZID=America/New_York:20180805T123000
DTEND;TZID=America/New_York:20180805T130000
DTSTAMP:20260421T094942
CREATED:20171217T181724Z
LAST-MODIFIED:20171218T032843Z
UID:58150-1533472200-1533474000@www.14streety.org
SUMMARY:Tadpoles
DESCRIPTION:
URL:https://www.14streety.org/event/tadpoles/2018-08-05/2/
END:VEVENT
BEGIN:VEVENT
DTSTART;TZID=America/New_York:20180805T123000
DTEND;TZID=America/New_York:20180805T130000
DTSTAMP:20260421T094942
CREATED:20171217T192243Z
LAST-MODIFIED:20171217T192243Z
UID:61666-1533472200-1533474000@www.14streety.org
SUMMARY:Otters
DESCRIPTION:
URL:https://www.14streety.org/event/otters/2018-08-05/2/
END:VEVENT
BEGIN:VEVENT
DTSTART;TZID=America/New_York:20180805T130000
DTEND;TZID=America/New_York:20180805T133000
DTSTAMP:20260421T094942
CREATED:20171217T192700Z
LAST-MODIFIED:20171217T192700Z
UID:59048-1533474000-1533475800@www.14streety.org
SUMMARY:Dolphins
DESCRIPTION:
URL:https://www.14streety.org/event/dolphins/2018-08-05/
END:VEVENT
BEGIN:VEVENT
DTSTART;TZID=America/New_York:20180805T130000
DTEND;TZID=America/New_York:20180805T133000
DTSTAMP:20260421T094942
CREATED:20171217T193329Z
LAST-MODIFIED:20171217T193329Z
UID:59280-1533474000-1533475800@www.14streety.org
SUMMARY:Sharks
DESCRIPTION:
URL:https://www.14streety.org/event/sharks/2018-08-05/
END:VEVENT
BEGIN:VEVENT
DTSTART;TZID=America/New_York:20180805T133000
DTEND;TZID=America/New_York:20180805T140000
DTSTAMP:20260421T094942
CREATED:20171217T180138Z
LAST-MODIFIED:20171217T202556Z
UID:56682-1533475800-1533477600@www.14streety.org
SUMMARY:Baby Belugas
DESCRIPTION:
URL:https://www.14streety.org/event/baby-belugas/2018-08-05/2/
END:VEVENT
END:VCALENDAR