BEGIN:VCALENDAR
VERSION:2.0
PRODID:-//14th Street Y - ECPv5.5.0.1//NONSGML v1.0//EN
CALSCALE:GREGORIAN
METHOD:PUBLISH
X-WR-CALNAME:14th Street Y
X-ORIGINAL-URL:https://www.14streety.org
X-WR-CALDESC:Events for 14th Street Y
BEGIN:VTIMEZONE
TZID:America/New_York
BEGIN:DAYLIGHT
TZOFFSETFROM:-0500
TZOFFSETTO:-0400
TZNAME:EDT
DTSTART:20180311T070000
END:DAYLIGHT
BEGIN:STANDARD
TZOFFSETFROM:-0400
TZOFFSETTO:-0500
TZNAME:EST
DTSTART:20181104T060000
END:STANDARD
END:VTIMEZONE
BEGIN:VEVENT
DTSTART;TZID=America/New_York:20180722T090000
DTEND;TZID=America/New_York:20180722T093000
DTSTAMP:20260421T201913
CREATED:20171217T180138Z
LAST-MODIFIED:20171217T202546Z
UID:56663-1532250000-1532251800@www.14streety.org
SUMMARY:Baby Belugas
DESCRIPTION:
URL:https://www.14streety.org/event/baby-belugas/2018-07-22/
END:VEVENT
BEGIN:VEVENT
DTSTART;TZID=America/New_York:20180722T100000
DTEND;TZID=America/New_York:20180722T103000
DTSTAMP:20260421T201913
CREATED:20171217T180831Z
LAST-MODIFIED:20171218T072909Z
UID:57554-1532253600-1532255400@www.14streety.org
SUMMARY:Big Fish
DESCRIPTION:
URL:https://www.14streety.org/event/big-fish/2018-07-22/
END:VEVENT
BEGIN:VEVENT
DTSTART;TZID=America/New_York:20180722T100000
DTEND;TZID=America/New_York:20180722T113000
DTSTAMP:20260421T201913
CREATED:20171217T202019Z
LAST-MODIFIED:20171217T202019Z
UID:60385-1532253600-1532259000@www.14streety.org
SUMMARY:Vinyasa Yoga with Lorrie I Studio A&B
DESCRIPTION:
URL:https://www.14streety.org/event/vinyasa-yoga-lorrie-studio-ab-2018-07-22/
END:VEVENT
BEGIN:VEVENT
DTSTART;TZID=America/New_York:20180722T120000
DTEND;TZID=America/New_York:20180722T123000
DTSTAMP:20260421T201913
CREATED:20171217T181724Z
LAST-MODIFIED:20171218T032835Z
UID:58127-1532260800-1532262600@www.14streety.org
SUMMARY:Tadpoles
DESCRIPTION:
URL:https://www.14streety.org/event/tadpoles/2018-07-22/
END:VEVENT
BEGIN:VEVENT
DTSTART;TZID=America/New_York:20180722T120000
DTEND;TZID=America/New_York:20180722T123000
DTSTAMP:20260421T201913
CREATED:20171217T192243Z
LAST-MODIFIED:20171217T192243Z
UID:61653-1532260800-1532262600@www.14streety.org
SUMMARY:Otters
DESCRIPTION:
URL:https://www.14streety.org/event/otters/2018-07-22/
END:VEVENT
BEGIN:VEVENT
DTSTART;TZID=America/New_York:20180722T123000
DTEND;TZID=America/New_York:20180722T130000
DTSTAMP:20260421T201913
CREATED:20171217T181724Z
LAST-MODIFIED:20171218T032835Z
UID:58128-1532262600-1532264400@www.14streety.org
SUMMARY:Tadpoles
DESCRIPTION:
URL:https://www.14streety.org/event/tadpoles/2018-07-22/
END:VEVENT
BEGIN:VEVENT
DTSTART;TZID=America/New_York:20180722T123000
DTEND;TZID=America/New_York:20180722T130000
DTSTAMP:20260421T201913
CREATED:20171217T192243Z
LAST-MODIFIED:20171217T192243Z
UID:61654-1532262600-1532264400@www.14streety.org
SUMMARY:Otters
DESCRIPTION:
URL:https://www.14streety.org/event/otters/2018-07-22/2/
END:VEVENT
BEGIN:VEVENT
DTSTART;TZID=America/New_York:20180722T130000
DTEND;TZID=America/New_York:20180722T133000
DTSTAMP:20260421T201913
CREATED:20171217T192700Z
LAST-MODIFIED:20171217T192700Z
UID:59044-1532264400-1532266200@www.14streety.org
SUMMARY:Dolphins
DESCRIPTION:
URL:https://www.14streety.org/event/dolphins/2018-07-22/
END:VEVENT
BEGIN:VEVENT
DTSTART;TZID=America/New_York:20180722T130000
DTEND;TZID=America/New_York:20180722T133000
DTSTAMP:20260421T201913
CREATED:20171217T193329Z
LAST-MODIFIED:20171217T193329Z
UID:59276-1532264400-1532266200@www.14streety.org
SUMMARY:Sharks
DESCRIPTION:
URL:https://www.14streety.org/event/sharks/2018-07-22/
END:VEVENT
BEGIN:VEVENT
DTSTART;TZID=America/New_York:20180722T133000
DTEND;TZID=America/New_York:20180722T140000
DTSTAMP:20260421T201913
CREATED:20171217T180138Z
LAST-MODIFIED:20171217T202547Z
UID:56664-1532266200-1532268000@www.14streety.org
SUMMARY:Baby Belugas
DESCRIPTION:
URL:https://www.14streety.org/event/baby-belugas/2018-07-22/2/
END:VEVENT
END:VCALENDAR