BEGIN:VCALENDAR
VERSION:2.0
PRODID:-//14th Street Y - ECPv5.5.0.1//NONSGML v1.0//EN
CALSCALE:GREGORIAN
METHOD:PUBLISH
X-WR-CALNAME:14th Street Y
X-ORIGINAL-URL:https://www.14streety.org
X-WR-CALDESC:Events for 14th Street Y
BEGIN:VTIMEZONE
TZID:America/New_York
BEGIN:DAYLIGHT
TZOFFSETFROM:-0500
TZOFFSETTO:-0400
TZNAME:EDT
DTSTART:20180311T070000
END:DAYLIGHT
BEGIN:STANDARD
TZOFFSETFROM:-0400
TZOFFSETTO:-0500
TZNAME:EST
DTSTART:20181104T060000
END:STANDARD
END:VTIMEZONE
BEGIN:VEVENT
DTSTART;TZID=America/New_York:20180721T090000
DTEND;TZID=America/New_York:20180721T093000
DTSTAMP:20260422T072410
CREATED:20171217T180138Z
LAST-MODIFIED:20171217T202545Z
UID:56661-1532163600-1532165400@www.14streety.org
SUMMARY:Baby Belugas
DESCRIPTION:
URL:https://www.14streety.org/event/baby-belugas/2018-07-21/
END:VEVENT
BEGIN:VEVENT
DTSTART;TZID=America/New_York:20180721T100000
DTEND;TZID=America/New_York:20180721T103000
DTSTAMP:20260422T072410
CREATED:20171217T180831Z
LAST-MODIFIED:20171218T072908Z
UID:57552-1532167200-1532169000@www.14streety.org
SUMMARY:Big Fish
DESCRIPTION:
URL:https://www.14streety.org/event/big-fish/2018-07-21/
END:VEVENT
BEGIN:VEVENT
DTSTART;TZID=America/New_York:20180721T113000
DTEND;TZID=America/New_York:20180721T120000
DTSTAMP:20260422T072410
CREATED:20171217T180831Z
LAST-MODIFIED:20171218T072908Z
UID:57553-1532172600-1532174400@www.14streety.org
SUMMARY:Big Fish
DESCRIPTION:
URL:https://www.14streety.org/event/big-fish/2018-07-21/2/
END:VEVENT
BEGIN:VEVENT
DTSTART;TZID=America/New_York:20180721T123000
DTEND;TZID=America/New_York:20180721T130000
DTSTAMP:20260422T072410
CREATED:20171217T181724Z
LAST-MODIFIED:20171218T032834Z
UID:58126-1532176200-1532178000@www.14streety.org
SUMMARY:Tadpoles
DESCRIPTION:
URL:https://www.14streety.org/event/tadpoles/2018-07-21/
END:VEVENT
BEGIN:VEVENT
DTSTART;TZID=America/New_York:20180721T133000
DTEND;TZID=America/New_York:20180721T140000
DTSTAMP:20260422T072410
CREATED:20171217T180138Z
LAST-MODIFIED:20171217T202546Z
UID:56662-1532179800-1532181600@www.14streety.org
SUMMARY:Baby Belugas
DESCRIPTION:
URL:https://www.14streety.org/event/baby-belugas/2018-07-21/2/
END:VEVENT
BEGIN:VEVENT
DTSTART;TZID=America/New_York:20180721T160000
DTEND;TZID=America/New_York:20180721T163000
DTSTAMP:20260422T072410
CREATED:20171217T194017Z
LAST-MODIFIED:20171217T194017Z
UID:61319-1532188800-1532190600@www.14streety.org
SUMMARY:Special Needs
DESCRIPTION:
URL:https://www.14streety.org/event/special-needs/2018-07-21/
END:VEVENT
BEGIN:VEVENT
DTSTART;TZID=America/New_York:20180721T163000
DTEND;TZID=America/New_York:20180721T170000
DTSTAMP:20260422T072410
CREATED:20171217T194017Z
LAST-MODIFIED:20171217T194017Z
UID:61320-1532190600-1532192400@www.14streety.org
SUMMARY:Special Needs
DESCRIPTION:
URL:https://www.14streety.org/event/special-needs/2018-07-21/2/
END:VEVENT
END:VCALENDAR