BEGIN:VCALENDAR
VERSION:2.0
PRODID:-//14th Street Y - ECPv5.5.0.1//NONSGML v1.0//EN
CALSCALE:GREGORIAN
METHOD:PUBLISH
X-WR-CALNAME:14th Street Y
X-ORIGINAL-URL:https://www.14streety.org
X-WR-CALDESC:Events for 14th Street Y
BEGIN:VTIMEZONE
TZID:America/New_York
BEGIN:DAYLIGHT
TZOFFSETFROM:-0500
TZOFFSETTO:-0400
TZNAME:EDT
DTSTART:20180311T070000
END:DAYLIGHT
BEGIN:STANDARD
TZOFFSETFROM:-0400
TZOFFSETTO:-0500
TZNAME:EST
DTSTART:20181104T060000
END:STANDARD
END:VTIMEZONE
BEGIN:VEVENT
DTSTART;TZID=America/New_York:20180718T143000
DTEND;TZID=America/New_York:20180718T150000
DTSTAMP:20260422T163230
CREATED:20171217T180138Z
LAST-MODIFIED:20171217T202544Z
UID:56658-1531924200-1531926000@www.14streety.org
SUMMARY:Baby Belugas
DESCRIPTION:
URL:https://www.14streety.org/event/baby-belugas/2018-07-18/
END:VEVENT
BEGIN:VEVENT
DTSTART;TZID=America/New_York:20180718T143000
DTEND;TZID=America/New_York:20180718T150000
DTSTAMP:20260422T163230
CREATED:20171217T180831Z
LAST-MODIFIED:20171218T072907Z
UID:57549-1531924200-1531926000@www.14streety.org
SUMMARY:Big Fish
DESCRIPTION:
URL:https://www.14streety.org/event/big-fish/2018-07-18/
END:VEVENT
BEGIN:VEVENT
DTSTART;TZID=America/New_York:20180718T150000
DTEND;TZID=America/New_York:20180718T153000
DTSTAMP:20260422T163230
CREATED:20171217T180438Z
LAST-MODIFIED:20171217T190305Z
UID:55680-1531926000-1531927800@www.14streety.org
SUMMARY:Little Dippers
DESCRIPTION:
URL:https://www.14streety.org/event/little-dippers/2018-07-18/
END:VEVENT
BEGIN:VEVENT
DTSTART;TZID=America/New_York:20180718T153000
DTEND;TZID=America/New_York:20180718T160000
DTSTAMP:20260422T163230
CREATED:20171217T181724Z
LAST-MODIFIED:20171218T032833Z
UID:58123-1531927800-1531929600@www.14streety.org
SUMMARY:Tadpoles
DESCRIPTION:
URL:https://www.14streety.org/event/tadpoles/2018-07-18/
END:VEVENT
BEGIN:VEVENT
DTSTART;TZID=America/New_York:20180718T153000
DTEND;TZID=America/New_York:20180718T160000
DTSTAMP:20260422T163230
CREATED:20171217T183615Z
LAST-MODIFIED:20171217T183615Z
UID:56188-1531927800-1531929600@www.14streety.org
SUMMARY:Sea Horses
DESCRIPTION:
URL:https://www.14streety.org/event/sea-horses/2018-07-18/
END:VEVENT
BEGIN:VEVENT
DTSTART;TZID=America/New_York:20180718T160000
DTEND;TZID=America/New_York:20180718T163000
DTSTAMP:20260422T163230
CREATED:20171217T183615Z
LAST-MODIFIED:20171217T183615Z
UID:56189-1531929600-1531931400@www.14streety.org
SUMMARY:Sea Horses
DESCRIPTION:
URL:https://www.14streety.org/event/sea-horses/2018-07-18/2/
END:VEVENT
BEGIN:VEVENT
DTSTART;TZID=America/New_York:20180718T160000
DTEND;TZID=America/New_York:20180718T163000
DTSTAMP:20260422T163230
CREATED:20171217T192243Z
LAST-MODIFIED:20171217T192243Z
UID:61650-1531929600-1531931400@www.14streety.org
SUMMARY:Otters
DESCRIPTION:
URL:https://www.14streety.org/event/otters/2018-07-18/
END:VEVENT
BEGIN:VEVENT
DTSTART;TZID=America/New_York:20180718T181500
DTEND;TZID=America/New_York:20180718T203000
DTSTAMP:20260422T163230
CREATED:20180629T184659Z
LAST-MODIFIED:20180717T181522Z
UID:76972-1531937700-1531945800@www.14streety.org
SUMMARY:Rooftop Zumba + Happy Hour Pop-up
DESCRIPTION:Join us for an energetic and fun work out following by some delicious refreshments.\nZumba Class: 6:15 – 7:15 PM\nRefreshments: 7:15 – 8:30 PM\nZumba is a mix of different dance styles with a Latin twist that combines moderate to high cardio moves. This great work out is super fun and dance experience is not required. Refreshments will be provided after a great workout on our newly re-tiled roof. \nDrinks (alcoholic and non-alcoholic) and snacks will be served. \nFeel free to come to any part of this event\, whether you want to just stop by for a great workout or come at 7:15 to mingle with your East Village community. \nFree for 14th Street Y members. Non-members can purchase a $25 Day Pass at our Service Desk\, which offers full access to the 14th Street Y including other fitness classes\, a new fitness center\, a refreshing pool\, and lock rooms\, which have brand new saunas! \nClick REGISTER to guarantee your spot!
URL:https://www.14streety.org/event/rooftop-zumba-happy-hour-pop-up/
ATTACH;FMTTYPE=image/jpeg:https://www.14streety.org/wp-content/uploads/2017/10/FitnessFlights-2017dsc_0297.jpg
END:VEVENT
END:VCALENDAR