BEGIN:VCALENDAR
VERSION:2.0
PRODID:-//14th Street Y - ECPv5.5.0.1//NONSGML v1.0//EN
CALSCALE:GREGORIAN
METHOD:PUBLISH
X-WR-CALNAME:14th Street Y
X-ORIGINAL-URL:https://www.14streety.org
X-WR-CALDESC:Events for 14th Street Y
BEGIN:VTIMEZONE
TZID:America/New_York
BEGIN:DAYLIGHT
TZOFFSETFROM:-0500
TZOFFSETTO:-0400
TZNAME:EDT
DTSTART:20180311T070000
END:DAYLIGHT
BEGIN:STANDARD
TZOFFSETFROM:-0400
TZOFFSETTO:-0500
TZNAME:EST
DTSTART:20181104T060000
END:STANDARD
END:VTIMEZONE
BEGIN:VEVENT
DTSTART;TZID=America/New_York:20180705T090000
DTEND;TZID=America/New_York:20180705T093000
DTSTAMP:20260422T054456
CREATED:20171217T180138Z
LAST-MODIFIED:20171217T202535Z
UID:56641-1530781200-1530783000@www.14streety.org
SUMMARY:Baby Belugas
DESCRIPTION:
URL:https://www.14streety.org/event/baby-belugas/2018-07-05/
END:VEVENT
BEGIN:VEVENT
DTSTART;TZID=America/New_York:20180705T100000
DTEND;TZID=America/New_York:20180705T103000
DTSTAMP:20260422T054456
CREATED:20171217T180831Z
LAST-MODIFIED:20171218T072902Z
UID:57536-1530784800-1530786600@www.14streety.org
SUMMARY:Big Fish
DESCRIPTION:
URL:https://www.14streety.org/event/big-fish/2018-07-05/
END:VEVENT
BEGIN:VEVENT
DTSTART;TZID=America/New_York:20180705T120000
DTEND;TZID=America/New_York:20180705T123000
DTSTAMP:20260422T054456
CREATED:20171217T192243Z
LAST-MODIFIED:20171217T192243Z
UID:61639-1530792000-1530793800@www.14streety.org
SUMMARY:Otters
DESCRIPTION:
URL:https://www.14streety.org/event/otters/2018-07-05/
END:VEVENT
BEGIN:VEVENT
DTSTART;TZID=America/New_York:20180705T143000
DTEND;TZID=America/New_York:20180705T150000
DTSTAMP:20260422T054456
CREATED:20180619T192951Z
LAST-MODIFIED:20180619T192951Z
UID:76811-1530801000-1530802800@www.14streety.org
SUMMARY:Storytime in the Square: Beautiful Yetta
DESCRIPTION:Come join the 14th Street Y with PJ Library and the Union Square Partnership as we read stories and sing songs together every Thursday afternoon at Summer in the Square!\nThis week’s show will be based on the PJ Library story Beautiful Yetta\, written by Daniel Pinkwater and illustrated by Jill Pinkwater. In this story\, Yetta the chicken teaches children what it means to be brave even when you find yourself in a new city or place. WonderSpark Puppets will grab children’s attention through their creative show that you won’t want to miss out! \nCan’t make our program? Come find the 14th Street Y tent to find out more about the Y and other family programs. This event is co-sponsored by PJ Library. \n \nFor Ages: 1 – 5 years\nPerformer: WonderSpark Puppets\nBook: Beautiful Yetta\nValue: Bravery\nWhere: Union Square’s Children’s Pavilion \nThis event is FREE and open to all!
URL:https://www.14streety.org/event/storytime-in-the-square-beautiful-yetta/
CATEGORIES:Community Events
ATTACH;FMTTYPE=image/png:https://www.14streety.org/wp-content/uploads/2018/06/Storytime-Hero-2.png
END:VEVENT
BEGIN:VEVENT
DTSTART;TZID=America/New_York:20180705T150000
DTEND;TZID=America/New_York:20180705T153000
DTSTAMP:20260422T054456
CREATED:20171217T181724Z
LAST-MODIFIED:20171218T025900Z
UID:58102-1530802800-1530804600@www.14streety.org
SUMMARY:Tadpoles
DESCRIPTION:
URL:https://www.14streety.org/event/tadpoles/2018-07-05/
END:VEVENT
BEGIN:VEVENT
DTSTART;TZID=America/New_York:20180705T153000
DTEND;TZID=America/New_York:20180705T160000
DTSTAMP:20260422T054456
CREATED:20171217T183615Z
LAST-MODIFIED:20171217T183615Z
UID:56178-1530804600-1530806400@www.14streety.org
SUMMARY:Sea Horses
DESCRIPTION:
URL:https://www.14streety.org/event/sea-horses/2018-07-05/
END:VEVENT
BEGIN:VEVENT
DTSTART;TZID=America/New_York:20180705T153000
DTEND;TZID=America/New_York:20180705T160000
DTSTAMP:20260422T054456
CREATED:20171217T192243Z
LAST-MODIFIED:20171217T192243Z
UID:61640-1530804600-1530806400@www.14streety.org
SUMMARY:Otters
DESCRIPTION:
URL:https://www.14streety.org/event/otters/2018-07-05/2/
END:VEVENT
BEGIN:VEVENT
DTSTART;TZID=America/New_York:20180705T160000
DTEND;TZID=America/New_York:20180705T163000
DTSTAMP:20260422T054456
CREATED:20171217T192700Z
LAST-MODIFIED:20171217T192700Z
UID:59039-1530806400-1530808200@www.14streety.org
SUMMARY:Dolphins
DESCRIPTION:
URL:https://www.14streety.org/event/dolphins/2018-07-05/
END:VEVENT
BEGIN:VEVENT
DTSTART;TZID=America/New_York:20180705T160000
DTEND;TZID=America/New_York:20180705T163000
DTSTAMP:20260422T054456
CREATED:20171217T193329Z
LAST-MODIFIED:20171217T193329Z
UID:59271-1530806400-1530808200@www.14streety.org
SUMMARY:Sharks
DESCRIPTION:
URL:https://www.14streety.org/event/sharks/2018-07-05/
END:VEVENT
END:VCALENDAR