BEGIN:VCALENDAR
VERSION:2.0
PRODID:-//14th Street Y - ECPv5.5.0.1//NONSGML v1.0//EN
CALSCALE:GREGORIAN
METHOD:PUBLISH
X-WR-CALNAME:14th Street Y
X-ORIGINAL-URL:https://www.14streety.org
X-WR-CALDESC:Events for 14th Street Y
BEGIN:VTIMEZONE
TZID:America/New_York
BEGIN:DAYLIGHT
TZOFFSETFROM:-0500
TZOFFSETTO:-0400
TZNAME:EDT
DTSTART:20180311T070000
END:DAYLIGHT
BEGIN:STANDARD
TZOFFSETFROM:-0400
TZOFFSETTO:-0500
TZNAME:EST
DTSTART:20181104T060000
END:STANDARD
END:VTIMEZONE
BEGIN:VEVENT
DTSTART;TZID=America/New_York:20180704T143000
DTEND;TZID=America/New_York:20180704T150000
DTSTAMP:20260421T215903
CREATED:20171217T180138Z
LAST-MODIFIED:20171217T202535Z
UID:56640-1530714600-1530716400@www.14streety.org
SUMMARY:Baby Belugas
DESCRIPTION:
URL:https://www.14streety.org/event/baby-belugas/2018-07-04/
END:VEVENT
BEGIN:VEVENT
DTSTART;TZID=America/New_York:20180704T143000
DTEND;TZID=America/New_York:20180704T150000
DTSTAMP:20260421T215903
CREATED:20171217T180831Z
LAST-MODIFIED:20171218T072902Z
UID:57535-1530714600-1530716400@www.14streety.org
SUMMARY:Big Fish
DESCRIPTION:
URL:https://www.14streety.org/event/big-fish/2018-07-04/
END:VEVENT
BEGIN:VEVENT
DTSTART;TZID=America/New_York:20180704T150000
DTEND;TZID=America/New_York:20180704T153000
DTSTAMP:20260421T215903
CREATED:20171217T180438Z
LAST-MODIFIED:20171217T190254Z
UID:55674-1530716400-1530718200@www.14streety.org
SUMMARY:Little Dippers
DESCRIPTION:
URL:https://www.14streety.org/event/little-dippers/2018-07-04/
END:VEVENT
BEGIN:VEVENT
DTSTART;TZID=America/New_York:20180704T153000
DTEND;TZID=America/New_York:20180704T160000
DTSTAMP:20260421T215903
CREATED:20171217T181724Z
LAST-MODIFIED:20171218T025900Z
UID:58101-1530718200-1530720000@www.14streety.org
SUMMARY:Tadpoles
DESCRIPTION:
URL:https://www.14streety.org/event/tadpoles/2018-07-04/
END:VEVENT
BEGIN:VEVENT
DTSTART;TZID=America/New_York:20180704T153000
DTEND;TZID=America/New_York:20180704T160000
DTSTAMP:20260421T215903
CREATED:20171217T183615Z
LAST-MODIFIED:20171217T183615Z
UID:56176-1530718200-1530720000@www.14streety.org
SUMMARY:Sea Horses
DESCRIPTION:
URL:https://www.14streety.org/event/sea-horses/2018-07-04/
END:VEVENT
BEGIN:VEVENT
DTSTART;TZID=America/New_York:20180704T160000
DTEND;TZID=America/New_York:20180704T163000
DTSTAMP:20260421T215903
CREATED:20171217T183615Z
LAST-MODIFIED:20171217T183615Z
UID:56177-1530720000-1530721800@www.14streety.org
SUMMARY:Sea Horses
DESCRIPTION:
URL:https://www.14streety.org/event/sea-horses/2018-07-04/2/
END:VEVENT
BEGIN:VEVENT
DTSTART;TZID=America/New_York:20180704T160000
DTEND;TZID=America/New_York:20180704T163000
DTSTAMP:20260421T215903
CREATED:20171217T192243Z
LAST-MODIFIED:20171217T192243Z
UID:61638-1530720000-1530721800@www.14streety.org
SUMMARY:Otters
DESCRIPTION:
URL:https://www.14streety.org/event/otters/2018-07-04/
END:VEVENT
END:VCALENDAR