BEGIN:VCALENDAR
VERSION:2.0
PRODID:-//14th Street Y - ECPv5.5.0.1//NONSGML v1.0//EN
CALSCALE:GREGORIAN
METHOD:PUBLISH
X-WR-CALNAME:14th Street Y
X-ORIGINAL-URL:https://www.14streety.org
X-WR-CALDESC:Events for 14th Street Y
BEGIN:VTIMEZONE
TZID:America/New_York
BEGIN:DAYLIGHT
TZOFFSETFROM:-0500
TZOFFSETTO:-0400
TZNAME:EDT
DTSTART:20180311T070000
END:DAYLIGHT
BEGIN:STANDARD
TZOFFSETFROM:-0400
TZOFFSETTO:-0500
TZNAME:EST
DTSTART:20181104T060000
END:STANDARD
END:VTIMEZONE
BEGIN:VEVENT
DTSTART;TZID=America/New_York:20180629T103000
DTEND;TZID=America/New_York:20180629T110000
DTSTAMP:20260421T200901
CREATED:20171217T180831Z
LAST-MODIFIED:20171218T072900Z
UID:57530-1530268200-1530270000@www.14streety.org
SUMMARY:Big Fish
DESCRIPTION:
URL:https://www.14streety.org/event/big-fish/2018-06-29/
END:VEVENT
BEGIN:VEVENT
DTSTART;TZID=America/New_York:20180629T143000
DTEND;TZID=America/New_York:20180629T150000
DTSTAMP:20260421T200901
CREATED:20171217T180138Z
LAST-MODIFIED:20171217T202532Z
UID:56633-1530282600-1530284400@www.14streety.org
SUMMARY:Baby Belugas
DESCRIPTION:
URL:https://www.14streety.org/event/baby-belugas/2018-06-29/
END:VEVENT
BEGIN:VEVENT
DTSTART;TZID=America/New_York:20180629T150000
DTEND;TZID=America/New_York:20180629T153000
DTSTAMP:20260421T200901
CREATED:20171217T180438Z
LAST-MODIFIED:20171217T190254Z
UID:55672-1530284400-1530286200@www.14streety.org
SUMMARY:Little Dippers
DESCRIPTION:
URL:https://www.14streety.org/event/little-dippers/2018-06-29/
END:VEVENT
BEGIN:VEVENT
DTSTART;TZID=America/New_York:20180629T150000
DTEND;TZID=America/New_York:20180629T153000
DTSTAMP:20260421T200901
CREATED:20171217T181724Z
LAST-MODIFIED:20171218T025857Z
UID:58092-1530284400-1530286200@www.14streety.org
SUMMARY:Tadpoles
DESCRIPTION:
URL:https://www.14streety.org/event/tadpoles/2018-06-29/
END:VEVENT
BEGIN:VEVENT
DTSTART;TZID=America/New_York:20180629T160000
DTEND;TZID=America/New_York:20180629T180000
DTSTAMP:20260421T200901
CREATED:20180628T180302Z
LAST-MODIFIED:20180628T180359Z
UID:76929-1530288000-1530295200@www.14streety.org
SUMMARY:Families Belong Together: Rally Sign Making
DESCRIPTION:Join us and members of the 14th Street Y and Manny Cantor Center in creating signs for the June 30th rally organized by Families Belong Together\, a broad coalition of immigrants’ rights\, religious\, justice\, and legal advocacy groups. \nPlease bring your own materials! \nDue to capacity limits\, please RSVP by clicking the registration button below.
URL:https://www.14streety.org/event/families-belong-together-rally-sign-making/
CATEGORIES:Community Events
ATTACH;FMTTYPE=image/jpeg:https://www.14streety.org/wp-content/uploads/2018/06/MCC-Rally-Signs.jpg
END:VEVENT
END:VCALENDAR