BEGIN:VCALENDAR
VERSION:2.0
PRODID:-//14th Street Y - ECPv5.5.0.1//NONSGML v1.0//EN
CALSCALE:GREGORIAN
METHOD:PUBLISH
X-WR-CALNAME:14th Street Y
X-ORIGINAL-URL:https://www.14streety.org
X-WR-CALDESC:Events for 14th Street Y
BEGIN:VTIMEZONE
TZID:America/New_York
BEGIN:DAYLIGHT
TZOFFSETFROM:-0500
TZOFFSETTO:-0400
TZNAME:EDT
DTSTART:20180311T070000
END:DAYLIGHT
BEGIN:STANDARD
TZOFFSETFROM:-0400
TZOFFSETTO:-0500
TZNAME:EST
DTSTART:20181104T060000
END:STANDARD
END:VTIMEZONE
BEGIN:VEVENT
DTSTART;TZID=America/New_York:20180628T090000
DTEND;TZID=America/New_York:20180628T093000
DTSTAMP:20260422T020220
CREATED:20171217T180138Z
LAST-MODIFIED:20171217T202531Z
UID:56632-1530176400-1530178200@www.14streety.org
SUMMARY:Baby Belugas
DESCRIPTION:
URL:https://www.14streety.org/event/baby-belugas/2018-06-28/
END:VEVENT
BEGIN:VEVENT
DTSTART;TZID=America/New_York:20180628T100000
DTEND;TZID=America/New_York:20180628T103000
DTSTAMP:20260422T020220
CREATED:20171217T180831Z
LAST-MODIFIED:20171218T072900Z
UID:57529-1530180000-1530181800@www.14streety.org
SUMMARY:Big Fish
DESCRIPTION:
URL:https://www.14streety.org/event/big-fish/2018-06-28/
END:VEVENT
BEGIN:VEVENT
DTSTART;TZID=America/New_York:20180628T120000
DTEND;TZID=America/New_York:20180628T123000
DTSTAMP:20260422T020220
CREATED:20171217T192243Z
LAST-MODIFIED:20171217T192243Z
UID:61633-1530187200-1530189000@www.14streety.org
SUMMARY:Otters
DESCRIPTION:
URL:https://www.14streety.org/event/otters/2018-06-28/
END:VEVENT
BEGIN:VEVENT
DTSTART;TZID=America/New_York:20180628T150000
DTEND;TZID=America/New_York:20180628T153000
DTSTAMP:20260422T020220
CREATED:20171217T181724Z
LAST-MODIFIED:20171218T025856Z
UID:58091-1530198000-1530199800@www.14streety.org
SUMMARY:Tadpoles
DESCRIPTION:
URL:https://www.14streety.org/event/tadpoles/2018-06-28/
END:VEVENT
BEGIN:VEVENT
DTSTART;TZID=America/New_York:20180628T153000
DTEND;TZID=America/New_York:20180628T160000
DTSTAMP:20260422T020220
CREATED:20171217T183615Z
LAST-MODIFIED:20171217T183615Z
UID:56172-1530199800-1530201600@www.14streety.org
SUMMARY:Sea Horses
DESCRIPTION:
URL:https://www.14streety.org/event/sea-horses/2018-06-28/
END:VEVENT
BEGIN:VEVENT
DTSTART;TZID=America/New_York:20180628T153000
DTEND;TZID=America/New_York:20180628T160000
DTSTAMP:20260422T020220
CREATED:20171217T192243Z
LAST-MODIFIED:20171217T192243Z
UID:61634-1530199800-1530201600@www.14streety.org
SUMMARY:Otters
DESCRIPTION:
URL:https://www.14streety.org/event/otters/2018-06-28/2/
END:VEVENT
BEGIN:VEVENT
DTSTART;TZID=America/New_York:20180628T160000
DTEND;TZID=America/New_York:20180628T163000
DTSTAMP:20260422T020220
CREATED:20171217T192700Z
LAST-MODIFIED:20171217T192700Z
UID:59037-1530201600-1530203400@www.14streety.org
SUMMARY:Dolphins
DESCRIPTION:
URL:https://www.14streety.org/event/dolphins/2018-06-28/
END:VEVENT
BEGIN:VEVENT
DTSTART;TZID=America/New_York:20180628T160000
DTEND;TZID=America/New_York:20180628T163000
DTSTAMP:20260422T020220
CREATED:20171217T193329Z
LAST-MODIFIED:20171217T193329Z
UID:59269-1530201600-1530203400@www.14streety.org
SUMMARY:Sharks
DESCRIPTION:
URL:https://www.14streety.org/event/sharks/2018-06-28/
END:VEVENT
END:VCALENDAR