BEGIN:VCALENDAR
VERSION:2.0
PRODID:-//14th Street Y - ECPv5.5.0.1//NONSGML v1.0//EN
CALSCALE:GREGORIAN
METHOD:PUBLISH
X-WR-CALNAME:14th Street Y
X-ORIGINAL-URL:https://www.14streety.org
X-WR-CALDESC:Events for 14th Street Y
BEGIN:VTIMEZONE
TZID:America/New_York
BEGIN:DAYLIGHT
TZOFFSETFROM:-0500
TZOFFSETTO:-0400
TZNAME:EDT
DTSTART:20180311T070000
END:DAYLIGHT
BEGIN:STANDARD
TZOFFSETFROM:-0400
TZOFFSETTO:-0500
TZNAME:EST
DTSTART:20181104T060000
END:STANDARD
END:VTIMEZONE
BEGIN:VEVENT
DTSTART;TZID=America/New_York:20180622T103000
DTEND;TZID=America/New_York:20180622T110000
DTSTAMP:20260422T182827
CREATED:20171217T180831Z
LAST-MODIFIED:20171218T072857Z
UID:57523-1529663400-1529665200@www.14streety.org
SUMMARY:Big Fish
DESCRIPTION:
URL:https://www.14streety.org/event/big-fish/2018-06-22/
END:VEVENT
BEGIN:VEVENT
DTSTART;TZID=America/New_York:20180622T143000
DTEND;TZID=America/New_York:20180622T150000
DTSTAMP:20260422T182827
CREATED:20171217T180138Z
LAST-MODIFIED:20171217T202527Z
UID:56624-1529677800-1529679600@www.14streety.org
SUMMARY:Baby Belugas
DESCRIPTION:
URL:https://www.14streety.org/event/baby-belugas/2018-06-22/
END:VEVENT
BEGIN:VEVENT
DTSTART;TZID=America/New_York:20180622T150000
DTEND;TZID=America/New_York:20180622T153000
DTSTAMP:20260422T182827
CREATED:20171217T180438Z
LAST-MODIFIED:20171217T190253Z
UID:55669-1529679600-1529681400@www.14streety.org
SUMMARY:Little Dippers
DESCRIPTION:
URL:https://www.14streety.org/event/little-dippers/2018-06-22/
END:VEVENT
BEGIN:VEVENT
DTSTART;TZID=America/New_York:20180622T150000
DTEND;TZID=America/New_York:20180622T153000
DTSTAMP:20260422T182827
CREATED:20171217T181724Z
LAST-MODIFIED:20171218T025852Z
UID:58081-1529679600-1529681400@www.14streety.org
SUMMARY:Tadpoles
DESCRIPTION:
URL:https://www.14streety.org/event/tadpoles/2018-06-22/
END:VEVENT
END:VCALENDAR