BEGIN:VCALENDAR
VERSION:2.0
PRODID:-//14th Street Y - ECPv5.5.0.1//NONSGML v1.0//EN
CALSCALE:GREGORIAN
METHOD:PUBLISH
X-WR-CALNAME:14th Street Y
X-ORIGINAL-URL:https://www.14streety.org
X-WR-CALDESC:Events for 14th Street Y
BEGIN:VTIMEZONE
TZID:America/New_York
BEGIN:DAYLIGHT
TZOFFSETFROM:-0500
TZOFFSETTO:-0400
TZNAME:EDT
DTSTART:20180311T070000
END:DAYLIGHT
BEGIN:STANDARD
TZOFFSETFROM:-0400
TZOFFSETTO:-0500
TZNAME:EST
DTSTART:20181104T060000
END:STANDARD
END:VTIMEZONE
BEGIN:VEVENT
DTSTART;TZID=America/New_York:20180619T090000
DTEND;TZID=America/New_York:20180619T093000
DTSTAMP:20260423T001032
CREATED:20171217T180138Z
LAST-MODIFIED:20171217T202526Z
UID:56621-1529398800-1529400600@www.14streety.org
SUMMARY:Baby Belugas
DESCRIPTION:
URL:https://www.14streety.org/event/baby-belugas/2018-06-19/
END:VEVENT
BEGIN:VEVENT
DTSTART;TZID=America/New_York:20180619T103000
DTEND;TZID=America/New_York:20180619T110000
DTSTAMP:20260423T001032
CREATED:20171217T180831Z
LAST-MODIFIED:20171218T072856Z
UID:57520-1529404200-1529406000@www.14streety.org
SUMMARY:Big Fish
DESCRIPTION:
URL:https://www.14streety.org/event/big-fish/2018-06-19/
END:VEVENT
BEGIN:VEVENT
DTSTART;TZID=America/New_York:20180619T133000
DTEND;TZID=America/New_York:20180619T143000
DTSTAMP:20260423T001032
CREATED:20180108T233642Z
LAST-MODIFIED:20180108T233642Z
UID:71839-1529415000-1529418600@www.14streety.org
SUMMARY:Great Plays with David Stallings l Room 202
DESCRIPTION:
URL:https://www.14streety.org/event/great-plays-david-stallings-l-room-202/2018-06-19/
END:VEVENT
BEGIN:VEVENT
DTSTART;TZID=America/New_York:20180619T140000
DTEND;TZID=America/New_York:20180619T143000
DTSTAMP:20260423T001032
CREATED:20171217T181724Z
LAST-MODIFIED:20171218T025851Z
UID:58076-1529416800-1529418600@www.14streety.org
SUMMARY:Tadpoles
DESCRIPTION:
URL:https://www.14streety.org/event/tadpoles/2018-06-19/
END:VEVENT
BEGIN:VEVENT
DTSTART;TZID=America/New_York:20180619T150000
DTEND;TZID=America/New_York:20180619T153000
DTSTAMP:20260423T001032
CREATED:20171217T181724Z
LAST-MODIFIED:20171218T025851Z
UID:58077-1529420400-1529422200@www.14streety.org
SUMMARY:Tadpoles
DESCRIPTION:
URL:https://www.14streety.org/event/tadpoles/2018-06-19/2/
END:VEVENT
BEGIN:VEVENT
DTSTART;TZID=America/New_York:20180619T153000
DTEND;TZID=America/New_York:20180619T160000
DTSTAMP:20260423T001032
CREATED:20171217T181724Z
LAST-MODIFIED:20171218T025851Z
UID:58078-1529422200-1529424000@www.14streety.org
SUMMARY:Tadpoles
DESCRIPTION:
URL:https://www.14streety.org/event/tadpoles/2018-06-19/
END:VEVENT
BEGIN:VEVENT
DTSTART;TZID=America/New_York:20180619T153000
DTEND;TZID=America/New_York:20180619T160000
DTSTAMP:20260423T001032
CREATED:20171217T183615Z
LAST-MODIFIED:20171217T183615Z
UID:56162-1529422200-1529424000@www.14streety.org
SUMMARY:Sea Horses
DESCRIPTION:
URL:https://www.14streety.org/event/sea-horses/2018-06-19/
END:VEVENT
BEGIN:VEVENT
DTSTART;TZID=America/New_York:20180619T160000
DTEND;TZID=America/New_York:20180619T163000
DTSTAMP:20260423T001032
CREATED:20171217T183615Z
LAST-MODIFIED:20171217T183615Z
UID:56163-1529424000-1529425800@www.14streety.org
SUMMARY:Sea Horses
DESCRIPTION:
URL:https://www.14streety.org/event/sea-horses/2018-06-19/2/
END:VEVENT
BEGIN:VEVENT
DTSTART;TZID=America/New_York:20180619T160000
DTEND;TZID=America/New_York:20180619T163000
DTSTAMP:20260423T001032
CREATED:20171217T192243Z
LAST-MODIFIED:20171217T192243Z
UID:61625-1529424000-1529425800@www.14streety.org
SUMMARY:Otters
DESCRIPTION:
URL:https://www.14streety.org/event/otters/2018-06-19/
END:VEVENT
END:VCALENDAR