BEGIN:VCALENDAR
VERSION:2.0
PRODID:-//14th Street Y - ECPv5.5.0.1//NONSGML v1.0//EN
CALSCALE:GREGORIAN
METHOD:PUBLISH
X-WR-CALNAME:14th Street Y
X-ORIGINAL-URL:https://www.14streety.org
X-WR-CALDESC:Events for 14th Street Y
BEGIN:VTIMEZONE
TZID:America/New_York
BEGIN:DAYLIGHT
TZOFFSETFROM:-0500
TZOFFSETTO:-0400
TZNAME:EDT
DTSTART:20180311T070000
END:DAYLIGHT
BEGIN:STANDARD
TZOFFSETFROM:-0400
TZOFFSETTO:-0500
TZNAME:EST
DTSTART:20181104T060000
END:STANDARD
END:VTIMEZONE
BEGIN:VEVENT
DTSTART;TZID=America/New_York:20180614T090000
DTEND;TZID=America/New_York:20180614T093000
DTSTAMP:20260422T073109
CREATED:20171217T180138Z
LAST-MODIFIED:20171217T202523Z
UID:56614-1528966800-1528968600@www.14streety.org
SUMMARY:Baby Belugas
DESCRIPTION:
URL:https://www.14streety.org/event/baby-belugas/2018-06-14/
END:VEVENT
BEGIN:VEVENT
DTSTART;TZID=America/New_York:20180614T100000
DTEND;TZID=America/New_York:20180614T103000
DTSTAMP:20260422T073109
CREATED:20171217T180831Z
LAST-MODIFIED:20171218T072854Z
UID:57515-1528970400-1528972200@www.14streety.org
SUMMARY:Big Fish
DESCRIPTION:
URL:https://www.14streety.org/event/big-fish/2018-06-14/
END:VEVENT
BEGIN:VEVENT
DTSTART;TZID=America/New_York:20180614T120000
DTEND;TZID=America/New_York:20180614T123000
DTSTAMP:20260422T073109
CREATED:20171217T192243Z
LAST-MODIFIED:20171217T192243Z
UID:61621-1528977600-1528979400@www.14streety.org
SUMMARY:Otters
DESCRIPTION:
URL:https://www.14streety.org/event/otters/2018-06-14/
END:VEVENT
BEGIN:VEVENT
DTSTART;TZID=America/New_York:20180614T143000
DTEND;TZID=America/New_York:20180614T150000
DTSTAMP:20260422T073109
CREATED:20180607T154330Z
LAST-MODIFIED:20180608T163336Z
UID:76520-1528986600-1528988400@www.14streety.org
SUMMARY:Storytime in the Square: Welcome!
DESCRIPTION:Come join the 14th Street Y with PJ Library and the Union Square Partnership as we read stories and sing songs together every Thursday afternoon at Summer in the Square!\nCome out to Union Square’s Children’s Pavilion this Thursday for storytime and sing-along! To kick off this weekly summer program\, we’ll be reading the PJ Library story Welcome that teaches the core value of welcoming the stranger and others not like us. \nFollowing our storytime we’ll have a fun sing-along and performance lead by Jewish Music Educator Eliana Light. This will be our third summer joining Summer in the Square with the Union Square Partnership. \nCan’t make our program? Come find the 14th Street Y tent to find out more about the Y and other family programs. This event is co-sponsored by PJ Library. \nFor Ages: 1 – 5 years\nPerformer: Eliana Light\nBook: Welcome\nValue: Welcoming the Stranger\nWhere: Union Square’s Children’s Pavilion \nThis event is FREE and open to all!
URL:https://www.14streety.org/event/storytime-in-the-square-welcome/
ATTACH;FMTTYPE=image/png:https://www.14streety.org/wp-content/uploads/2018/06/Storytime-in-the-Square-Hero.png
END:VEVENT
BEGIN:VEVENT
DTSTART;TZID=America/New_York:20180614T150000
DTEND;TZID=America/New_York:20180614T153000
DTSTAMP:20260422T073109
CREATED:20171217T181724Z
LAST-MODIFIED:20171218T025848Z
UID:58069-1528988400-1528990200@www.14streety.org
SUMMARY:Tadpoles
DESCRIPTION:
URL:https://www.14streety.org/event/tadpoles/2018-06-14/
END:VEVENT
BEGIN:VEVENT
DTSTART;TZID=America/New_York:20180614T153000
DTEND;TZID=America/New_York:20180614T160000
DTSTAMP:20260422T073109
CREATED:20171217T183615Z
LAST-MODIFIED:20171217T183615Z
UID:56160-1528990200-1528992000@www.14streety.org
SUMMARY:Sea Horses
DESCRIPTION:
URL:https://www.14streety.org/event/sea-horses/2018-06-14/
END:VEVENT
BEGIN:VEVENT
DTSTART;TZID=America/New_York:20180614T153000
DTEND;TZID=America/New_York:20180614T160000
DTSTAMP:20260422T073109
CREATED:20171217T192243Z
LAST-MODIFIED:20171217T192243Z
UID:61622-1528990200-1528992000@www.14streety.org
SUMMARY:Otters
DESCRIPTION:
URL:https://www.14streety.org/event/otters/2018-06-14/2/
END:VEVENT
BEGIN:VEVENT
DTSTART;TZID=America/New_York:20180614T160000
DTEND;TZID=America/New_York:20180614T163000
DTSTAMP:20260422T073109
CREATED:20171217T192700Z
LAST-MODIFIED:20171217T192700Z
UID:59033-1528992000-1528993800@www.14streety.org
SUMMARY:Dolphins
DESCRIPTION:
URL:https://www.14streety.org/event/dolphins/2018-06-14/
END:VEVENT
BEGIN:VEVENT
DTSTART;TZID=America/New_York:20180614T160000
DTEND;TZID=America/New_York:20180614T163000
DTSTAMP:20260422T073109
CREATED:20171217T193329Z
LAST-MODIFIED:20171217T193329Z
UID:59265-1528992000-1528993800@www.14streety.org
SUMMARY:Sharks
DESCRIPTION:
URL:https://www.14streety.org/event/sharks/2018-06-14/
END:VEVENT
END:VCALENDAR