BEGIN:VCALENDAR
VERSION:2.0
PRODID:-//14th Street Y - ECPv5.5.0.1//NONSGML v1.0//EN
CALSCALE:GREGORIAN
METHOD:PUBLISH
X-WR-CALNAME:14th Street Y
X-ORIGINAL-URL:https://www.14streety.org
X-WR-CALDESC:Events for 14th Street Y
BEGIN:VTIMEZONE
TZID:America/New_York
BEGIN:DAYLIGHT
TZOFFSETFROM:-0500
TZOFFSETTO:-0400
TZNAME:EDT
DTSTART:20180311T070000
END:DAYLIGHT
BEGIN:STANDARD
TZOFFSETFROM:-0400
TZOFFSETTO:-0500
TZNAME:EST
DTSTART:20181104T060000
END:STANDARD
END:VTIMEZONE
BEGIN:VEVENT
DTSTART;TZID=America/New_York:20180611T133000
DTEND;TZID=America/New_York:20180611T150000
DTSTAMP:20260422T020456
CREATED:20180108T233456Z
LAST-MODIFIED:20180108T233456Z
UID:71812-1528723800-1528729200@www.14streety.org
SUMMARY:Daytime Knitting Circle l 4th Floor Kitchen
DESCRIPTION:
URL:https://www.14streety.org/event/daytime-knitting-circle-l-4th-floor-kitchen/2018-06-11/
END:VEVENT
BEGIN:VEVENT
DTSTART;TZID=America/New_York:20180611T143000
DTEND;TZID=America/New_York:20180611T150000
DTSTAMP:20260422T020456
CREATED:20171217T180138Z
LAST-MODIFIED:20171217T202522Z
UID:56611-1528727400-1528729200@www.14streety.org
SUMMARY:Baby Belugas
DESCRIPTION:
URL:https://www.14streety.org/event/baby-belugas/2018-06-11/
END:VEVENT
BEGIN:VEVENT
DTSTART;TZID=America/New_York:20180611T150000
DTEND;TZID=America/New_York:20180611T153000
DTSTAMP:20260422T020456
CREATED:20171217T180438Z
LAST-MODIFIED:20171217T190250Z
UID:55664-1528729200-1528731000@www.14streety.org
SUMMARY:Little Dippers
DESCRIPTION:
URL:https://www.14streety.org/event/little-dippers/2018-06-11/
END:VEVENT
BEGIN:VEVENT
DTSTART;TZID=America/New_York:20180611T153000
DTEND;TZID=America/New_York:20180611T160000
DTSTAMP:20260422T020456
CREATED:20171217T181724Z
LAST-MODIFIED:20171218T025846Z
UID:58063-1528731000-1528732800@www.14streety.org
SUMMARY:Tadpoles
DESCRIPTION:
URL:https://www.14streety.org/event/tadpoles/2018-06-11/
END:VEVENT
BEGIN:VEVENT
DTSTART;TZID=America/New_York:20180611T153000
DTEND;TZID=America/New_York:20180611T160000
DTSTAMP:20260422T020456
CREATED:20171217T183615Z
LAST-MODIFIED:20171217T183615Z
UID:56155-1528731000-1528732800@www.14streety.org
SUMMARY:Sea Horses
DESCRIPTION:
URL:https://www.14streety.org/event/sea-horses/2018-06-11/
END:VEVENT
BEGIN:VEVENT
DTSTART;TZID=America/New_York:20180611T160000
DTEND;TZID=America/New_York:20180611T163000
DTSTAMP:20260422T020456
CREATED:20171217T181724Z
LAST-MODIFIED:20171218T025846Z
UID:58064-1528732800-1528734600@www.14streety.org
SUMMARY:Tadpoles
DESCRIPTION:
URL:https://www.14streety.org/event/tadpoles/2018-06-11/2/
END:VEVENT
BEGIN:VEVENT
DTSTART;TZID=America/New_York:20180611T160000
DTEND;TZID=America/New_York:20180611T163000
DTSTAMP:20260422T020456
CREATED:20171217T194017Z
LAST-MODIFIED:20171217T194017Z
UID:59498-1528732800-1528734600@www.14streety.org
SUMMARY:Special Needs
DESCRIPTION:
URL:https://www.14streety.org/event/special-needs/2018-06-11/
END:VEVENT
END:VCALENDAR