BEGIN:VCALENDAR
VERSION:2.0
PRODID:-//14th Street Y - ECPv5.5.0.1//NONSGML v1.0//EN
CALSCALE:GREGORIAN
METHOD:PUBLISH
X-WR-CALNAME:14th Street Y
X-ORIGINAL-URL:https://www.14streety.org
X-WR-CALDESC:Events for 14th Street Y
BEGIN:VTIMEZONE
TZID:America/New_York
BEGIN:DAYLIGHT
TZOFFSETFROM:-0500
TZOFFSETTO:-0400
TZNAME:EDT
DTSTART:20180311T070000
END:DAYLIGHT
BEGIN:STANDARD
TZOFFSETFROM:-0400
TZOFFSETTO:-0500
TZNAME:EST
DTSTART:20181104T060000
END:STANDARD
END:VTIMEZONE
BEGIN:VEVENT
DTSTART;TZID=America/New_York:20180610T090000
DTEND;TZID=America/New_York:20180610T093000
DTSTAMP:20260423T001404
CREATED:20171217T180138Z
LAST-MODIFIED:20171217T202521Z
UID:56609-1528621200-1528623000@www.14streety.org
SUMMARY:Baby Belugas
DESCRIPTION:
URL:https://www.14streety.org/event/baby-belugas/2018-06-10/
END:VEVENT
BEGIN:VEVENT
DTSTART;TZID=America/New_York:20180610T100000
DTEND;TZID=America/New_York:20180610T103000
DTSTAMP:20260423T001404
CREATED:20171217T180831Z
LAST-MODIFIED:20171218T072853Z
UID:57512-1528624800-1528626600@www.14streety.org
SUMMARY:Big Fish
DESCRIPTION:
URL:https://www.14streety.org/event/big-fish/2018-06-10/
END:VEVENT
BEGIN:VEVENT
DTSTART;TZID=America/New_York:20180610T120000
DTEND;TZID=America/New_York:20180610T123000
DTSTAMP:20260423T001404
CREATED:20171217T181724Z
LAST-MODIFIED:20171218T025845Z
UID:58061-1528632000-1528633800@www.14streety.org
SUMMARY:Tadpoles
DESCRIPTION:
URL:https://www.14streety.org/event/tadpoles/2018-06-10/
END:VEVENT
BEGIN:VEVENT
DTSTART;TZID=America/New_York:20180610T120000
DTEND;TZID=America/New_York:20180610T123000
DTSTAMP:20260423T001404
CREATED:20171217T192243Z
LAST-MODIFIED:20171217T192243Z
UID:61617-1528632000-1528633800@www.14streety.org
SUMMARY:Otters
DESCRIPTION:
URL:https://www.14streety.org/event/otters/2018-06-10/
END:VEVENT
BEGIN:VEVENT
DTSTART;TZID=America/New_York:20180610T123000
DTEND;TZID=America/New_York:20180610T130000
DTSTAMP:20260423T001404
CREATED:20171217T181724Z
LAST-MODIFIED:20171218T025845Z
UID:58062-1528633800-1528635600@www.14streety.org
SUMMARY:Tadpoles
DESCRIPTION:
URL:https://www.14streety.org/event/tadpoles/2018-06-10/2/
END:VEVENT
BEGIN:VEVENT
DTSTART;TZID=America/New_York:20180610T123000
DTEND;TZID=America/New_York:20180610T130000
DTSTAMP:20260423T001404
CREATED:20171217T192243Z
LAST-MODIFIED:20171217T192243Z
UID:61618-1528633800-1528635600@www.14streety.org
SUMMARY:Otters
DESCRIPTION:
URL:https://www.14streety.org/event/otters/2018-06-10/2/
END:VEVENT
BEGIN:VEVENT
DTSTART;TZID=America/New_York:20180610T130000
DTEND;TZID=America/New_York:20180610T133000
DTSTAMP:20260423T001404
CREATED:20171217T192700Z
LAST-MODIFIED:20171217T192700Z
UID:59032-1528635600-1528637400@www.14streety.org
SUMMARY:Dolphins
DESCRIPTION:
URL:https://www.14streety.org/event/dolphins/2018-06-10/
END:VEVENT
BEGIN:VEVENT
DTSTART;TZID=America/New_York:20180610T130000
DTEND;TZID=America/New_York:20180610T133000
DTSTAMP:20260423T001404
CREATED:20171217T193329Z
LAST-MODIFIED:20171217T193329Z
UID:59264-1528635600-1528637400@www.14streety.org
SUMMARY:Sharks
DESCRIPTION:
URL:https://www.14streety.org/event/sharks/2018-06-10/
END:VEVENT
BEGIN:VEVENT
DTSTART;TZID=America/New_York:20180610T133000
DTEND;TZID=America/New_York:20180610T140000
DTSTAMP:20260423T001404
CREATED:20171217T180138Z
LAST-MODIFIED:20171217T202521Z
UID:56610-1528637400-1528639200@www.14streety.org
SUMMARY:Baby Belugas
DESCRIPTION:
URL:https://www.14streety.org/event/baby-belugas/2018-06-10/2/
END:VEVENT
END:VCALENDAR