BEGIN:VCALENDAR
VERSION:2.0
PRODID:-//14th Street Y - ECPv5.5.0.1//NONSGML v1.0//EN
CALSCALE:GREGORIAN
METHOD:PUBLISH
X-WR-CALNAME:14th Street Y
X-ORIGINAL-URL:https://www.14streety.org
X-WR-CALDESC:Events for 14th Street Y
BEGIN:VTIMEZONE
TZID:America/New_York
BEGIN:DAYLIGHT
TZOFFSETFROM:-0500
TZOFFSETTO:-0400
TZNAME:EDT
DTSTART:20180311T070000
END:DAYLIGHT
BEGIN:STANDARD
TZOFFSETFROM:-0400
TZOFFSETTO:-0500
TZNAME:EST
DTSTART:20181104T060000
END:STANDARD
END:VTIMEZONE
BEGIN:VEVENT
DTSTART;TZID=America/New_York:20180609T090000
DTEND;TZID=America/New_York:20180609T093000
DTSTAMP:20260421T201126
CREATED:20171217T180138Z
LAST-MODIFIED:20171217T202519Z
UID:56607-1528534800-1528536600@www.14streety.org
SUMMARY:Baby Belugas
DESCRIPTION:
URL:https://www.14streety.org/event/baby-belugas/2018-06-09/
END:VEVENT
BEGIN:VEVENT
DTSTART;TZID=America/New_York:20180609T100000
DTEND;TZID=America/New_York:20180609T103000
DTSTAMP:20260421T201126
CREATED:20171217T180831Z
LAST-MODIFIED:20171218T072852Z
UID:57510-1528538400-1528540200@www.14streety.org
SUMMARY:Big Fish
DESCRIPTION:
URL:https://www.14streety.org/event/big-fish/2018-06-09/
END:VEVENT
BEGIN:VEVENT
DTSTART;TZID=America/New_York:20180609T113000
DTEND;TZID=America/New_York:20180609T120000
DTSTAMP:20260421T201126
CREATED:20171217T180831Z
LAST-MODIFIED:20171218T072853Z
UID:57511-1528543800-1528545600@www.14streety.org
SUMMARY:Big Fish
DESCRIPTION:
URL:https://www.14streety.org/event/big-fish/2018-06-09/2/
END:VEVENT
BEGIN:VEVENT
DTSTART;TZID=America/New_York:20180609T123000
DTEND;TZID=America/New_York:20180609T130000
DTSTAMP:20260421T201126
CREATED:20171217T181724Z
LAST-MODIFIED:20171218T025845Z
UID:58060-1528547400-1528549200@www.14streety.org
SUMMARY:Tadpoles
DESCRIPTION:
URL:https://www.14streety.org/event/tadpoles/2018-06-09/
END:VEVENT
BEGIN:VEVENT
DTSTART;TZID=America/New_York:20180609T133000
DTEND;TZID=America/New_York:20180609T140000
DTSTAMP:20260421T201126
CREATED:20171217T180138Z
LAST-MODIFIED:20171217T202521Z
UID:56608-1528551000-1528552800@www.14streety.org
SUMMARY:Baby Belugas
DESCRIPTION:
URL:https://www.14streety.org/event/baby-belugas/2018-06-09/2/
END:VEVENT
BEGIN:VEVENT
DTSTART;TZID=America/New_York:20180609T160000
DTEND;TZID=America/New_York:20180609T163000
DTSTAMP:20260421T201126
CREATED:20171217T194017Z
LAST-MODIFIED:20171217T194017Z
UID:59496-1528560000-1528561800@www.14streety.org
SUMMARY:Special Needs
DESCRIPTION:
URL:https://www.14streety.org/event/special-needs/2018-06-09/
END:VEVENT
BEGIN:VEVENT
DTSTART;TZID=America/New_York:20180609T163000
DTEND;TZID=America/New_York:20180609T170000
DTSTAMP:20260421T201126
CREATED:20171217T194017Z
LAST-MODIFIED:20171217T194017Z
UID:59497-1528561800-1528563600@www.14streety.org
SUMMARY:Special Needs
DESCRIPTION:
URL:https://www.14streety.org/event/special-needs/2018-06-09/2/
END:VEVENT
END:VCALENDAR