BEGIN:VCALENDAR
VERSION:2.0
PRODID:-//14th Street Y - ECPv5.5.0.1//NONSGML v1.0//EN
CALSCALE:GREGORIAN
METHOD:PUBLISH
X-WR-CALNAME:14th Street Y
X-ORIGINAL-URL:https://www.14streety.org
X-WR-CALDESC:Events for 14th Street Y
BEGIN:VTIMEZONE
TZID:America/New_York
BEGIN:DAYLIGHT
TZOFFSETFROM:-0500
TZOFFSETTO:-0400
TZNAME:EDT
DTSTART:20180311T070000
END:DAYLIGHT
BEGIN:STANDARD
TZOFFSETFROM:-0400
TZOFFSETTO:-0500
TZNAME:EST
DTSTART:20181104T060000
END:STANDARD
END:VTIMEZONE
BEGIN:VEVENT
DTSTART;TZID=America/New_York:20180605T090000
DTEND;TZID=America/New_York:20180605T093000
DTSTAMP:20260422T014618
CREATED:20171217T180138Z
LAST-MODIFIED:20171217T202518Z
UID:56603-1528189200-1528191000@www.14streety.org
SUMMARY:Baby Belugas
DESCRIPTION:
URL:https://www.14streety.org/event/baby-belugas/2018-06-05/
END:VEVENT
BEGIN:VEVENT
DTSTART;TZID=America/New_York:20180605T103000
DTEND;TZID=America/New_York:20180605T110000
DTSTAMP:20260422T014618
CREATED:20171217T180831Z
LAST-MODIFIED:20171218T072851Z
UID:57506-1528194600-1528196400@www.14streety.org
SUMMARY:Big Fish
DESCRIPTION:
URL:https://www.14streety.org/event/big-fish/2018-06-05/
END:VEVENT
BEGIN:VEVENT
DTSTART;TZID=America/New_York:20180605T133000
DTEND;TZID=America/New_York:20180605T143000
DTSTAMP:20260422T014618
CREATED:20180108T233642Z
LAST-MODIFIED:20180108T233642Z
UID:71837-1528205400-1528209000@www.14streety.org
SUMMARY:Great Plays with David Stallings l Room 202
DESCRIPTION:
URL:https://www.14streety.org/event/great-plays-david-stallings-l-room-202/2018-06-05/
END:VEVENT
BEGIN:VEVENT
DTSTART;TZID=America/New_York:20180605T140000
DTEND;TZID=America/New_York:20180605T143000
DTSTAMP:20260422T014618
CREATED:20171217T181724Z
LAST-MODIFIED:20171218T025842Z
UID:58054-1528207200-1528209000@www.14streety.org
SUMMARY:Tadpoles
DESCRIPTION:
URL:https://www.14streety.org/event/tadpoles/2018-06-05/
END:VEVENT
BEGIN:VEVENT
DTSTART;TZID=America/New_York:20180605T150000
DTEND;TZID=America/New_York:20180605T153000
DTSTAMP:20260422T014618
CREATED:20171217T181724Z
LAST-MODIFIED:20171218T025843Z
UID:58055-1528210800-1528212600@www.14streety.org
SUMMARY:Tadpoles
DESCRIPTION:
URL:https://www.14streety.org/event/tadpoles/2018-06-05/2/
END:VEVENT
BEGIN:VEVENT
DTSTART;TZID=America/New_York:20180605T153000
DTEND;TZID=America/New_York:20180605T160000
DTSTAMP:20260422T014618
CREATED:20171217T181724Z
LAST-MODIFIED:20171218T025843Z
UID:58056-1528212600-1528214400@www.14streety.org
SUMMARY:Tadpoles
DESCRIPTION:
URL:https://www.14streety.org/event/tadpoles/2018-06-05/3/
END:VEVENT
BEGIN:VEVENT
DTSTART;TZID=America/New_York:20180605T153000
DTEND;TZID=America/New_York:20180605T160000
DTSTAMP:20260422T014618
CREATED:20171217T183615Z
LAST-MODIFIED:20171217T183615Z
UID:56150-1528212600-1528214400@www.14streety.org
SUMMARY:Sea Horses
DESCRIPTION:
URL:https://www.14streety.org/event/sea-horses/2018-06-05/
END:VEVENT
BEGIN:VEVENT
DTSTART;TZID=America/New_York:20180605T160000
DTEND;TZID=America/New_York:20180605T163000
DTSTAMP:20260422T014618
CREATED:20171217T183615Z
LAST-MODIFIED:20171217T183615Z
UID:56151-1528214400-1528216200@www.14streety.org
SUMMARY:Sea Horses
DESCRIPTION:
URL:https://www.14streety.org/event/sea-horses/2018-06-05/2/
END:VEVENT
BEGIN:VEVENT
DTSTART;TZID=America/New_York:20180605T160000
DTEND;TZID=America/New_York:20180605T163000
DTSTAMP:20260422T014618
CREATED:20171217T192243Z
LAST-MODIFIED:20171217T192243Z
UID:61613-1528214400-1528216200@www.14streety.org
SUMMARY:Otters
DESCRIPTION:
URL:https://www.14streety.org/event/otters/2018-06-05/
END:VEVENT
END:VCALENDAR